BEGIN:VCALENDAR
VERSION:2.0
PRODID:-//Town of Machias - ECPv6.15.20//NONSGML v1.0//EN
CALSCALE:GREGORIAN
METHOD:PUBLISH
X-ORIGINAL-URL:https://machiasme.gov
X-WR-CALDESC:Events for Town of Machias
REFRESH-INTERVAL;VALUE=DURATION:PT1H
X-Robots-Tag:noindex
X-PUBLISHED-TTL:PT1H
BEGIN:VTIMEZONE
TZID:UTC
BEGIN:STANDARD
TZOFFSETFROM:+0000
TZOFFSETTO:+0000
TZNAME:UTC
DTSTART:20230101T000000
END:STANDARD
END:VTIMEZONE
BEGIN:VEVENT
DTSTART;VALUE=DATE:20240611
DTEND;VALUE=DATE:20240612
DTSTAMP:20260425T030545
CREATED:20240603T161034Z
LAST-MODIFIED:20240603T161034Z
UID:10001296-1718064000-1718150399@machiasme.gov
SUMMARY:The Machias Town Office will be closed
DESCRIPTION:
URL:https://machiasme.gov/event/the-machias-town-office-will-be-closed-10/
LOCATION:ME
END:VEVENT
BEGIN:VEVENT
DTSTART;TZID=UTC:20240611T080000
DTEND;TZID=UTC:20240611T200000
DTSTAMP:20260425T030545
CREATED:20240603T161422Z
LAST-MODIFIED:20240603T172247Z
UID:10001297-1718092800-1718136000@machiasme.gov
SUMMARY:Notice of State Primary Election
DESCRIPTION:StatePrimElection06112024-06032024124341
URL:https://machiasme.gov/event/notice-of-state-primary-election/
LOCATION:Machias Memorial High School Gym\, 30 Bulldog Lane\, Machias ME\, 04654\, United States
END:VEVENT
END:VCALENDAR