BEGIN:VCALENDAR
VERSION:2.0
PRODID:-//Town of Machias - ECPv6.15.20//NONSGML v1.0//EN
CALSCALE:GREGORIAN
METHOD:PUBLISH
X-ORIGINAL-URL:https://machiasme.gov
X-WR-CALDESC:Events for Town of Machias
REFRESH-INTERVAL;VALUE=DURATION:PT1H
X-Robots-Tag:noindex
X-PUBLISHED-TTL:PT1H
BEGIN:VTIMEZONE
TZID:UTC
BEGIN:STANDARD
TZOFFSETFROM:+0000
TZOFFSETTO:+0000
TZNAME:UTC
DTSTART:20230101T000000
END:STANDARD
END:VTIMEZONE
BEGIN:VEVENT
DTSTART;VALUE=DATE:20241224
DTEND;VALUE=DATE:20241226
DTSTAMP:20260424T140534
CREATED:20241210T152650Z
LAST-MODIFIED:20241210T153801Z
UID:10000834-1734998400-1735171199@machiasme.gov
SUMMARY:MACHIAS TOWN OFFICE WILL BE CLOSED FOR CHRISTMAS
DESCRIPTION:HAVE A MERRY CHRISTMAS!!
URL:https://machiasme.gov/event/machias-town-office-will-be-closed-for-christmas/
LOCATION:ME
END:VEVENT
BEGIN:VEVENT
DTSTART;TZID=UTC:20241225T180000
DTEND;TZID=UTC:20241225T190000
DTSTAMP:20260424T140534
CREATED:20241206T180202Z
LAST-MODIFIED:20241206T180202Z
UID:10000805-1735149600-1735153200@machiasme.gov
SUMMARY:MACHIAS SELECT BOARD MEETING CANCELLED
DESCRIPTION:
URL:https://machiasme.gov/event/machias-select-board-meeting-cancelled-2/
LOCATION:ME
END:VEVENT
END:VCALENDAR