BEGIN:VCALENDAR
VERSION:2.0
PRODID:-//Town of Machias - ECPv6.15.20//NONSGML v1.0//EN
CALSCALE:GREGORIAN
METHOD:PUBLISH
X-ORIGINAL-URL:https://machiasme.gov
X-WR-CALDESC:Events for Town of Machias
REFRESH-INTERVAL;VALUE=DURATION:PT1H
X-Robots-Tag:noindex
X-PUBLISHED-TTL:PT1H
BEGIN:VTIMEZONE
TZID:UTC
BEGIN:STANDARD
TZOFFSETFROM:+0000
TZOFFSETTO:+0000
TZNAME:UTC
DTSTART:20230101T000000
END:STANDARD
END:VTIMEZONE
BEGIN:VEVENT
DTSTART;VALUE=DATE:20241231
DTEND;VALUE=DATE:20250101
DTSTAMP:20260424T120701
CREATED:20241227T184742Z
LAST-MODIFIED:20241227T184742Z
UID:10001335-1735603200-1735689599@machiasme.gov
SUMMARY:Machias Town Office closed - process corrected tax bills 2024
DESCRIPTION:
URL:https://machiasme.gov/event/machias-town-office-closed-process-corrected-tax-bills-2024/
LOCATION:ME
END:VEVENT
END:VCALENDAR