BEGIN:VCALENDAR
VERSION:2.0
PRODID:-//Town of Machias - ECPv6.15.20//NONSGML v1.0//EN
CALSCALE:GREGORIAN
METHOD:PUBLISH
X-WR-CALNAME:Town of Machias
X-ORIGINAL-URL:https://machiasme.gov
X-WR-CALDESC:Events for Town of Machias
REFRESH-INTERVAL;VALUE=DURATION:PT1H
X-Robots-Tag:noindex
X-PUBLISHED-TTL:PT1H
BEGIN:VTIMEZONE
TZID:UTC
BEGIN:STANDARD
TZOFFSETFROM:+0000
TZOFFSETTO:+0000
TZNAME:UTC
DTSTART:20240101T000000
END:STANDARD
END:VTIMEZONE
BEGIN:VEVENT
DTSTART;TZID=UTC:20250821T180000
DTEND;TZID=UTC:20250821T200000
DTSTAMP:20260423T232501
CREATED:20250613T130009Z
LAST-MODIFIED:20250613T130009Z
UID:10001421-1755799200-1755806400@machiasme.gov
SUMMARY:Kitchen concert Series @ Bad Little Falls Park - Creosote
DESCRIPTION:
URL:https://machiasme.gov/event/kitchen-concert-series-bad-little-falls-park-creosote/
LOCATION:Bad Little Falls Park\, Machias\, Maine
END:VEVENT
END:VCALENDAR