BEGIN:VCALENDAR
VERSION:2.0
PRODID:-//Town of Machias - ECPv6.15.20//NONSGML v1.0//EN
CALSCALE:GREGORIAN
METHOD:PUBLISH
X-WR-CALNAME:Town of Machias
X-ORIGINAL-URL:https://machiasme.gov
X-WR-CALDESC:Events for Town of Machias
REFRESH-INTERVAL;VALUE=DURATION:PT1H
X-Robots-Tag:noindex
X-PUBLISHED-TTL:PT1H
BEGIN:VTIMEZONE
TZID:UTC
BEGIN:STANDARD
TZOFFSETFROM:+0000
TZOFFSETTO:+0000
TZNAME:UTC
DTSTART:20240101T000000
END:STANDARD
END:VTIMEZONE
BEGIN:VEVENT
DTSTART;TZID=UTC:20250924T170000
DTEND;TZID=UTC:20250924T190000
DTSTAMP:20260423T213826
CREATED:20250903T153853Z
LAST-MODIFIED:20250912T164817Z
UID:10001428-1758733200-1758740400@machiasme.gov
SUMMARY:Town of Machias - Public Hearing
DESCRIPTION:The Public Hearing is to Collect feedback on the proposed closure of the Forest Avenue TIF District and for the purpose of receiving public input concerning the adoption of the Municipality of Machias General Assistance Ordinance and Appendices A-H of the General Assistance Maximums for October 1\, 2025 – September 30\, 2026.  Please contact Sarah Dedmon\, Town Manager at 207-255-6621 for more information. \n 
URL:https://machiasme.gov/event/town-of-machias-public-hearing-13/
LOCATION:The Machias Tele-Business Center & Google Meet Link\, 17 Stackpole Dr\, Machias\, ME\, 04654\, United States
END:VEVENT
BEGIN:VEVENT
DTSTART;TZID=UTC:20250924T170000
DTEND;TZID=UTC:20250924T200000
DTSTAMP:20260423T213826
CREATED:20250307T160434Z
LAST-MODIFIED:20250912T165000Z
UID:10000824-1758733200-1758744000@machiasme.gov
SUMMARY:Machias Select Board Meeting Immediately following the Public Hearing
DESCRIPTION:
URL:https://machiasme.gov/event/machias-select-board-meeting-19/
LOCATION:The Machias Tele-Business Center & Google Meet Link\, 17 Stackpole Dr\, Machias\, ME\, 04654\, United States
END:VEVENT
END:VCALENDAR