BEGIN:VCALENDAR
VERSION:2.0
PRODID:-//Town of Machias - ECPv6.15.20//NONSGML v1.0//EN
CALSCALE:GREGORIAN
METHOD:PUBLISH
X-WR-CALNAME:Town of Machias
X-ORIGINAL-URL:https://machiasme.gov
X-WR-CALDESC:Events for Town of Machias
REFRESH-INTERVAL;VALUE=DURATION:PT1H
X-Robots-Tag:noindex
X-PUBLISHED-TTL:PT1H
BEGIN:VTIMEZONE
TZID:UTC
BEGIN:STANDARD
TZOFFSETFROM:+0000
TZOFFSETTO:+0000
TZNAME:UTC
DTSTART:20240101T000000
END:STANDARD
END:VTIMEZONE
BEGIN:VEVENT
DTSTART;VALUE=DATE:20251021
DTEND;VALUE=DATE:20251022
DTSTAMP:20260423T194901
CREATED:20251017T162555Z
LAST-MODIFIED:20251020T200908Z
UID:10001434-1761004800-1761091199@machiasme.gov
SUMMARY:The Machias Town Office will be opened
DESCRIPTION:
URL:https://machiasme.gov/event/the-machias-town-office-will-be-closed-to-process-tax-bills-4/
LOCATION:ME
END:VEVENT
END:VCALENDAR