BEGIN:VCALENDAR
VERSION:2.0
PRODID:-//Town of Machias - ECPv6.15.20//NONSGML v1.0//EN
CALSCALE:GREGORIAN
METHOD:PUBLISH
X-ORIGINAL-URL:https://machiasme.gov
X-WR-CALDESC:Events for Town of Machias
REFRESH-INTERVAL;VALUE=DURATION:PT1H
X-Robots-Tag:noindex
X-PUBLISHED-TTL:PT1H
BEGIN:VTIMEZONE
TZID:UTC
BEGIN:STANDARD
TZOFFSETFROM:+0000
TZOFFSETTO:+0000
TZNAME:UTC
DTSTART:20240101T000000
END:STANDARD
END:VTIMEZONE
BEGIN:VEVENT
DTSTART;TZID=UTC:20251024T090000
DTEND;TZID=UTC:20251024T130000
DTSTAMP:20260423T195123
CREATED:20251002T195458Z
LAST-MODIFIED:20251002T195458Z
UID:10001432-1761296400-1761310800@machiasme.gov
SUMMARY:Machias Town Office will be closed for Election Training
DESCRIPTION:
URL:https://machiasme.gov/event/machias-town-office-will-be-closed-for-election-training/2025-10-24/
LOCATION:ME
END:VEVENT
END:VCALENDAR