BEGIN:VCALENDAR
VERSION:2.0
PRODID:-//Town of Machias - ECPv6.15.20//NONSGML v1.0//EN
CALSCALE:GREGORIAN
METHOD:PUBLISH
X-ORIGINAL-URL:https://machiasme.gov
X-WR-CALDESC:Events for Town of Machias
REFRESH-INTERVAL;VALUE=DURATION:PT1H
X-Robots-Tag:noindex
X-PUBLISHED-TTL:PT1H
BEGIN:VTIMEZONE
TZID:UTC
BEGIN:STANDARD
TZOFFSETFROM:+0000
TZOFFSETTO:+0000
TZNAME:UTC
DTSTART:20250101T000000
END:STANDARD
END:VTIMEZONE
BEGIN:VEVENT
DTSTART;TZID=UTC:20260325T170000
DTEND;TZID=UTC:20260325T190000
DTSTAMP:20260423T102944
CREATED:20260112T154409Z
LAST-MODIFIED:20260112T154409Z
UID:10001478-1774458000-1774465200@machiasme.gov
SUMMARY:Machias Select Board Meeting
DESCRIPTION:
URL:https://machiasme.gov/event/machias-select-board-meeting-8/2026-03-25/
LOCATION:The Machias Tele-Business Center & Google Meet Link\, 17 Stackpole Dr\, Machias\, ME\, 04654\, United States
END:VEVENT
BEGIN:VEVENT
DTSTART;TZID=UTC:20260325T173000
DTEND;TZID=UTC:20260325T200000
DTSTAMP:20260423T102945
CREATED:20260324T150627Z
LAST-MODIFIED:20260324T150627Z
UID:10001509-1774459800-1774468800@machiasme.gov
SUMMARY:Machias Select Board and Budget Committee Meeting
DESCRIPTION:click here for google link
URL:https://machiasme.gov/event/machias-select-board-and-budget-committee-meeting-6/
LOCATION:The Machias Tele-Business Center & Google Meet Link\, 17 Stackpole Dr\, Machias\, ME\, 04654\, United States
END:VEVENT
END:VCALENDAR