BEGIN:VCALENDAR
VERSION:2.0
PRODID:-//Town of Machias - ECPv6.15.20//NONSGML v1.0//EN
CALSCALE:GREGORIAN
METHOD:PUBLISH
X-WR-CALNAME:Town of Machias
X-ORIGINAL-URL:https://machiasme.gov
X-WR-CALDESC:Events for Town of Machias
REFRESH-INTERVAL;VALUE=DURATION:PT1H
X-Robots-Tag:noindex
X-PUBLISHED-TTL:PT1H
BEGIN:VTIMEZONE
TZID:UTC
BEGIN:STANDARD
TZOFFSETFROM:+0000
TZOFFSETTO:+0000
TZNAME:UTC
DTSTART:20190101T000000
END:STANDARD
END:VTIMEZONE
BEGIN:VEVENT
DTSTART;TZID=UTC:20200707T110000
DTEND;TZID=UTC:20200707T140000
DTSTAMP:20260424T114556
CREATED:20160504T173424Z
LAST-MODIFIED:20200630T140011Z
UID:10000505-1594119600-1594130400@machiasme.gov
SUMMARY:Bureau of Motor Vehicles (BMV) - Telebusiness Center
DESCRIPTION:
URL:https://machiasme.gov/event/bureau-of-motor-vehicles-2020-07-07/
LOCATION:The Machias Tele-Business Center\, 17 Stackpole Dr\, Machias\, ME\, 04654\, United States
CATEGORIES:Meetings
END:VEVENT
BEGIN:VEVENT
DTSTART;TZID=UTC:20200602T110000
DTEND;TZID=UTC:20200602T140000
DTSTAMP:20260424T114556
CREATED:20160504T173424Z
LAST-MODIFIED:20200601T182219Z
UID:10000027-1591095600-1591106400@machiasme.gov
SUMMARY:Bureau of Motor Vehicles (BMV) - Cancelled
DESCRIPTION:
URL:https://machiasme.gov/event/bureau-of-motor-vehicles-2020-06-02/
CATEGORIES:Meetings
END:VEVENT
BEGIN:VEVENT
DTSTART;TZID=UTC:20200407T110000
DTEND;TZID=UTC:20200407T140000
DTSTAMP:20260424T114556
CREATED:20160504T173424Z
LAST-MODIFIED:20200318T185033Z
UID:10000503-1586257200-1586268000@machiasme.gov
SUMMARY:Bureau of Motor Vehicles (BMV) - Telebusiness Center - PENDING
DESCRIPTION:
URL:https://machiasme.gov/event/bureau-of-motor-vehicles-2020-04-07/
CATEGORIES:Meetings
END:VEVENT
BEGIN:VEVENT
DTSTART;VALUE=DATE:20200204
DTEND;VALUE=DATE:20200205
DTSTAMP:20260424T114556
CREATED:20160504T173424Z
LAST-MODIFIED:20231201T164013Z
UID:10000498-1580774400-1580860799@machiasme.gov
SUMMARY:Bureau of Motor Vehicles (BMV) - Telebusiness Center - postponed until further notice
DESCRIPTION:
URL:https://machiasme.gov/event/bureau-of-motor-vehicles/
CATEGORIES:Meetings
END:VEVENT
END:VCALENDAR