BEGIN:VCALENDAR
VERSION:2.0
PRODID:-//Town of Machias - ECPv6.15.20//NONSGML v1.0//EN
CALSCALE:GREGORIAN
METHOD:PUBLISH
X-ORIGINAL-URL:https://machiasme.gov
X-WR-CALDESC:Events for Town of Machias
REFRESH-INTERVAL;VALUE=DURATION:PT1H
X-Robots-Tag:noindex
X-PUBLISHED-TTL:PT1H
BEGIN:VTIMEZONE
TZID:UTC
BEGIN:STANDARD
TZOFFSETFROM:+0000
TZOFFSETTO:+0000
TZNAME:UTC
DTSTART:20150101T000000
END:STANDARD
END:VTIMEZONE
BEGIN:VEVENT
DTSTART;TZID=UTC:20160331T080000
DTEND;TZID=UTC:20160331T170000
DTSTAMP:20260424T085519
CREATED:20160219T154904Z
LAST-MODIFIED:20160219T154904Z
UID:10000020-1459411200-1459443600@machiasme.gov
SUMMARY:Real Estate and Personal Property Taxes Due
DESCRIPTION:Real estate and personal property taxes are due today.
URL:https://machiasme.gov/event/real-estate-and-personal-property-taxes-due/
CATEGORIES:Notices
END:VEVENT
END:VCALENDAR