BEGIN:VCALENDAR
VERSION:2.0
PRODID:-//Town of Machias - ECPv6.15.20//NONSGML v1.0//EN
CALSCALE:GREGORIAN
METHOD:PUBLISH
X-ORIGINAL-URL:https://machiasme.gov
X-WR-CALDESC:Events for Town of Machias
REFRESH-INTERVAL;VALUE=DURATION:PT1H
X-Robots-Tag:noindex
X-PUBLISHED-TTL:PT1H
BEGIN:VTIMEZONE
TZID:UTC
BEGIN:STANDARD
TZOFFSETFROM:+0000
TZOFFSETTO:+0000
TZNAME:UTC
DTSTART:20170101T000000
END:STANDARD
END:VTIMEZONE
BEGIN:VEVENT
DTSTART;VALUE=DATE:20190614
DTEND;VALUE=DATE:20190615
DTSTAMP:20260424T075916
CREATED:20160219T154539Z
LAST-MODIFIED:20190613T184945Z
UID:10000017-1560470400-1560556799@machiasme.gov
SUMMARY:Downtown Revitalization Committee Meeting has been cancelled for today
DESCRIPTION:
URL:https://machiasme.gov/event/downtown-revitalization-committee-meeting-2019-04-12-2019-06-14/
LOCATION:SCEC/CCC Conference Room\, 7 Ames Way\, Machias\, ME\, 04654\, United States
CATEGORIES:Town Meetings
END:VEVENT
BEGIN:VEVENT
DTSTART;TZID=UTC:20190612T190000
DTEND;TZID=UTC:20190612T200000
DTSTAMP:20260424T075916
CREATED:20160219T145015Z
LAST-MODIFIED:20190604T160837Z
UID:10000168-1560366000-1560369600@machiasme.gov
SUMMARY:Board of Selectpeople's Meeting will follow the Annual Town Meeting
DESCRIPTION:The Annual Town Meeting starts at 7:00 pm.  Board of Selectpeople’s meeting will follow the annual Town Meeting.
URL:https://machiasme.gov/event/board-of-selectmans-meeting-2019-06-24/
LOCATION:Machias Town Hall\, 7 Court Street\, Suite 1\, Machias\, ME\, 04654\, United States
CATEGORIES:Town Meetings
GEO:44.7184924;-67.4532582
X-APPLE-STRUCTURED-LOCATION;VALUE=URI;X-ADDRESS=Machias Town Hall 7 Court Street Suite 1 Machias ME 04654 United States;X-APPLE-RADIUS=500;X-TITLE=7 Court Street\, Suite 1:geo:-67.4532582,44.7184924
END:VEVENT
BEGIN:VEVENT
DTSTART;TZID=UTC:20190602T180000
DTEND;TZID=UTC:20190602T200000
DTSTAMP:20260424T075916
CREATED:20160219T151457Z
LAST-MODIFIED:20241205T143320Z
UID:10000097-1559498400-1559505600@machiasme.gov
SUMMARY:Planning Board Meeting
DESCRIPTION:The Planning Board meets the first Wednesday of the month at 6 p.m.
URL:https://machiasme.gov/event/planning-board-meeting/2019-06-02/
LOCATION:Machias Town Hall\, 7 Court Street\, Suite 1\, Machias\, ME\, 04654\, United States
CATEGORIES:Town Meetings
GEO:44.7184924;-67.4532582
X-APPLE-STRUCTURED-LOCATION;VALUE=URI;X-ADDRESS=Machias Town Hall 7 Court Street Suite 1 Machias ME 04654 United States;X-APPLE-RADIUS=500;X-TITLE=7 Court Street\, Suite 1:geo:-67.4532582,44.7184924
END:VEVENT
BEGIN:VEVENT
DTSTART;TZID=UTC:20190522T180000
DTEND;TZID=UTC:20190522T190000
DTSTAMP:20260424T075917
CREATED:20160219T145015Z
LAST-MODIFIED:20190514T182410Z
UID:10000166-1558548000-1558551600@machiasme.gov
SUMMARY:Board of Selectpeople's Meeting
DESCRIPTION:Board of Selectpeople’s meetings are the 2nd and 4th Wednesday of the month at 6 p.m. in the Town Office.
URL:https://machiasme.gov/event/board-of-selectmans-meeting-2019-05-24/
LOCATION:Machias Town Hall\, 7 Court Street\, Suite 1\, Machias\, ME\, 04654\, United States
CATEGORIES:Town Meetings
GEO:44.7184924;-67.4532582
X-APPLE-STRUCTURED-LOCATION;VALUE=URI;X-ADDRESS=Machias Town Hall 7 Court Street Suite 1 Machias ME 04654 United States;X-APPLE-RADIUS=500;X-TITLE=7 Court Street\, Suite 1:geo:-67.4532582,44.7184924
END:VEVENT
BEGIN:VEVENT
DTSTART;TZID=UTC:20190502T180000
DTEND;TZID=UTC:20190502T200000
DTSTAMP:20260424T075917
CREATED:20160219T151457Z
LAST-MODIFIED:20241205T143320Z
UID:10000096-1556820000-1556827200@machiasme.gov
SUMMARY:Planning Board Meeting
DESCRIPTION:The Planning Board meets the first Wednesday of the month at 6 p.m.
URL:https://machiasme.gov/event/planning-board-meeting/2019-05-02/
LOCATION:Machias Town Hall\, 7 Court Street\, Suite 1\, Machias\, ME\, 04654\, United States
CATEGORIES:Town Meetings
GEO:44.7184924;-67.4532582
X-APPLE-STRUCTURED-LOCATION;VALUE=URI;X-ADDRESS=Machias Town Hall 7 Court Street Suite 1 Machias ME 04654 United States;X-APPLE-RADIUS=500;X-TITLE=7 Court Street\, Suite 1:geo:-67.4532582,44.7184924
END:VEVENT
BEGIN:VEVENT
DTSTART;TZID=UTC:20190403T190000
DTEND;TZID=UTC:20190403T200000
DTSTAMP:20260424T075917
CREATED:20160219T151457Z
LAST-MODIFIED:20190403T162506Z
UID:10000050-1554318000-1554321600@machiasme.gov
SUMMARY:Planning Board Meeting Cancelled - to be Rescheduled
DESCRIPTION:
URL:https://machiasme.gov/event/planning-board-meeting-2019-04-03/
LOCATION:Machias Town Hall\, 7 Court Street\, Suite 1\, Machias\, ME\, 04654\, United States
CATEGORIES:Town Meetings
GEO:44.7184924;-67.4532582
X-APPLE-STRUCTURED-LOCATION;VALUE=URI;X-ADDRESS=Machias Town Hall 7 Court Street Suite 1 Machias ME 04654 United States;X-APPLE-RADIUS=500;X-TITLE=7 Court Street\, Suite 1:geo:-67.4532582,44.7184924
END:VEVENT
BEGIN:VEVENT
DTSTART;TZID=UTC:20190402T180000
DTEND;TZID=UTC:20190402T200000
DTSTAMP:20260424T075917
CREATED:20160219T151457Z
LAST-MODIFIED:20241205T143320Z
UID:10000095-1554228000-1554235200@machiasme.gov
SUMMARY:Planning Board Meeting
DESCRIPTION:The Planning Board meets the first Wednesday of the month at 6 p.m.
URL:https://machiasme.gov/event/planning-board-meeting/2019-04-02/
LOCATION:Machias Town Hall\, 7 Court Street\, Suite 1\, Machias\, ME\, 04654\, United States
CATEGORIES:Town Meetings
GEO:44.7184924;-67.4532582
X-APPLE-STRUCTURED-LOCATION;VALUE=URI;X-ADDRESS=Machias Town Hall 7 Court Street Suite 1 Machias ME 04654 United States;X-APPLE-RADIUS=500;X-TITLE=7 Court Street\, Suite 1:geo:-67.4532582,44.7184924
END:VEVENT
BEGIN:VEVENT
DTSTART;TZID=UTC:20190327T180000
DTEND;TZID=UTC:20190327T190000
DTSTAMP:20260424T075917
CREATED:20160219T145015Z
LAST-MODIFIED:20190325T143416Z
UID:10000317-1553709600-1553713200@machiasme.gov
SUMMARY:Board of Selectman's Meeting has been cancelled
DESCRIPTION:
URL:https://machiasme.gov/event/board-of-selectmans-meeting-2019-03-27/
LOCATION:Machias Town Hall\, 7 Court Street\, Suite 1\, Machias\, ME\, 04654\, United States
CATEGORIES:Town Meetings
GEO:44.7184924;-67.4532582
X-APPLE-STRUCTURED-LOCATION;VALUE=URI;X-ADDRESS=Machias Town Hall 7 Court Street Suite 1 Machias ME 04654 United States;X-APPLE-RADIUS=500;X-TITLE=7 Court Street\, Suite 1:geo:-67.4532582,44.7184924
END:VEVENT
BEGIN:VEVENT
DTSTART;TZID=UTC:20190308T090000
DTEND;TZID=UTC:20190308T103000
DTSTAMP:20260424T075917
CREATED:20160219T154539Z
LAST-MODIFIED:20190306T135450Z
UID:10000016-1552035600-1552041000@machiasme.gov
SUMMARY:Downtown Revitalization Committee Meeting - CANCELLED (see you in April)
DESCRIPTION:The Downtown revitalization committee meets the second Friday of the month
URL:https://machiasme.gov/event/downtown-revitalization-committee-meeting-2019-03-08/
LOCATION:SCEC/CCC Conference Room\, 7 Ames Way\, Machias\, ME\, 04654\, United States
CATEGORIES:Town Meetings
END:VEVENT
BEGIN:VEVENT
DTSTART;TZID=UTC:20190302T180000
DTEND;TZID=UTC:20190302T200000
DTSTAMP:20260424T075917
CREATED:20160219T151457Z
LAST-MODIFIED:20241205T143320Z
UID:10000094-1551549600-1551556800@machiasme.gov
SUMMARY:Planning Board Meeting
DESCRIPTION:The Planning Board meets the first Wednesday of the month at 6 p.m.
URL:https://machiasme.gov/event/planning-board-meeting/2019-03-02/
LOCATION:Machias Town Hall\, 7 Court Street\, Suite 1\, Machias\, ME\, 04654\, United States
CATEGORIES:Town Meetings
GEO:44.7184924;-67.4532582
X-APPLE-STRUCTURED-LOCATION;VALUE=URI;X-ADDRESS=Machias Town Hall 7 Court Street Suite 1 Machias ME 04654 United States;X-APPLE-RADIUS=500;X-TITLE=7 Court Street\, Suite 1:geo:-67.4532582,44.7184924
END:VEVENT
BEGIN:VEVENT
DTSTART;TZID=UTC:20190208T090000
DTEND;TZID=UTC:20190208T103000
DTSTAMP:20260424T075917
CREATED:20160219T154539Z
LAST-MODIFIED:20190206T134915Z
UID:10000015-1549616400-1549621800@machiasme.gov
SUMMARY:Downtown Revitalization Committee Meeting
DESCRIPTION:The Downtown revitalization committee meets the second Friday of the month
URL:https://machiasme.gov/event/downtown-revitalization-committee-meeting-2019-02-08/
LOCATION:SCEC/CCC Conference Room\, 7 Ames Way\, Machias\, ME\, 04654\, United States
CATEGORIES:Town Meetings
END:VEVENT
BEGIN:VEVENT
DTSTART;TZID=UTC:20190202T180000
DTEND;TZID=UTC:20190202T200000
DTSTAMP:20260424T075917
CREATED:20160219T151457Z
LAST-MODIFIED:20241205T143320Z
UID:10000093-1549130400-1549137600@machiasme.gov
SUMMARY:Planning Board Meeting
DESCRIPTION:The Planning Board meets the first Wednesday of the month at 6 p.m.
URL:https://machiasme.gov/event/planning-board-meeting/2019-02-02/
LOCATION:Machias Town Hall\, 7 Court Street\, Suite 1\, Machias\, ME\, 04654\, United States
CATEGORIES:Town Meetings
GEO:44.7184924;-67.4532582
X-APPLE-STRUCTURED-LOCATION;VALUE=URI;X-ADDRESS=Machias Town Hall 7 Court Street Suite 1 Machias ME 04654 United States;X-APPLE-RADIUS=500;X-TITLE=7 Court Street\, Suite 1:geo:-67.4532582,44.7184924
END:VEVENT
BEGIN:VEVENT
DTSTART;TZID=UTC:20190111T090000
DTEND;TZID=UTC:20190111T103000
DTSTAMP:20260424T075917
CREATED:20160219T154539Z
LAST-MODIFIED:20190108T194014Z
UID:10000014-1547197200-1547202600@machiasme.gov
SUMMARY:Downtown Revitalization Committee Meeting
DESCRIPTION:The Downtown revitalization committee will meet at SCEC/CCC Conference Room\, 7 Ames Way\, Machias ME 04654.
URL:https://machiasme.gov/event/downtown-revitalization-committee-meeting-2019-01-11/
LOCATION:ME\, United States
CATEGORIES:Town Meetings
END:VEVENT
BEGIN:VEVENT
DTSTART;TZID=UTC:20190102T180000
DTEND;TZID=UTC:20190102T200000
DTSTAMP:20260424T075917
CREATED:20160219T151457Z
LAST-MODIFIED:20241205T143320Z
UID:10000092-1546452000-1546459200@machiasme.gov
SUMMARY:Planning Board Meeting
DESCRIPTION:The Planning Board meets the first Wednesday of the month at 6 p.m.
URL:https://machiasme.gov/event/planning-board-meeting/2019-01-02/
LOCATION:Machias Town Hall\, 7 Court Street\, Suite 1\, Machias\, ME\, 04654\, United States
CATEGORIES:Town Meetings
GEO:44.7184924;-67.4532582
X-APPLE-STRUCTURED-LOCATION;VALUE=URI;X-ADDRESS=Machias Town Hall 7 Court Street Suite 1 Machias ME 04654 United States;X-APPLE-RADIUS=500;X-TITLE=7 Court Street\, Suite 1:geo:-67.4532582,44.7184924
END:VEVENT
BEGIN:VEVENT
DTSTART;TZID=UTC:20181226T180000
DTEND;TZID=UTC:20181226T190000
DTSTAMP:20260424T075917
CREATED:20160219T145015Z
LAST-MODIFIED:20181214T200328Z
UID:10000186-1545847200-1545850800@machiasme.gov
SUMMARY:Board of Selectman's Meeting - CANCELLED
DESCRIPTION:
URL:https://machiasme.gov/event/board-of-selectmans-meeting-2018-12-26/
LOCATION:Machias Town Hall\, 7 Court Street\, Suite 1\, Machias\, ME\, 04654\, United States
CATEGORIES:Town Meetings
GEO:44.7184924;-67.4532582
X-APPLE-STRUCTURED-LOCATION;VALUE=URI;X-ADDRESS=Machias Town Hall 7 Court Street Suite 1 Machias ME 04654 United States;X-APPLE-RADIUS=500;X-TITLE=7 Court Street\, Suite 1:geo:-67.4532582,44.7184924
END:VEVENT
BEGIN:VEVENT
DTSTART;TZID=UTC:20181202T180000
DTEND;TZID=UTC:20181202T200000
DTSTAMP:20260424T075917
CREATED:20160219T151457Z
LAST-MODIFIED:20241205T143320Z
UID:10000091-1543773600-1543780800@machiasme.gov
SUMMARY:Planning Board Meeting
DESCRIPTION:The Planning Board meets the first Wednesday of the month at 6 p.m.
URL:https://machiasme.gov/event/planning-board-meeting/2018-12-02/
LOCATION:Machias Town Hall\, 7 Court Street\, Suite 1\, Machias\, ME\, 04654\, United States
CATEGORIES:Town Meetings
GEO:44.7184924;-67.4532582
X-APPLE-STRUCTURED-LOCATION;VALUE=URI;X-ADDRESS=Machias Town Hall 7 Court Street Suite 1 Machias ME 04654 United States;X-APPLE-RADIUS=500;X-TITLE=7 Court Street\, Suite 1:geo:-67.4532582,44.7184924
END:VEVENT
BEGIN:VEVENT
DTSTART;TZID=UTC:20181102T180000
DTEND;TZID=UTC:20181102T200000
DTSTAMP:20260424T075917
CREATED:20160219T151457Z
LAST-MODIFIED:20241205T143320Z
UID:10000090-1541181600-1541188800@machiasme.gov
SUMMARY:Planning Board Meeting
DESCRIPTION:The Planning Board meets the first Wednesday of the month at 6 p.m.
URL:https://machiasme.gov/event/planning-board-meeting/2018-11-02/
LOCATION:Machias Town Hall\, 7 Court Street\, Suite 1\, Machias\, ME\, 04654\, United States
CATEGORIES:Town Meetings
GEO:44.7184924;-67.4532582
X-APPLE-STRUCTURED-LOCATION;VALUE=URI;X-ADDRESS=Machias Town Hall 7 Court Street Suite 1 Machias ME 04654 United States;X-APPLE-RADIUS=500;X-TITLE=7 Court Street\, Suite 1:geo:-67.4532582,44.7184924
END:VEVENT
BEGIN:VEVENT
DTSTART;TZID=UTC:20181002T180000
DTEND;TZID=UTC:20181002T200000
DTSTAMP:20260424T075917
CREATED:20160219T151457Z
LAST-MODIFIED:20241205T143320Z
UID:10000089-1538503200-1538510400@machiasme.gov
SUMMARY:Planning Board Meeting
DESCRIPTION:The Planning Board meets the first Wednesday of the month at 6 p.m.
URL:https://machiasme.gov/event/planning-board-meeting/2018-10-02/
LOCATION:Machias Town Hall\, 7 Court Street\, Suite 1\, Machias\, ME\, 04654\, United States
CATEGORIES:Town Meetings
GEO:44.7184924;-67.4532582
X-APPLE-STRUCTURED-LOCATION;VALUE=URI;X-ADDRESS=Machias Town Hall 7 Court Street Suite 1 Machias ME 04654 United States;X-APPLE-RADIUS=500;X-TITLE=7 Court Street\, Suite 1:geo:-67.4532582,44.7184924
END:VEVENT
BEGIN:VEVENT
DTSTART;TZID=UTC:20180902T180000
DTEND;TZID=UTC:20180902T200000
DTSTAMP:20260424T075917
CREATED:20160219T151457Z
LAST-MODIFIED:20241205T143320Z
UID:10000088-1535911200-1535918400@machiasme.gov
SUMMARY:Planning Board Meeting
DESCRIPTION:The Planning Board meets the first Wednesday of the month at 6 p.m.
URL:https://machiasme.gov/event/planning-board-meeting/2018-09-02/
LOCATION:Machias Town Hall\, 7 Court Street\, Suite 1\, Machias\, ME\, 04654\, United States
CATEGORIES:Town Meetings
GEO:44.7184924;-67.4532582
X-APPLE-STRUCTURED-LOCATION;VALUE=URI;X-ADDRESS=Machias Town Hall 7 Court Street Suite 1 Machias ME 04654 United States;X-APPLE-RADIUS=500;X-TITLE=7 Court Street\, Suite 1:geo:-67.4532582,44.7184924
END:VEVENT
BEGIN:VEVENT
DTSTART;TZID=UTC:20180802T180000
DTEND;TZID=UTC:20180802T200000
DTSTAMP:20260424T075917
CREATED:20160219T151457Z
LAST-MODIFIED:20241205T143320Z
UID:10000087-1533232800-1533240000@machiasme.gov
SUMMARY:Planning Board Meeting
DESCRIPTION:The Planning Board meets the first Wednesday of the month at 6 p.m.
URL:https://machiasme.gov/event/planning-board-meeting/2018-08-02/
LOCATION:Machias Town Hall\, 7 Court Street\, Suite 1\, Machias\, ME\, 04654\, United States
CATEGORIES:Town Meetings
GEO:44.7184924;-67.4532582
X-APPLE-STRUCTURED-LOCATION;VALUE=URI;X-ADDRESS=Machias Town Hall 7 Court Street Suite 1 Machias ME 04654 United States;X-APPLE-RADIUS=500;X-TITLE=7 Court Street\, Suite 1:geo:-67.4532582,44.7184924
END:VEVENT
BEGIN:VEVENT
DTSTART;TZID=UTC:20180718T190000
DTEND;TZID=UTC:20180718T200000
DTSTAMP:20260424T075917
CREATED:20160219T151457Z
LAST-MODIFIED:20180615T130817Z
UID:10000047-1531940400-1531944000@machiasme.gov
SUMMARY:Planning Board Meeting
DESCRIPTION:The Planning  Board meeting date has been changed to July 18th due to the First Wednesday in July being the 4th.
URL:https://machiasme.gov/event/planning-board-meeting-2018-07-04/
LOCATION:Machias Town Hall\, 7 Court Street\, Suite 1\, Machias\, ME\, 04654\, United States
CATEGORIES:Town Meetings
GEO:44.7184924;-67.4532582
X-APPLE-STRUCTURED-LOCATION;VALUE=URI;X-ADDRESS=Machias Town Hall 7 Court Street Suite 1 Machias ME 04654 United States;X-APPLE-RADIUS=500;X-TITLE=7 Court Street\, Suite 1:geo:-67.4532582,44.7184924
END:VEVENT
BEGIN:VEVENT
DTSTART;TZID=UTC:20180702T180000
DTEND;TZID=UTC:20180702T200000
DTSTAMP:20260424T075917
CREATED:20160219T151457Z
LAST-MODIFIED:20241205T143320Z
UID:10000086-1530554400-1530561600@machiasme.gov
SUMMARY:Planning Board Meeting
DESCRIPTION:The Planning Board meets the first Wednesday of the month at 6 p.m.
URL:https://machiasme.gov/event/planning-board-meeting/2018-07-02/
LOCATION:Machias Town Hall\, 7 Court Street\, Suite 1\, Machias\, ME\, 04654\, United States
CATEGORIES:Town Meetings
GEO:44.7184924;-67.4532582
X-APPLE-STRUCTURED-LOCATION;VALUE=URI;X-ADDRESS=Machias Town Hall 7 Court Street Suite 1 Machias ME 04654 United States;X-APPLE-RADIUS=500;X-TITLE=7 Court Street\, Suite 1:geo:-67.4532582,44.7184924
END:VEVENT
BEGIN:VEVENT
DTSTART;TZID=UTC:20180613T193000
DTEND;TZID=UTC:20180613T193000
DTSTAMP:20260424T075917
CREATED:20160219T145015Z
LAST-MODIFIED:20180613T172211Z
UID:10000456-1528918200-1528918200@machiasme.gov
SUMMARY:Board of Selectman's Meeting
DESCRIPTION:Board of Selectman’s meetings will follow the Annual Town Meeting at the Machias Town Office – The Annual Town Meeting will be at 7pm at the Machias Memorial High School.
URL:https://machiasme.gov/event/board-of-selectmans-meeting-2018-06-13/
LOCATION:Machias Town Hall\, 7 Court Street\, Suite 1\, Machias\, ME\, 04654\, United States
CATEGORIES:Town Meetings
GEO:44.7184924;-67.4532582
X-APPLE-STRUCTURED-LOCATION;VALUE=URI;X-ADDRESS=Machias Town Hall 7 Court Street Suite 1 Machias ME 04654 United States;X-APPLE-RADIUS=500;X-TITLE=7 Court Street\, Suite 1:geo:-67.4532582,44.7184924
END:VEVENT
BEGIN:VEVENT
DTSTART;TZID=UTC:20180602T180000
DTEND;TZID=UTC:20180602T200000
DTSTAMP:20260424T075917
CREATED:20160219T151457Z
LAST-MODIFIED:20241205T143320Z
UID:10000085-1527962400-1527969600@machiasme.gov
SUMMARY:Planning Board Meeting
DESCRIPTION:The Planning Board meets the first Wednesday of the month at 6 p.m.
URL:https://machiasme.gov/event/planning-board-meeting/2018-06-02/
LOCATION:Machias Town Hall\, 7 Court Street\, Suite 1\, Machias\, ME\, 04654\, United States
CATEGORIES:Town Meetings
GEO:44.7184924;-67.4532582
X-APPLE-STRUCTURED-LOCATION;VALUE=URI;X-ADDRESS=Machias Town Hall 7 Court Street Suite 1 Machias ME 04654 United States;X-APPLE-RADIUS=500;X-TITLE=7 Court Street\, Suite 1:geo:-67.4532582,44.7184924
END:VEVENT
BEGIN:VEVENT
DTSTART;TZID=UTC:20180502T180000
DTEND;TZID=UTC:20180502T200000
DTSTAMP:20260424T075917
CREATED:20160219T151457Z
LAST-MODIFIED:20241205T143320Z
UID:10000084-1525284000-1525291200@machiasme.gov
SUMMARY:Planning Board Meeting
DESCRIPTION:The Planning Board meets the first Wednesday of the month at 6 p.m.
URL:https://machiasme.gov/event/planning-board-meeting/2018-05-02/
LOCATION:Machias Town Hall\, 7 Court Street\, Suite 1\, Machias\, ME\, 04654\, United States
CATEGORIES:Town Meetings
GEO:44.7184924;-67.4532582
X-APPLE-STRUCTURED-LOCATION;VALUE=URI;X-ADDRESS=Machias Town Hall 7 Court Street Suite 1 Machias ME 04654 United States;X-APPLE-RADIUS=500;X-TITLE=7 Court Street\, Suite 1:geo:-67.4532582,44.7184924
END:VEVENT
BEGIN:VEVENT
DTSTART;TZID=UTC:20180402T180000
DTEND;TZID=UTC:20180402T200000
DTSTAMP:20260424T075917
CREATED:20160219T151457Z
LAST-MODIFIED:20241205T143320Z
UID:10000083-1522692000-1522699200@machiasme.gov
SUMMARY:Planning Board Meeting
DESCRIPTION:The Planning Board meets the first Wednesday of the month at 6 p.m.
URL:https://machiasme.gov/event/planning-board-meeting/2018-04-02/
LOCATION:Machias Town Hall\, 7 Court Street\, Suite 1\, Machias\, ME\, 04654\, United States
CATEGORIES:Town Meetings
GEO:44.7184924;-67.4532582
X-APPLE-STRUCTURED-LOCATION;VALUE=URI;X-ADDRESS=Machias Town Hall 7 Court Street Suite 1 Machias ME 04654 United States;X-APPLE-RADIUS=500;X-TITLE=7 Court Street\, Suite 1:geo:-67.4532582,44.7184924
END:VEVENT
BEGIN:VEVENT
DTSTART;TZID=UTC:20180328T180000
DTEND;TZID=UTC:20180328T190000
DTSTAMP:20260424T075917
CREATED:20160219T145015Z
LAST-MODIFIED:20180328T155740Z
UID:10000455-1522260000-1522263600@machiasme.gov
SUMMARY:Board of Selectman's Meeting = CANCELLED
DESCRIPTION:Board of Selectman’s meetings are the 2nd and 4th Wednesday of the month at 6 p.m. in the Town Office.
URL:https://machiasme.gov/event/board-of-selectmans-meeting-2018-03-28/
LOCATION:Machias Town Hall\, 7 Court Street\, Suite 1\, Machias\, ME\, 04654\, United States
CATEGORIES:Town Meetings
GEO:44.7184924;-67.4532582
X-APPLE-STRUCTURED-LOCATION;VALUE=URI;X-ADDRESS=Machias Town Hall 7 Court Street Suite 1 Machias ME 04654 United States;X-APPLE-RADIUS=500;X-TITLE=7 Court Street\, Suite 1:geo:-67.4532582,44.7184924
END:VEVENT
BEGIN:VEVENT
DTSTART;TZID=UTC:20180302T180000
DTEND;TZID=UTC:20180302T200000
DTSTAMP:20260424T075917
CREATED:20160219T151457Z
LAST-MODIFIED:20241205T143320Z
UID:10000082-1520013600-1520020800@machiasme.gov
SUMMARY:Planning Board Meeting
DESCRIPTION:The Planning Board meets the first Wednesday of the month at 6 p.m.
URL:https://machiasme.gov/event/planning-board-meeting/2018-03-02/
LOCATION:Machias Town Hall\, 7 Court Street\, Suite 1\, Machias\, ME\, 04654\, United States
CATEGORIES:Town Meetings
GEO:44.7184924;-67.4532582
X-APPLE-STRUCTURED-LOCATION;VALUE=URI;X-ADDRESS=Machias Town Hall 7 Court Street Suite 1 Machias ME 04654 United States;X-APPLE-RADIUS=500;X-TITLE=7 Court Street\, Suite 1:geo:-67.4532582,44.7184924
END:VEVENT
BEGIN:VEVENT
DTSTART;TZID=UTC:20180214T180000
DTEND;TZID=UTC:20180214T190000
DTSTAMP:20260424T075917
CREATED:20160219T145015Z
LAST-MODIFIED:20180209T190551Z
UID:10000428-1518631200-1518634800@machiasme.gov
SUMMARY:Board of Selectman's Meeting - CANCELLED
DESCRIPTION:Board of Selectman’s meetings are the 2nd and 4th Wednesday of the month at 6 p.m. in the Town Office.
URL:https://machiasme.gov/event/board-of-selectmans-meeting-2018-02-14/
LOCATION:Machias Town Hall\, 7 Court Street\, Suite 1\, Machias\, ME\, 04654\, United States
CATEGORIES:Town Meetings
GEO:44.7184924;-67.4532582
X-APPLE-STRUCTURED-LOCATION;VALUE=URI;X-ADDRESS=Machias Town Hall 7 Court Street Suite 1 Machias ME 04654 United States;X-APPLE-RADIUS=500;X-TITLE=7 Court Street\, Suite 1:geo:-67.4532582,44.7184924
END:VEVENT
BEGIN:VEVENT
DTSTART;TZID=UTC:20180202T180000
DTEND;TZID=UTC:20180202T200000
DTSTAMP:20260424T075917
CREATED:20160219T151457Z
LAST-MODIFIED:20241205T143320Z
UID:10000081-1517594400-1517601600@machiasme.gov
SUMMARY:Planning Board Meeting
DESCRIPTION:The Planning Board meets the first Wednesday of the month at 6 p.m.
URL:https://machiasme.gov/event/planning-board-meeting/2018-02-02/
LOCATION:Machias Town Hall\, 7 Court Street\, Suite 1\, Machias\, ME\, 04654\, United States
CATEGORIES:Town Meetings
GEO:44.7184924;-67.4532582
X-APPLE-STRUCTURED-LOCATION;VALUE=URI;X-ADDRESS=Machias Town Hall 7 Court Street Suite 1 Machias ME 04654 United States;X-APPLE-RADIUS=500;X-TITLE=7 Court Street\, Suite 1:geo:-67.4532582,44.7184924
END:VEVENT
END:VCALENDAR