BEGIN:VCALENDAR
VERSION:2.0
PRODID:-//Town of Machias - ECPv6.15.20//NONSGML v1.0//EN
CALSCALE:GREGORIAN
METHOD:PUBLISH
X-WR-CALNAME:Town of Machias
X-ORIGINAL-URL:https://machiasme.gov
X-WR-CALDESC:Events for Town of Machias
REFRESH-INTERVAL;VALUE=DURATION:PT1H
X-Robots-Tag:noindex
X-PUBLISHED-TTL:PT1H
BEGIN:VTIMEZONE
TZID:UTC
BEGIN:STANDARD
TZOFFSETFROM:+0000
TZOFFSETTO:+0000
TZNAME:UTC
DTSTART:20150101T000000
END:STANDARD
END:VTIMEZONE
BEGIN:VEVENT
DTSTART;TZID=UTC:20171101T180000
DTEND;TZID=UTC:20171101T190000
DTSTAMP:20260424T151747
CREATED:20160219T145015Z
LAST-MODIFIED:20171031T125624Z
UID:10000425-1509559200-1509562800@machiasme.gov
SUMMARY:Board of Selectman's Meeting - Cancelled
DESCRIPTION:Board of Selectman’s meeting for Wednesday\, November 8th has been moved to Wednesday\, November 1st at the Machias Town Office.
URL:https://machiasme.gov/event/board-of-selectmans-meeting-2017-11-08/
LOCATION:Machias Town Hall\, 7 Court Street\, Suite 1\, Machias\, ME\, 04654\, United States
CATEGORIES:Town Meetings
GEO:44.7184924;-67.4532582
X-APPLE-STRUCTURED-LOCATION;VALUE=URI;X-ADDRESS=Machias Town Hall 7 Court Street Suite 1 Machias ME 04654 United States;X-APPLE-RADIUS=500;X-TITLE=7 Court Street\, Suite 1:geo:-67.4532582,44.7184924
END:VEVENT
BEGIN:VEVENT
DTSTART;TZID=UTC:20171002T180000
DTEND;TZID=UTC:20171002T200000
DTSTAMP:20260424T151747
CREATED:20160219T151457Z
LAST-MODIFIED:20241205T143320Z
UID:10000077-1506967200-1506974400@machiasme.gov
SUMMARY:Planning Board Meeting
DESCRIPTION:The Planning Board meets the first Wednesday of the month at 6 p.m.
URL:https://machiasme.gov/event/planning-board-meeting/2017-10-02/
LOCATION:Machias Town Hall\, 7 Court Street\, Suite 1\, Machias\, ME\, 04654\, United States
CATEGORIES:Town Meetings
GEO:44.7184924;-67.4532582
X-APPLE-STRUCTURED-LOCATION;VALUE=URI;X-ADDRESS=Machias Town Hall 7 Court Street Suite 1 Machias ME 04654 United States;X-APPLE-RADIUS=500;X-TITLE=7 Court Street\, Suite 1:geo:-67.4532582,44.7184924
END:VEVENT
BEGIN:VEVENT
DTSTART;TZID=UTC:20170902T180000
DTEND;TZID=UTC:20170902T200000
DTSTAMP:20260424T151747
CREATED:20160219T151457Z
LAST-MODIFIED:20241205T143320Z
UID:10000076-1504375200-1504382400@machiasme.gov
SUMMARY:Planning Board Meeting
DESCRIPTION:The Planning Board meets the first Wednesday of the month at 6 p.m.
URL:https://machiasme.gov/event/planning-board-meeting/2017-09-02/
LOCATION:Machias Town Hall\, 7 Court Street\, Suite 1\, Machias\, ME\, 04654\, United States
CATEGORIES:Town Meetings
GEO:44.7184924;-67.4532582
X-APPLE-STRUCTURED-LOCATION;VALUE=URI;X-ADDRESS=Machias Town Hall 7 Court Street Suite 1 Machias ME 04654 United States;X-APPLE-RADIUS=500;X-TITLE=7 Court Street\, Suite 1:geo:-67.4532582,44.7184924
END:VEVENT
BEGIN:VEVENT
DTSTART;TZID=UTC:20170802T180000
DTEND;TZID=UTC:20170802T200000
DTSTAMP:20260424T151747
CREATED:20160219T151457Z
LAST-MODIFIED:20241205T143320Z
UID:10000075-1501696800-1501704000@machiasme.gov
SUMMARY:Planning Board Meeting
DESCRIPTION:The Planning Board meets the first Wednesday of the month at 6 p.m.
URL:https://machiasme.gov/event/planning-board-meeting/2017-08-02/
LOCATION:Machias Town Hall\, 7 Court Street\, Suite 1\, Machias\, ME\, 04654\, United States
CATEGORIES:Town Meetings
GEO:44.7184924;-67.4532582
X-APPLE-STRUCTURED-LOCATION;VALUE=URI;X-ADDRESS=Machias Town Hall 7 Court Street Suite 1 Machias ME 04654 United States;X-APPLE-RADIUS=500;X-TITLE=7 Court Street\, Suite 1:geo:-67.4532582,44.7184924
END:VEVENT
BEGIN:VEVENT
DTSTART;TZID=UTC:20170726T180000
DTEND;TZID=UTC:20170726T190000
DTSTAMP:20260424T151747
CREATED:20160219T145015Z
LAST-MODIFIED:20170713T135703Z
UID:10000430-1501092000-1501095600@machiasme.gov
SUMMARY:Board of Selectman's Meeting - Cancelled
DESCRIPTION:
URL:https://machiasme.gov/event/board-of-selectmans-meeting-2017-07-26/
LOCATION:Machias Town Hall\, 7 Court Street\, Suite 1\, Machias\, ME\, 04654\, United States
CATEGORIES:Town Meetings
GEO:44.7184924;-67.4532582
X-APPLE-STRUCTURED-LOCATION;VALUE=URI;X-ADDRESS=Machias Town Hall 7 Court Street Suite 1 Machias ME 04654 United States;X-APPLE-RADIUS=500;X-TITLE=7 Court Street\, Suite 1:geo:-67.4532582,44.7184924
END:VEVENT
BEGIN:VEVENT
DTSTART;TZID=UTC:20170702T180000
DTEND;TZID=UTC:20170702T200000
DTSTAMP:20260424T151747
CREATED:20160219T151457Z
LAST-MODIFIED:20241205T143320Z
UID:10000074-1499018400-1499025600@machiasme.gov
SUMMARY:Planning Board Meeting
DESCRIPTION:The Planning Board meets the first Wednesday of the month at 6 p.m.
URL:https://machiasme.gov/event/planning-board-meeting/2017-07-02/
LOCATION:Machias Town Hall\, 7 Court Street\, Suite 1\, Machias\, ME\, 04654\, United States
CATEGORIES:Town Meetings
GEO:44.7184924;-67.4532582
X-APPLE-STRUCTURED-LOCATION;VALUE=URI;X-ADDRESS=Machias Town Hall 7 Court Street Suite 1 Machias ME 04654 United States;X-APPLE-RADIUS=500;X-TITLE=7 Court Street\, Suite 1:geo:-67.4532582,44.7184924
END:VEVENT
BEGIN:VEVENT
DTSTART;TZID=UTC:20170614T193000
DTEND;TZID=UTC:20170614T200000
DTSTAMP:20260424T151747
CREATED:20160219T145015Z
LAST-MODIFIED:20170613T152402Z
UID:10000422-1497468600-1497470400@machiasme.gov
SUMMARY:Board of Selectman's Meeting
DESCRIPTION:Board of Selectman’s meeting on June 14\, 2017 will begin immediately following the Town Meeting.
URL:https://machiasme.gov/event/board-of-selectmans-meeting-2017-06-14/
LOCATION:Machias Town Hall\, 7 Court Street\, Suite 1\, Machias\, ME\, 04654\, United States
CATEGORIES:Town Meetings
GEO:44.7184924;-67.4532582
X-APPLE-STRUCTURED-LOCATION;VALUE=URI;X-ADDRESS=Machias Town Hall 7 Court Street Suite 1 Machias ME 04654 United States;X-APPLE-RADIUS=500;X-TITLE=7 Court Street\, Suite 1:geo:-67.4532582,44.7184924
END:VEVENT
BEGIN:VEVENT
DTSTART;TZID=UTC:20170602T180000
DTEND;TZID=UTC:20170602T200000
DTSTAMP:20260424T151747
CREATED:20160219T151457Z
LAST-MODIFIED:20241205T143320Z
UID:10000073-1496426400-1496433600@machiasme.gov
SUMMARY:Planning Board Meeting
DESCRIPTION:The Planning Board meets the first Wednesday of the month at 6 p.m.
URL:https://machiasme.gov/event/planning-board-meeting/2017-06-02/
LOCATION:Machias Town Hall\, 7 Court Street\, Suite 1\, Machias\, ME\, 04654\, United States
CATEGORIES:Town Meetings
GEO:44.7184924;-67.4532582
X-APPLE-STRUCTURED-LOCATION;VALUE=URI;X-ADDRESS=Machias Town Hall 7 Court Street Suite 1 Machias ME 04654 United States;X-APPLE-RADIUS=500;X-TITLE=7 Court Street\, Suite 1:geo:-67.4532582,44.7184924
END:VEVENT
BEGIN:VEVENT
DTSTART;TZID=UTC:20170502T180000
DTEND;TZID=UTC:20170502T200000
DTSTAMP:20260424T151747
CREATED:20160219T151457Z
LAST-MODIFIED:20241205T143320Z
UID:10000072-1493748000-1493755200@machiasme.gov
SUMMARY:Planning Board Meeting
DESCRIPTION:The Planning Board meets the first Wednesday of the month at 6 p.m.
URL:https://machiasme.gov/event/planning-board-meeting/2017-05-02/
LOCATION:Machias Town Hall\, 7 Court Street\, Suite 1\, Machias\, ME\, 04654\, United States
CATEGORIES:Town Meetings
GEO:44.7184924;-67.4532582
X-APPLE-STRUCTURED-LOCATION;VALUE=URI;X-ADDRESS=Machias Town Hall 7 Court Street Suite 1 Machias ME 04654 United States;X-APPLE-RADIUS=500;X-TITLE=7 Court Street\, Suite 1:geo:-67.4532582,44.7184924
END:VEVENT
BEGIN:VEVENT
DTSTART;TZID=UTC:20170402T180000
DTEND;TZID=UTC:20170402T200000
DTSTAMP:20260424T151747
CREATED:20160219T151457Z
LAST-MODIFIED:20241205T143320Z
UID:10000071-1491156000-1491163200@machiasme.gov
SUMMARY:Planning Board Meeting
DESCRIPTION:The Planning Board meets the first Wednesday of the month at 6 p.m.
URL:https://machiasme.gov/event/planning-board-meeting/2017-04-02/
LOCATION:Machias Town Hall\, 7 Court Street\, Suite 1\, Machias\, ME\, 04654\, United States
CATEGORIES:Town Meetings
GEO:44.7184924;-67.4532582
X-APPLE-STRUCTURED-LOCATION;VALUE=URI;X-ADDRESS=Machias Town Hall 7 Court Street Suite 1 Machias ME 04654 United States;X-APPLE-RADIUS=500;X-TITLE=7 Court Street\, Suite 1:geo:-67.4532582,44.7184924
END:VEVENT
BEGIN:VEVENT
DTSTART;TZID=UTC:20170302T180000
DTEND;TZID=UTC:20170302T200000
DTSTAMP:20260424T151747
CREATED:20160219T151457Z
LAST-MODIFIED:20241205T143320Z
UID:10000070-1488477600-1488484800@machiasme.gov
SUMMARY:Planning Board Meeting
DESCRIPTION:The Planning Board meets the first Wednesday of the month at 6 p.m.
URL:https://machiasme.gov/event/planning-board-meeting/2017-03-02/
LOCATION:Machias Town Hall\, 7 Court Street\, Suite 1\, Machias\, ME\, 04654\, United States
CATEGORIES:Town Meetings
GEO:44.7184924;-67.4532582
X-APPLE-STRUCTURED-LOCATION;VALUE=URI;X-ADDRESS=Machias Town Hall 7 Court Street Suite 1 Machias ME 04654 United States;X-APPLE-RADIUS=500;X-TITLE=7 Court Street\, Suite 1:geo:-67.4532582,44.7184924
END:VEVENT
BEGIN:VEVENT
DTSTART;TZID=UTC:20170301T190000
DTEND;TZID=UTC:20170301T200000
DTSTAMP:20260424T151747
CREATED:20160219T151457Z
LAST-MODIFIED:20170228T192858Z
UID:10000162-1488394800-1488398400@machiasme.gov
SUMMARY:Planning Board Mtg-Cancelled
DESCRIPTION:The Planning Board meeting cancelled due to no building permits to act on.
URL:https://machiasme.gov/event/planning-board-meeting-2017-03-01/
LOCATION:Machias Town Hall\, 7 Court Street\, Suite 1\, Machias\, ME\, 04654\, United States
CATEGORIES:Town Meetings
GEO:44.7184924;-67.4532582
X-APPLE-STRUCTURED-LOCATION;VALUE=URI;X-ADDRESS=Machias Town Hall 7 Court Street Suite 1 Machias ME 04654 United States;X-APPLE-RADIUS=500;X-TITLE=7 Court Street\, Suite 1:geo:-67.4532582,44.7184924
END:VEVENT
BEGIN:VEVENT
DTSTART;TZID=UTC:20170202T180000
DTEND;TZID=UTC:20170202T200000
DTSTAMP:20260424T151747
CREATED:20160219T151457Z
LAST-MODIFIED:20241205T143320Z
UID:10000069-1486058400-1486065600@machiasme.gov
SUMMARY:Planning Board Meeting
DESCRIPTION:The Planning Board meets the first Wednesday of the month at 6 p.m.
URL:https://machiasme.gov/event/planning-board-meeting/2017-02-02/
LOCATION:Machias Town Hall\, 7 Court Street\, Suite 1\, Machias\, ME\, 04654\, United States
CATEGORIES:Town Meetings
GEO:44.7184924;-67.4532582
X-APPLE-STRUCTURED-LOCATION;VALUE=URI;X-ADDRESS=Machias Town Hall 7 Court Street Suite 1 Machias ME 04654 United States;X-APPLE-RADIUS=500;X-TITLE=7 Court Street\, Suite 1:geo:-67.4532582,44.7184924
END:VEVENT
BEGIN:VEVENT
DTSTART;TZID=UTC:20170102T180000
DTEND;TZID=UTC:20170102T200000
DTSTAMP:20260424T151747
CREATED:20160219T151457Z
LAST-MODIFIED:20241205T143320Z
UID:10000068-1483380000-1483387200@machiasme.gov
SUMMARY:Planning Board Meeting
DESCRIPTION:The Planning Board meets the first Wednesday of the month at 6 p.m.
URL:https://machiasme.gov/event/planning-board-meeting/2017-01-02/
LOCATION:Machias Town Hall\, 7 Court Street\, Suite 1\, Machias\, ME\, 04654\, United States
CATEGORIES:Town Meetings
GEO:44.7184924;-67.4532582
X-APPLE-STRUCTURED-LOCATION;VALUE=URI;X-ADDRESS=Machias Town Hall 7 Court Street Suite 1 Machias ME 04654 United States;X-APPLE-RADIUS=500;X-TITLE=7 Court Street\, Suite 1:geo:-67.4532582,44.7184924
END:VEVENT
BEGIN:VEVENT
DTSTART;TZID=UTC:20161202T180000
DTEND;TZID=UTC:20161202T200000
DTSTAMP:20260424T151747
CREATED:20160219T151457Z
LAST-MODIFIED:20241205T143320Z
UID:10000067-1480701600-1480708800@machiasme.gov
SUMMARY:Planning Board Meeting
DESCRIPTION:The Planning Board meets the first Wednesday of the month at 6 p.m.
URL:https://machiasme.gov/event/planning-board-meeting/2016-12-02/
LOCATION:Machias Town Hall\, 7 Court Street\, Suite 1\, Machias\, ME\, 04654\, United States
CATEGORIES:Town Meetings
GEO:44.7184924;-67.4532582
X-APPLE-STRUCTURED-LOCATION;VALUE=URI;X-ADDRESS=Machias Town Hall 7 Court Street Suite 1 Machias ME 04654 United States;X-APPLE-RADIUS=500;X-TITLE=7 Court Street\, Suite 1:geo:-67.4532582,44.7184924
END:VEVENT
BEGIN:VEVENT
DTSTART;TZID=UTC:20161130T180000
DTEND;TZID=UTC:20161130T190000
DTSTAMP:20260424T151747
CREATED:20160219T145015Z
LAST-MODIFIED:20161117T170927Z
UID:10000429-1480528800-1480532400@machiasme.gov
SUMMARY:Board of Selectman's Meeting
DESCRIPTION:Board of Selectman’s meetings are the 2nd and 4th Wednesday of the month at 6 p.m. in the Town Office.
URL:https://machiasme.gov/event/board-of-selectmans-meeting-2016-11-23/
LOCATION:Machias Town Hall\, 7 Court Street\, Suite 1\, Machias\, ME\, 04654\, United States
CATEGORIES:Town Meetings
GEO:44.7184924;-67.4532582
X-APPLE-STRUCTURED-LOCATION;VALUE=URI;X-ADDRESS=Machias Town Hall 7 Court Street Suite 1 Machias ME 04654 United States;X-APPLE-RADIUS=500;X-TITLE=7 Court Street\, Suite 1:geo:-67.4532582,44.7184924
END:VEVENT
BEGIN:VEVENT
DTSTART;TZID=UTC:20161102T180000
DTEND;TZID=UTC:20161102T200000
DTSTAMP:20260424T151747
CREATED:20160219T151457Z
LAST-MODIFIED:20241205T143320Z
UID:10000066-1478109600-1478116800@machiasme.gov
SUMMARY:Planning Board Meeting
DESCRIPTION:The Planning Board meets the first Wednesday of the month at 6 p.m.
URL:https://machiasme.gov/event/planning-board-meeting/2016-11-02/
LOCATION:Machias Town Hall\, 7 Court Street\, Suite 1\, Machias\, ME\, 04654\, United States
CATEGORIES:Town Meetings
GEO:44.7184924;-67.4532582
X-APPLE-STRUCTURED-LOCATION;VALUE=URI;X-ADDRESS=Machias Town Hall 7 Court Street Suite 1 Machias ME 04654 United States;X-APPLE-RADIUS=500;X-TITLE=7 Court Street\, Suite 1:geo:-67.4532582,44.7184924
END:VEVENT
BEGIN:VEVENT
DTSTART;TZID=UTC:20161002T180000
DTEND;TZID=UTC:20161002T200000
DTSTAMP:20260424T151747
CREATED:20160219T151457Z
LAST-MODIFIED:20241205T143320Z
UID:10000065-1475431200-1475438400@machiasme.gov
SUMMARY:Planning Board Meeting
DESCRIPTION:The Planning Board meets the first Wednesday of the month at 6 p.m.
URL:https://machiasme.gov/event/planning-board-meeting/2016-10-02/
LOCATION:Machias Town Hall\, 7 Court Street\, Suite 1\, Machias\, ME\, 04654\, United States
CATEGORIES:Town Meetings
GEO:44.7184924;-67.4532582
X-APPLE-STRUCTURED-LOCATION;VALUE=URI;X-ADDRESS=Machias Town Hall 7 Court Street Suite 1 Machias ME 04654 United States;X-APPLE-RADIUS=500;X-TITLE=7 Court Street\, Suite 1:geo:-67.4532582,44.7184924
END:VEVENT
BEGIN:VEVENT
DTSTART;TZID=UTC:20160902T180000
DTEND;TZID=UTC:20160902T200000
DTSTAMP:20260424T151747
CREATED:20160219T151457Z
LAST-MODIFIED:20241205T143320Z
UID:10000064-1472839200-1472846400@machiasme.gov
SUMMARY:Planning Board Meeting
DESCRIPTION:The Planning Board meets the first Wednesday of the month at 6 p.m.
URL:https://machiasme.gov/event/planning-board-meeting/2016-09-02/
LOCATION:Machias Town Hall\, 7 Court Street\, Suite 1\, Machias\, ME\, 04654\, United States
CATEGORIES:Town Meetings
GEO:44.7184924;-67.4532582
X-APPLE-STRUCTURED-LOCATION;VALUE=URI;X-ADDRESS=Machias Town Hall 7 Court Street Suite 1 Machias ME 04654 United States;X-APPLE-RADIUS=500;X-TITLE=7 Court Street\, Suite 1:geo:-67.4532582,44.7184924
END:VEVENT
BEGIN:VEVENT
DTSTART;TZID=UTC:20160802T180000
DTEND;TZID=UTC:20160802T200000
DTSTAMP:20260424T151747
CREATED:20160219T151457Z
LAST-MODIFIED:20241205T143320Z
UID:10000063-1470160800-1470168000@machiasme.gov
SUMMARY:Planning Board Meeting
DESCRIPTION:The Planning Board meets the first Wednesday of the month at 6 p.m.
URL:https://machiasme.gov/event/planning-board-meeting/2016-08-02/
LOCATION:Machias Town Hall\, 7 Court Street\, Suite 1\, Machias\, ME\, 04654\, United States
CATEGORIES:Town Meetings
GEO:44.7184924;-67.4532582
X-APPLE-STRUCTURED-LOCATION;VALUE=URI;X-ADDRESS=Machias Town Hall 7 Court Street Suite 1 Machias ME 04654 United States;X-APPLE-RADIUS=500;X-TITLE=7 Court Street\, Suite 1:geo:-67.4532582,44.7184924
END:VEVENT
BEGIN:VEVENT
DTSTART;TZID=UTC:20160702T180000
DTEND;TZID=UTC:20160702T200000
DTSTAMP:20260424T151747
CREATED:20160219T151457Z
LAST-MODIFIED:20241205T143320Z
UID:10000062-1467482400-1467489600@machiasme.gov
SUMMARY:Planning Board Meeting
DESCRIPTION:The Planning Board meets the first Wednesday of the month at 6 p.m.
URL:https://machiasme.gov/event/planning-board-meeting/2016-07-02/
LOCATION:Machias Town Hall\, 7 Court Street\, Suite 1\, Machias\, ME\, 04654\, United States
CATEGORIES:Town Meetings
GEO:44.7184924;-67.4532582
X-APPLE-STRUCTURED-LOCATION;VALUE=URI;X-ADDRESS=Machias Town Hall 7 Court Street Suite 1 Machias ME 04654 United States;X-APPLE-RADIUS=500;X-TITLE=7 Court Street\, Suite 1:geo:-67.4532582,44.7184924
END:VEVENT
BEGIN:VEVENT
DTSTART;TZID=UTC:20160602T180000
DTEND;TZID=UTC:20160602T200000
DTSTAMP:20260424T151747
CREATED:20160219T151457Z
LAST-MODIFIED:20241205T143320Z
UID:10000061-1464890400-1464897600@machiasme.gov
SUMMARY:Planning Board Meeting
DESCRIPTION:The Planning Board meets the first Wednesday of the month at 6 p.m.
URL:https://machiasme.gov/event/planning-board-meeting/2016-06-02/
LOCATION:Machias Town Hall\, 7 Court Street\, Suite 1\, Machias\, ME\, 04654\, United States
CATEGORIES:Town Meetings
GEO:44.7184924;-67.4532582
X-APPLE-STRUCTURED-LOCATION;VALUE=URI;X-ADDRESS=Machias Town Hall 7 Court Street Suite 1 Machias ME 04654 United States;X-APPLE-RADIUS=500;X-TITLE=7 Court Street\, Suite 1:geo:-67.4532582,44.7184924
END:VEVENT
BEGIN:VEVENT
DTSTART;TZID=UTC:20160502T180000
DTEND;TZID=UTC:20160502T200000
DTSTAMP:20260424T151747
CREATED:20160219T151457Z
LAST-MODIFIED:20241205T143320Z
UID:10000060-1462212000-1462219200@machiasme.gov
SUMMARY:Planning Board Meeting
DESCRIPTION:The Planning Board meets the first Wednesday of the month at 6 p.m.
URL:https://machiasme.gov/event/planning-board-meeting/2016-05-02/
LOCATION:Machias Town Hall\, 7 Court Street\, Suite 1\, Machias\, ME\, 04654\, United States
CATEGORIES:Town Meetings
GEO:44.7184924;-67.4532582
X-APPLE-STRUCTURED-LOCATION;VALUE=URI;X-ADDRESS=Machias Town Hall 7 Court Street Suite 1 Machias ME 04654 United States;X-APPLE-RADIUS=500;X-TITLE=7 Court Street\, Suite 1:geo:-67.4532582,44.7184924
END:VEVENT
BEGIN:VEVENT
DTSTART;TZID=UTC:20160418T180000
DTEND;TZID=UTC:20160418T190000
DTSTAMP:20260424T151747
CREATED:20160219T153753Z
LAST-MODIFIED:20160219T153753Z
UID:10000012-1461002400-1461006000@machiasme.gov
SUMMARY:Airport Committee Meeting
DESCRIPTION:The Airport Committee meets the Monday\, the week before the Board of Selectmen meeting at 6 p.m.
URL:https://machiasme.gov/event/airport-committee-meeting-4/
LOCATION:ME
CATEGORIES:Town Meetings
END:VEVENT
BEGIN:VEVENT
DTSTART;TZID=UTC:20160404T180000
DTEND;TZID=UTC:20160404T190000
DTSTAMP:20260424T151747
CREATED:20160219T153700Z
LAST-MODIFIED:20160219T153700Z
UID:10000011-1459792800-1459796400@machiasme.gov
SUMMARY:Airport Committee Meeting
DESCRIPTION:The Airport Committee meets the Monday\, the week before the Board of Selectmen meeting at 6 p.m.
URL:https://machiasme.gov/event/airport-committee-meeting-3/
LOCATION:ME
CATEGORIES:Town Meetings
END:VEVENT
BEGIN:VEVENT
DTSTART;TZID=UTC:20160402T180000
DTEND;TZID=UTC:20160402T200000
DTSTAMP:20260424T151747
CREATED:20160219T151457Z
LAST-MODIFIED:20241205T143320Z
UID:10000059-1459620000-1459627200@machiasme.gov
SUMMARY:Planning Board Meeting
DESCRIPTION:The Planning Board meets the first Wednesday of the month at 6 p.m.
URL:https://machiasme.gov/event/planning-board-meeting/2016-04-02/
LOCATION:Machias Town Hall\, 7 Court Street\, Suite 1\, Machias\, ME\, 04654\, United States
CATEGORIES:Town Meetings
GEO:44.7184924;-67.4532582
X-APPLE-STRUCTURED-LOCATION;VALUE=URI;X-ADDRESS=Machias Town Hall 7 Court Street Suite 1 Machias ME 04654 United States;X-APPLE-RADIUS=500;X-TITLE=7 Court Street\, Suite 1:geo:-67.4532582,44.7184924
END:VEVENT
BEGIN:VEVENT
DTSTART;TZID=UTC:20160330T190000
DTEND;TZID=UTC:20160330T200000
DTSTAMP:20260424T151747
CREATED:20160329T230832Z
LAST-MODIFIED:20160329T230832Z
UID:10000476-1459364400-1459368000@machiasme.gov
SUMMARY:Review of the School Budget
DESCRIPTION:
URL:https://machiasme.gov/event/review-of-the-school-budget/
LOCATION:ME
CATEGORIES:Town Meetings
END:VEVENT
BEGIN:VEVENT
DTSTART;TZID=UTC:20160328T180000
DTEND;TZID=UTC:20160328T190000
DTSTAMP:20260424T151747
CREATED:20160329T230337Z
LAST-MODIFIED:20160329T230337Z
UID:10000022-1459188000-1459191600@machiasme.gov
SUMMARY:Airport Committee Meeting
DESCRIPTION:The Airport Committee meets the Monday\, the week before the Board of Selectmen meeting at 6 p.m.
URL:https://machiasme.gov/event/airport-committee-meeting-5/
LOCATION:ME
CATEGORIES:Town Meetings
END:VEVENT
BEGIN:VEVENT
DTSTART;TZID=UTC:20160323T190000
DTEND;TZID=UTC:20160323T200000
DTSTAMP:20260424T151747
CREATED:20160329T231112Z
LAST-MODIFIED:20160329T231112Z
UID:10000479-1458759600-1458763200@machiasme.gov
SUMMARY:Tele-Business Center\, Debt Service\, Planning Board
DESCRIPTION:
URL:https://machiasme.gov/event/tele-business-center-debt-service-planning-board/
LOCATION:ME
CATEGORIES:Town Meetings
END:VEVENT
BEGIN:VEVENT
DTSTART;TZID=UTC:20160316T190000
DTEND;TZID=UTC:20160316T200000
DTSTAMP:20260424T151747
CREATED:20160329T231206Z
LAST-MODIFIED:20160329T231206Z
UID:10000483-1458154800-1458158400@machiasme.gov
SUMMARY:3 rd Party Request\, Airport\, General Assistance\, Wastewater Treatment Plant
DESCRIPTION:
URL:https://machiasme.gov/event/3-rd-party-request-airport-general-assistance-wastewater-treatment-plant/
LOCATION:ME
CATEGORIES:Town Meetings
END:VEVENT
END:VCALENDAR