BEGIN:VCALENDAR
VERSION:2.0
PRODID:-//Town of Machias - ECPv6.15.20//NONSGML v1.0//EN
CALSCALE:GREGORIAN
METHOD:PUBLISH
X-WR-CALNAME:Town of Machias
X-ORIGINAL-URL:https://machiasme.gov
X-WR-CALDESC:Events for Town of Machias
REFRESH-INTERVAL;VALUE=DURATION:PT1H
X-Robots-Tag:noindex
X-PUBLISHED-TTL:PT1H
BEGIN:VTIMEZONE
TZID:UTC
BEGIN:STANDARD
TZOFFSETFROM:+0000
TZOFFSETTO:+0000
TZNAME:UTC
DTSTART:20230101T000000
END:STANDARD
END:VTIMEZONE
BEGIN:VEVENT
DTSTART;TZID=UTC:20240702T180000
DTEND;TZID=UTC:20240702T200000
DTSTAMP:20260425T111301
CREATED:20160219T151457Z
LAST-MODIFIED:20241205T143320Z
UID:10000153-1719943200-1719950400@machiasme.gov
SUMMARY:Planning Board Meeting
DESCRIPTION:The Planning Board meets the first Wednesday of the month at 6 p.m.
URL:https://machiasme.gov/event/planning-board-meeting/2024-07-02/
LOCATION:Machias Town Hall\, 7 Court Street\, Suite 1\, Machias\, ME\, 04654\, United States
CATEGORIES:Town Meetings
GEO:44.7184924;-67.4532582
X-APPLE-STRUCTURED-LOCATION;VALUE=URI;X-ADDRESS=Machias Town Hall 7 Court Street Suite 1 Machias ME 04654 United States;X-APPLE-RADIUS=500;X-TITLE=7 Court Street\, Suite 1:geo:-67.4532582,44.7184924
END:VEVENT
BEGIN:VEVENT
DTSTART;TZID=UTC:20240703T190000
DTEND;TZID=UTC:20240703T200000
DTSTAMP:20260425T111301
CREATED:20160219T151457Z
LAST-MODIFIED:20240701T172444Z
UID:10000025-1720033200-1720036800@machiasme.gov
SUMMARY:Planning Board Meeting is cancelled
DESCRIPTION:The Planning Board meets the first Wednesday of the month at 7 p.m.
URL:https://machiasme.gov/event/planning-board-meeting-2024-07-03/
LOCATION:Machias Town Hall\, 7 Court Street\, Suite 1\, Machias\, ME\, 04654\, United States
CATEGORIES:Town Meetings
GEO:44.7184924;-67.4532582
X-APPLE-STRUCTURED-LOCATION;VALUE=URI;X-ADDRESS=Machias Town Hall 7 Court Street Suite 1 Machias ME 04654 United States;X-APPLE-RADIUS=500;X-TITLE=7 Court Street\, Suite 1:geo:-67.4532582,44.7184924
END:VEVENT
END:VCALENDAR