BEGIN:VCALENDAR
VERSION:2.0
PRODID:-//Town of Machias - ECPv6.15.20//NONSGML v1.0//EN
CALSCALE:GREGORIAN
METHOD:PUBLISH
X-WR-CALNAME:Town of Machias
X-ORIGINAL-URL:https://machiasme.gov
X-WR-CALDESC:Events for Town of Machias
REFRESH-INTERVAL;VALUE=DURATION:PT1H
X-Robots-Tag:noindex
X-PUBLISHED-TTL:PT1H
BEGIN:VTIMEZONE
TZID:UTC
BEGIN:STANDARD
TZOFFSETFROM:+0000
TZOFFSETTO:+0000
TZNAME:UTC
DTSTART:20250101T000000
END:STANDARD
END:VTIMEZONE
BEGIN:VEVENT
DTSTART;TZID=UTC:20260422T173000
DTEND;TZID=UTC:20260422T200000
DTSTAMP:20260423T102610
CREATED:20260421T165730Z
LAST-MODIFIED:20260421T165730Z
UID:10001518-1776879000-1776888000@machiasme.gov
SUMMARY:Budget Committee/Select Board Meeting - Immediately following Select Board  Mtg
DESCRIPTION:Click here for Link
URL:https://machiasme.gov/event/budget-committee-select-board-meeting-immediately-following-select-board-mtg/
LOCATION:The Machias Tele-Business Center & Google Meet Link\, 17 Stackpole Dr\, Machias\, ME\, 04654\, United States
END:VEVENT
BEGIN:VEVENT
DTSTART;TZID=UTC:20260422T170000
DTEND;TZID=UTC:20260422T190000
DTSTAMP:20260423T102610
CREATED:20260112T154409Z
LAST-MODIFIED:20260112T154409Z
UID:10001480-1776877200-1776884400@machiasme.gov
SUMMARY:Machias Select Board Meeting
DESCRIPTION:
URL:https://machiasme.gov/event/machias-select-board-meeting-8/2026-04-22/
LOCATION:The Machias Tele-Business Center & Google Meet Link\, 17 Stackpole Dr\, Machias\, ME\, 04654\, United States
END:VEVENT
BEGIN:VEVENT
DTSTART;VALUE=DATE:20260420
DTEND;VALUE=DATE:20260421
DTSTAMP:20260423T102610
CREATED:20260415T133349Z
LAST-MODIFIED:20260415T133349Z
UID:10001517-1776643200-1776729599@machiasme.gov
SUMMARY:MACHIAS TOWN OFFICE WILL BE CLOSED FOR PATRIOT'S DAY
DESCRIPTION:
URL:https://machiasme.gov/event/machias-town-office-will-be-closed-for-patriots-day-3/
LOCATION:ME
END:VEVENT
BEGIN:VEVENT
DTSTART;TZID=UTC:20260416T173000
DTEND;TZID=UTC:20260416T200000
DTSTAMP:20260423T102610
CREATED:20260410T132938Z
LAST-MODIFIED:20260410T132938Z
UID:10001515-1776360600-1776369600@machiasme.gov
SUMMARY:Select Board/Budget Committee Meeting
DESCRIPTION:Click here for Google Link
URL:https://machiasme.gov/event/select-board-budget-committee-meeting/
LOCATION:The Machias Tele-Business Center & Google Meet Link\, 17 Stackpole Dr\, Machias\, ME\, 04654\, United States
END:VEVENT
BEGIN:VEVENT
DTSTART;VALUE=DATE:20260414
DTEND;VALUE=DATE:20260415
DTSTAMP:20260423T102610
CREATED:20260413T143352Z
LAST-MODIFIED:20260413T143352Z
UID:10001516-1776124800-1776211199@machiasme.gov
SUMMARY:Machias Water Company will start flushing hydrants this week
DESCRIPTION:
URL:https://machiasme.gov/event/machias-water-company-will-start-flushing-hydrants-this-week/
LOCATION:ME
END:VEVENT
BEGIN:VEVENT
DTSTART;TZID=UTC:20260408T173000
DTEND;TZID=UTC:20260408T200000
DTSTAMP:20260423T102610
CREATED:20260406T175605Z
LAST-MODIFIED:20260406T175656Z
UID:10001514-1775669400-1775678400@machiasme.gov
SUMMARY:Machias Select Board and Budget Committee Meeting
DESCRIPTION:Click here for Google Link
URL:https://machiasme.gov/event/machias-select-board-and-budget-committee-meeting-8/
LOCATION:The Machias Tele-Business Center & Google Meet Link\, 17 Stackpole Dr\, Machias\, ME\, 04654\, United States
END:VEVENT
BEGIN:VEVENT
DTSTART;TZID=UTC:20260408T170000
DTEND;TZID=UTC:20260408T190000
DTSTAMP:20260423T102610
CREATED:20260112T154409Z
LAST-MODIFIED:20260112T154409Z
UID:10001479-1775667600-1775674800@machiasme.gov
SUMMARY:Machias Select Board Meeting
DESCRIPTION:
URL:https://machiasme.gov/event/machias-select-board-meeting-8/2026-04-08/
LOCATION:The Machias Tele-Business Center & Google Meet Link\, 17 Stackpole Dr\, Machias\, ME\, 04654\, United States
END:VEVENT
BEGIN:VEVENT
DTSTART;TZID=UTC:20260403T083000
DTEND;TZID=UTC:20260403T123000
DTSTAMP:20260423T102610
CREATED:20260324T192543Z
LAST-MODIFIED:20260324T192543Z
UID:10001512-1775205000-1775219400@machiasme.gov
SUMMARY:MACHIAS TOWN OFFICE WILL BE CLOSED FOR CVR TRAINING
DESCRIPTION:
URL:https://machiasme.gov/event/machias-town-office-will-be-closed-for-cvr-training/2026-04-03/
LOCATION:ME
END:VEVENT
BEGIN:VEVENT
DTSTART;TZID=UTC:20260402T170000
DTEND;TZID=UTC:20260402T190000
DTSTAMP:20260423T102610
CREATED:20260324T150801Z
LAST-MODIFIED:20260324T150801Z
UID:10001510-1775149200-1775156400@machiasme.gov
SUMMARY:Machias Select Board and Budget Committee Meeting
DESCRIPTION:
URL:https://machiasme.gov/event/machias-select-board-and-budget-committee-meeting-7/
LOCATION:The Machias Tele-Business Center & Google Meet Link\, 17 Stackpole Dr\, Machias\, ME\, 04654\, United States
END:VEVENT
BEGIN:VEVENT
DTSTART;TZID=UTC:20260402T144500
DTEND;TZID=UTC:20260402T160000
DTSTAMP:20260423T102610
CREATED:20260402T125000Z
LAST-MODIFIED:20260402T125000Z
UID:10001513-1775141100-1775145600@machiasme.gov
SUMMARY:Machias Town Office will be closed
DESCRIPTION:
URL:https://machiasme.gov/event/machias-town-office-will-be-closed-7/
LOCATION:ME
END:VEVENT
BEGIN:VEVENT
DTSTART;TZID=UTC:20260401T170000
DTEND;TZID=UTC:20260401T190000
DTSTAMP:20260423T102610
CREATED:20160219T151457Z
LAST-MODIFIED:20251222T163800Z
UID:10000461-1775062800-1775070000@machiasme.gov
SUMMARY:Planning Board Meeting
DESCRIPTION:The Planning Board meets the first Wednesday of the month at 5 p.m.
URL:https://machiasme.gov/event/planning-board-meeting-2026-04-02/
LOCATION:The Machias Tele-Business Center\, 17 Stackpole Dr\, Machias\, ME\, 04654\, United States
CATEGORIES:Town Meetings
END:VEVENT
BEGIN:VEVENT
DTSTART;TZID=UTC:20260331T083000
DTEND;TZID=UTC:20260331T123000
DTSTAMP:20260423T102610
CREATED:20260324T192543Z
LAST-MODIFIED:20260324T192543Z
UID:10001511-1774945800-1774960200@machiasme.gov
SUMMARY:MACHIAS TOWN OFFICE WILL BE CLOSED FOR CVR TRAINING
DESCRIPTION:
URL:https://machiasme.gov/event/machias-town-office-will-be-closed-for-cvr-training/2026-03-31/
LOCATION:ME
END:VEVENT
BEGIN:VEVENT
DTSTART;TZID=UTC:20260325T173000
DTEND;TZID=UTC:20260325T200000
DTSTAMP:20260423T102610
CREATED:20260324T150627Z
LAST-MODIFIED:20260324T150627Z
UID:10001509-1774459800-1774468800@machiasme.gov
SUMMARY:Machias Select Board and Budget Committee Meeting
DESCRIPTION:click here for google link
URL:https://machiasme.gov/event/machias-select-board-and-budget-committee-meeting-6/
LOCATION:The Machias Tele-Business Center & Google Meet Link\, 17 Stackpole Dr\, Machias\, ME\, 04654\, United States
END:VEVENT
BEGIN:VEVENT
DTSTART;TZID=UTC:20260325T170000
DTEND;TZID=UTC:20260325T190000
DTSTAMP:20260423T102610
CREATED:20260112T154409Z
LAST-MODIFIED:20260112T154409Z
UID:10001478-1774458000-1774465200@machiasme.gov
SUMMARY:Machias Select Board Meeting
DESCRIPTION:
URL:https://machiasme.gov/event/machias-select-board-meeting-8/2026-03-25/
LOCATION:The Machias Tele-Business Center & Google Meet Link\, 17 Stackpole Dr\, Machias\, ME\, 04654\, United States
END:VEVENT
BEGIN:VEVENT
DTSTART;TZID=UTC:20260323T180000
DTEND;TZID=UTC:20260323T190000
DTSTAMP:20260423T102610
CREATED:20260317T185945Z
LAST-MODIFIED:20260317T185945Z
UID:10001508-1774288800-1774292400@machiasme.gov
SUMMARY:AOS96 Budget Meeting
DESCRIPTION:Click here for warrant
URL:https://machiasme.gov/event/aos96-budget-meeting-2/
LOCATION:Elm Street School\, 38 Jacksonville Rd\, East Machias\, 04630\, United States
END:VEVENT
BEGIN:VEVENT
DTSTART;TZID=UTC:20260319T173000
DTEND;TZID=UTC:20260319T200000
DTSTAMP:20260423T102610
CREATED:20260316T192115Z
LAST-MODIFIED:20260316T192115Z
UID:10001507-1773941400-1773950400@machiasme.gov
SUMMARY:Machias Select Board and Budget Committee Meeting
DESCRIPTION:Click here for Agenda
URL:https://machiasme.gov/event/machias-select-board-and-budget-committee-meeting-5/
LOCATION:The Machias Tele-Business Center & Google Meet Link\, 17 Stackpole Dr\, Machias\, ME\, 04654\, United States
END:VEVENT
BEGIN:VEVENT
DTSTART;TZID=UTC:20260312T160000
DTEND;TZID=UTC:20260312T170000
DTSTAMP:20260423T102610
CREATED:20260311T130255Z
LAST-MODIFIED:20260311T130255Z
UID:10001506-1773331200-1773334800@machiasme.gov
SUMMARY:AOS96 BOARD OF DIRECTORS
DESCRIPTION:click here for Agenda
URL:https://machiasme.gov/event/aos96-board-of-directors/
LOCATION:superintendent’s Office\, 291 Court Street\, Machias\, ME\, 04654\, United States
END:VEVENT
BEGIN:VEVENT
DTSTART;TZID=UTC:20260311T173000
DTEND;TZID=UTC:20260311T200000
DTSTAMP:20260423T102610
CREATED:20260309T184014Z
LAST-MODIFIED:20260309T184052Z
UID:10001505-1773250200-1773259200@machiasme.gov
SUMMARY:Budget Committee/Select Board Meeting Immediately following the Select Board Meeting
DESCRIPTION:click here for Google Link
URL:https://machiasme.gov/event/budget-committee-select-board-meeting-immediately-following-the-select-board-meeting/
LOCATION:The Machias Tele-Business Center & Google Meet Link\, 17 Stackpole Dr\, Machias\, ME\, 04654\, United States
END:VEVENT
BEGIN:VEVENT
DTSTART;TZID=UTC:20260311T170000
DTEND;TZID=UTC:20260311T190000
DTSTAMP:20260423T102610
CREATED:20260112T154409Z
LAST-MODIFIED:20260112T154409Z
UID:10001477-1773248400-1773255600@machiasme.gov
SUMMARY:Machias Select Board Meeting
DESCRIPTION:
URL:https://machiasme.gov/event/machias-select-board-meeting-8/2026-03-11/
LOCATION:The Machias Tele-Business Center & Google Meet Link\, 17 Stackpole Dr\, Machias\, ME\, 04654\, United States
END:VEVENT
BEGIN:VEVENT
DTSTART;TZID=UTC:20260305T173000
DTEND;TZID=UTC:20260305T200000
DTSTAMP:20260423T102610
CREATED:20260302T175050Z
LAST-MODIFIED:20260302T175050Z
UID:10001504-1772731800-1772740800@machiasme.gov
SUMMARY:Budget Committee and Select Board Meeting
DESCRIPTION:click here for the Google Meet Link \nClick here for Agenda
URL:https://machiasme.gov/event/budget-committee-and-select-board-meeting/
LOCATION:The Machias Tele-Business Center\, 17 Stackpole Dr\, Machias\, ME\, 04654\, United States
END:VEVENT
BEGIN:VEVENT
DTSTART;TZID=UTC:20260304T170000
DTEND;TZID=UTC:20260304T190000
DTSTAMP:20260423T102610
CREATED:20160219T151457Z
LAST-MODIFIED:20260225T200020Z
UID:10000008-1772643600-1772650800@machiasme.gov
SUMMARY:Planning Board Meeting
DESCRIPTION:The Planning Board meets the first Wednesday of the month at 5 p.m.
URL:https://machiasme.gov/event/planning-board-meeting-2026-03-02/
LOCATION:The Machias Tele-Business Center\, 17 Stackpole Dr\, Machias\, ME\, 04654\, United States
CATEGORIES:Town Meetings
END:VEVENT
BEGIN:VEVENT
DTSTART;TZID=UTC:20260225T173000
DTEND;TZID=UTC:20260225T190000
DTSTAMP:20260423T102610
CREATED:20260223T140720Z
LAST-MODIFIED:20260223T141159Z
UID:10001503-1772040600-1772046000@machiasme.gov
SUMMARY:Budget Committee/Select Board Meeting Immediately following Select Board Meeting
DESCRIPTION:Click here for agenda \nLink for Google
URL:https://machiasme.gov/event/budget-committee-select-board-meeting/
LOCATION:The Machias Tele-Business Center & Google Meet Link\, 17 Stackpole Dr\, Machias\, ME\, 04654\, United States
END:VEVENT
BEGIN:VEVENT
DTSTART;TZID=UTC:20260225T170000
DTEND;TZID=UTC:20260225T190000
DTSTAMP:20260423T102610
CREATED:20260112T154409Z
LAST-MODIFIED:20260112T154409Z
UID:10001476-1772038800-1772046000@machiasme.gov
SUMMARY:Machias Select Board Meeting
DESCRIPTION:
URL:https://machiasme.gov/event/machias-select-board-meeting-8/2026-02-25/
LOCATION:The Machias Tele-Business Center & Google Meet Link\, 17 Stackpole Dr\, Machias\, ME\, 04654\, United States
END:VEVENT
BEGIN:VEVENT
DTSTART;VALUE=DATE:20260216
DTEND;VALUE=DATE:20260217
DTSTAMP:20260423T102610
CREATED:20260209T144153Z
LAST-MODIFIED:20260209T144155Z
UID:10001501-1771200000-1771286399@machiasme.gov
SUMMARY:MACHIAS TOWN OFFICE WILL BE CLOSED FOR PRESIDENT'S DAY
DESCRIPTION:
URL:https://machiasme.gov/event/machias-town-office-will-be-closed-for-presidents-day-4/
LOCATION:ME
END:VEVENT
BEGIN:VEVENT
DTSTART;TZID=UTC:20260213T090000
DTEND;TZID=UTC:20260213T130000
DTSTAMP:20260423T102610
CREATED:20260209T144536Z
LAST-MODIFIED:20260209T144923Z
UID:10001502-1770973200-1770987600@machiasme.gov
SUMMARY:MACHIAS TOWN OFFICE WILL BE CLOSING AT 1:00 PM - STAFF APPRECIATION
DESCRIPTION:
URL:https://machiasme.gov/event/machias-town-office-will-be-closing-at-100-pm-staff-appreciation/
LOCATION:ME
END:VEVENT
BEGIN:VEVENT
DTSTART;TZID=UTC:20260211T170000
DTEND;TZID=UTC:20260211T190000
DTSTAMP:20260423T102610
CREATED:20260211T175423Z
LAST-MODIFIED:20260211T175425Z
UID:10001475-1770829200-1770836400@machiasme.gov
SUMMARY:Machias Select Board Meeting - Cancelled
DESCRIPTION:
URL:https://machiasme.gov/event/machias-select-board-meeting-8-2/
LOCATION:The Machias Tele-Business Center & Google Meet Link\, 17 Stackpole Dr\, Machias\, ME\, 04654\, United States
END:VEVENT
BEGIN:VEVENT
DTSTART;TZID=UTC:20260211T161500
DTEND;TZID=UTC:20260211T173000
DTSTAMP:20260423T102610
CREATED:20260209T143035Z
LAST-MODIFIED:20260209T143035Z
UID:10001500-1770826500-1770831000@machiasme.gov
SUMMARY:Machias School Committee Meeting
DESCRIPTION:
URL:https://machiasme.gov/event/machias-school-committee-meeting-33/
LOCATION:Machias Memorial High School – Room 6
END:VEVENT
BEGIN:VEVENT
DTSTART;TZID=UTC:20260205T090000
DTEND;TZID=UTC:20260205T130000
DTSTAMP:20260423T102610
CREATED:20260130T181431Z
LAST-MODIFIED:20260130T181431Z
UID:10001499-1770282000-1770296400@machiasme.gov
SUMMARY:Machias Town Office will be closed for election training
DESCRIPTION:
URL:https://machiasme.gov/event/machias-town-office-will-be-closed-for-election-training-2/2026-02-05/
LOCATION:ME
END:VEVENT
BEGIN:VEVENT
DTSTART;TZID=UTC:20260204T180000
DTEND;TZID=UTC:20260204T190000
DTSTAMP:20260423T102610
CREATED:20260127T134924Z
LAST-MODIFIED:20260127T134924Z
UID:10001497-1770228000-1770231600@machiasme.gov
SUMMARY:Public Hearing - Machias Planning Board
DESCRIPTION:
URL:https://machiasme.gov/event/public-hearing-machias-planning-board/
LOCATION:The Machias Tele-Business Center & Google Meet Link\, 17 Stackpole Dr\, Machias\, ME\, 04654\, United States
END:VEVENT
BEGIN:VEVENT
DTSTART;TZID=UTC:20260204T180000
DTEND;TZID=UTC:20260204T190000
DTSTAMP:20260423T102610
CREATED:20160219T151457Z
LAST-MODIFIED:20260114T161031Z
UID:10000009-1770228000-1770231600@machiasme.gov
SUMMARY:Planning Board Meeting Immediately following public hearing
DESCRIPTION:The Planning Board meets the first Wednesday of the month at 5 p.m.
URL:https://machiasme.gov/event/planning-board-meeting-2026-02-02/
LOCATION:The Machias Tele-Business Center\, 17 Stackpole Dr\, Machias\, ME\, 04654\, United States
CATEGORIES:Town Meetings
END:VEVENT
END:VCALENDAR