BEGIN:VCALENDAR
VERSION:2.0
PRODID:-//Town of Machias - ECPv6.15.20//NONSGML v1.0//EN
CALSCALE:GREGORIAN
METHOD:PUBLISH
X-WR-CALNAME:Town of Machias
X-ORIGINAL-URL:https://machiasme.gov
X-WR-CALDESC:Events for Town of Machias
REFRESH-INTERVAL;VALUE=DURATION:PT1H
X-Robots-Tag:noindex
X-PUBLISHED-TTL:PT1H
BEGIN:VTIMEZONE
TZID:UTC
BEGIN:STANDARD
TZOFFSETFROM:+0000
TZOFFSETTO:+0000
TZNAME:UTC
DTSTART:20250101T000000
END:STANDARD
END:VTIMEZONE
BEGIN:VEVENT
DTSTART;TZID=UTC:20260408T170000
DTEND;TZID=UTC:20260408T190000
DTSTAMP:20260423T103401
CREATED:20260112T154409Z
LAST-MODIFIED:20260112T154409Z
UID:10001479-1775667600-1775674800@machiasme.gov
SUMMARY:Machias Select Board Meeting
DESCRIPTION:
URL:https://machiasme.gov/event/machias-select-board-meeting-8/2026-04-08/
LOCATION:The Machias Tele-Business Center & Google Meet Link\, 17 Stackpole Dr\, Machias\, ME\, 04654\, United States
END:VEVENT
BEGIN:VEVENT
DTSTART;TZID=UTC:20260408T173000
DTEND;TZID=UTC:20260408T200000
DTSTAMP:20260423T103401
CREATED:20260406T175605Z
LAST-MODIFIED:20260406T175656Z
UID:10001514-1775669400-1775678400@machiasme.gov
SUMMARY:Machias Select Board and Budget Committee Meeting
DESCRIPTION:Click here for Google Link
URL:https://machiasme.gov/event/machias-select-board-and-budget-committee-meeting-8/
LOCATION:The Machias Tele-Business Center & Google Meet Link\, 17 Stackpole Dr\, Machias\, ME\, 04654\, United States
END:VEVENT
BEGIN:VEVENT
DTSTART;VALUE=DATE:20260414
DTEND;VALUE=DATE:20260415
DTSTAMP:20260423T103401
CREATED:20260413T143352Z
LAST-MODIFIED:20260413T143352Z
UID:10001516-1776124800-1776211199@machiasme.gov
SUMMARY:Machias Water Company will start flushing hydrants this week
DESCRIPTION:
URL:https://machiasme.gov/event/machias-water-company-will-start-flushing-hydrants-this-week/
LOCATION:ME
END:VEVENT
BEGIN:VEVENT
DTSTART;TZID=UTC:20260416T173000
DTEND;TZID=UTC:20260416T200000
DTSTAMP:20260423T103401
CREATED:20260410T132938Z
LAST-MODIFIED:20260410T132938Z
UID:10001515-1776360600-1776369600@machiasme.gov
SUMMARY:Select Board/Budget Committee Meeting
DESCRIPTION:Click here for Google Link
URL:https://machiasme.gov/event/select-board-budget-committee-meeting/
LOCATION:The Machias Tele-Business Center & Google Meet Link\, 17 Stackpole Dr\, Machias\, ME\, 04654\, United States
END:VEVENT
BEGIN:VEVENT
DTSTART;VALUE=DATE:20260420
DTEND;VALUE=DATE:20260421
DTSTAMP:20260423T103401
CREATED:20260415T133349Z
LAST-MODIFIED:20260415T133349Z
UID:10001517-1776643200-1776729599@machiasme.gov
SUMMARY:MACHIAS TOWN OFFICE WILL BE CLOSED FOR PATRIOT'S DAY
DESCRIPTION:
URL:https://machiasme.gov/event/machias-town-office-will-be-closed-for-patriots-day-3/
LOCATION:ME
END:VEVENT
BEGIN:VEVENT
DTSTART;TZID=UTC:20260422T170000
DTEND;TZID=UTC:20260422T190000
DTSTAMP:20260423T103401
CREATED:20260112T154409Z
LAST-MODIFIED:20260112T154409Z
UID:10001480-1776877200-1776884400@machiasme.gov
SUMMARY:Machias Select Board Meeting
DESCRIPTION:
URL:https://machiasme.gov/event/machias-select-board-meeting-8/2026-04-22/
LOCATION:The Machias Tele-Business Center & Google Meet Link\, 17 Stackpole Dr\, Machias\, ME\, 04654\, United States
END:VEVENT
BEGIN:VEVENT
DTSTART;TZID=UTC:20260422T173000
DTEND;TZID=UTC:20260422T200000
DTSTAMP:20260423T103401
CREATED:20260421T165730Z
LAST-MODIFIED:20260421T165730Z
UID:10001518-1776879000-1776888000@machiasme.gov
SUMMARY:Budget Committee/Select Board Meeting - Immediately following Select Board  Mtg
DESCRIPTION:Click here for Link
URL:https://machiasme.gov/event/budget-committee-select-board-meeting-immediately-following-select-board-mtg/
LOCATION:The Machias Tele-Business Center & Google Meet Link\, 17 Stackpole Dr\, Machias\, ME\, 04654\, United States
END:VEVENT
BEGIN:VEVENT
DTSTART;TZID=UTC:20260506T170000
DTEND;TZID=UTC:20260506T190000
DTSTAMP:20260423T103401
CREATED:20160219T151457Z
LAST-MODIFIED:20251222T163658Z
UID:10000462-1778086800-1778094000@machiasme.gov
SUMMARY:Planning Board Meeting
DESCRIPTION:The Planning Board meets the first Wednesday of the month at 5 p.m.
URL:https://machiasme.gov/event/planning-board-meeting-2026-05-02/
LOCATION:The Machias Tele-Business Center\, 17 Stackpole Dr\, Machias\, ME\, 04654\, United States
CATEGORIES:Town Meetings
END:VEVENT
BEGIN:VEVENT
DTSTART;TZID=UTC:20260513T170000
DTEND;TZID=UTC:20260513T190000
DTSTAMP:20260423T103401
CREATED:20260112T154409Z
LAST-MODIFIED:20260112T154409Z
UID:10001481-1778691600-1778698800@machiasme.gov
SUMMARY:Machias Select Board Meeting
DESCRIPTION:
URL:https://machiasme.gov/event/machias-select-board-meeting-8/2026-05-13/
LOCATION:The Machias Tele-Business Center & Google Meet Link\, 17 Stackpole Dr\, Machias\, ME\, 04654\, United States
END:VEVENT
BEGIN:VEVENT
DTSTART;TZID=UTC:20260527T170000
DTEND;TZID=UTC:20260527T190000
DTSTAMP:20260423T103401
CREATED:20260112T154409Z
LAST-MODIFIED:20260112T154409Z
UID:10001482-1779901200-1779908400@machiasme.gov
SUMMARY:Machias Select Board Meeting
DESCRIPTION:
URL:https://machiasme.gov/event/machias-select-board-meeting-8/2026-05-27/
LOCATION:The Machias Tele-Business Center & Google Meet Link\, 17 Stackpole Dr\, Machias\, ME\, 04654\, United States
END:VEVENT
BEGIN:VEVENT
DTSTART;TZID=UTC:20260603T170000
DTEND;TZID=UTC:20260603T190000
DTSTAMP:20260423T103401
CREATED:20160219T151457Z
LAST-MODIFIED:20251222T163550Z
UID:10000463-1780506000-1780513200@machiasme.gov
SUMMARY:Planning Board Meeting
DESCRIPTION:The Planning Board meets the first Wednesday of the month at 5 p.m.
URL:https://machiasme.gov/event/planning-board-meeting-2026-06-02/
LOCATION:The Machias Tele-Business Center & Google Meet Link\, 17 Stackpole Dr\, Machias\, ME\, 04654\, United States
CATEGORIES:Town Meetings
END:VEVENT
BEGIN:VEVENT
DTSTART;TZID=UTC:20260610T170000
DTEND;TZID=UTC:20260610T190000
DTSTAMP:20260423T103401
CREATED:20260112T154409Z
LAST-MODIFIED:20260112T154409Z
UID:10001483-1781110800-1781118000@machiasme.gov
SUMMARY:Machias Select Board Meeting
DESCRIPTION:
URL:https://machiasme.gov/event/machias-select-board-meeting-8/2026-06-10/
LOCATION:The Machias Tele-Business Center & Google Meet Link\, 17 Stackpole Dr\, Machias\, ME\, 04654\, United States
END:VEVENT
BEGIN:VEVENT
DTSTART;TZID=UTC:20260624T170000
DTEND;TZID=UTC:20260624T190000
DTSTAMP:20260423T103401
CREATED:20260112T154409Z
LAST-MODIFIED:20260112T154409Z
UID:10001484-1782320400-1782327600@machiasme.gov
SUMMARY:Machias Select Board Meeting
DESCRIPTION:
URL:https://machiasme.gov/event/machias-select-board-meeting-8/2026-06-24/
LOCATION:The Machias Tele-Business Center & Google Meet Link\, 17 Stackpole Dr\, Machias\, ME\, 04654\, United States
END:VEVENT
BEGIN:VEVENT
DTSTART;TZID=UTC:20260701T170000
DTEND;TZID=UTC:20260701T190000
DTSTAMP:20260423T103401
CREATED:20160219T151457Z
LAST-MODIFIED:20251222T163448Z
UID:10000465-1782925200-1782932400@machiasme.gov
SUMMARY:Planning Board Meeting
DESCRIPTION:The Planning Board meets the first Wednesday of the month at 5 p.m.
URL:https://machiasme.gov/event/planning-board-meeting-2026-07-02/
LOCATION:The Machias Tele-Business Center\, 17 Stackpole Dr\, Machias\, ME\, 04654\, United States
CATEGORIES:Town Meetings
END:VEVENT
BEGIN:VEVENT
DTSTART;TZID=UTC:20260708T170000
DTEND;TZID=UTC:20260708T190000
DTSTAMP:20260423T103401
CREATED:20260112T154409Z
LAST-MODIFIED:20260112T154409Z
UID:10001485-1783530000-1783537200@machiasme.gov
SUMMARY:Machias Select Board Meeting
DESCRIPTION:
URL:https://machiasme.gov/event/machias-select-board-meeting-8/2026-07-08/
LOCATION:The Machias Tele-Business Center & Google Meet Link\, 17 Stackpole Dr\, Machias\, ME\, 04654\, United States
END:VEVENT
BEGIN:VEVENT
DTSTART;TZID=UTC:20260722T170000
DTEND;TZID=UTC:20260722T190000
DTSTAMP:20260423T103401
CREATED:20260112T154409Z
LAST-MODIFIED:20260112T154409Z
UID:10001486-1784739600-1784746800@machiasme.gov
SUMMARY:Machias Select Board Meeting
DESCRIPTION:
URL:https://machiasme.gov/event/machias-select-board-meeting-8/2026-07-22/
LOCATION:The Machias Tele-Business Center & Google Meet Link\, 17 Stackpole Dr\, Machias\, ME\, 04654\, United States
END:VEVENT
BEGIN:VEVENT
DTSTART;TZID=UTC:20260805T170000
DTEND;TZID=UTC:20260805T190000
DTSTAMP:20260423T103401
CREATED:20160219T151457Z
LAST-MODIFIED:20251222T163406Z
UID:10000467-1785949200-1785956400@machiasme.gov
SUMMARY:Planning Board Meeting
DESCRIPTION:The Planning Board meets the first Wednesday of the month at 5 p.m.
URL:https://machiasme.gov/event/planning-board-meeting-2026-08-02/
LOCATION:The Machias Tele-Business Center\, 17 Stackpole Dr\, Machias\, ME\, 04654\, United States
CATEGORIES:Town Meetings
END:VEVENT
BEGIN:VEVENT
DTSTART;TZID=UTC:20260812T170000
DTEND;TZID=UTC:20260812T190000
DTSTAMP:20260423T103401
CREATED:20260112T154409Z
LAST-MODIFIED:20260112T154409Z
UID:10001487-1786554000-1786561200@machiasme.gov
SUMMARY:Machias Select Board Meeting
DESCRIPTION:
URL:https://machiasme.gov/event/machias-select-board-meeting-8/2026-08-12/
LOCATION:The Machias Tele-Business Center & Google Meet Link\, 17 Stackpole Dr\, Machias\, ME\, 04654\, United States
END:VEVENT
BEGIN:VEVENT
DTSTART;TZID=UTC:20260826T170000
DTEND;TZID=UTC:20260826T190000
DTSTAMP:20260423T103401
CREATED:20260112T154409Z
LAST-MODIFIED:20260112T154409Z
UID:10001488-1787763600-1787770800@machiasme.gov
SUMMARY:Machias Select Board Meeting
DESCRIPTION:
URL:https://machiasme.gov/event/machias-select-board-meeting-8/2026-08-26/
LOCATION:The Machias Tele-Business Center & Google Meet Link\, 17 Stackpole Dr\, Machias\, ME\, 04654\, United States
END:VEVENT
BEGIN:VEVENT
DTSTART;TZID=UTC:20260902T170000
DTEND;TZID=UTC:20260902T190000
DTSTAMP:20260423T103401
CREATED:20251222T164424Z
LAST-MODIFIED:20251222T164424Z
UID:10001441-1788368400-1788375600@machiasme.gov
SUMMARY:Planning Board Meeting
DESCRIPTION:
URL:https://machiasme.gov/event/planning-board-meeting-11/
LOCATION:The Machias Tele-Business Center & Google Meet Link\, 17 Stackpole Dr\, Machias\, ME\, 04654\, United States
END:VEVENT
BEGIN:VEVENT
DTSTART;TZID=UTC:20260909T170000
DTEND;TZID=UTC:20260909T190000
DTSTAMP:20260423T103401
CREATED:20260112T154409Z
LAST-MODIFIED:20260112T154409Z
UID:10001489-1788973200-1788980400@machiasme.gov
SUMMARY:Machias Select Board Meeting
DESCRIPTION:
URL:https://machiasme.gov/event/machias-select-board-meeting-8/2026-09-09/
LOCATION:The Machias Tele-Business Center & Google Meet Link\, 17 Stackpole Dr\, Machias\, ME\, 04654\, United States
END:VEVENT
BEGIN:VEVENT
DTSTART;TZID=UTC:20260923T170000
DTEND;TZID=UTC:20260923T190000
DTSTAMP:20260423T103401
CREATED:20260112T154409Z
LAST-MODIFIED:20260112T154409Z
UID:10001490-1790182800-1790190000@machiasme.gov
SUMMARY:Machias Select Board Meeting
DESCRIPTION:
URL:https://machiasme.gov/event/machias-select-board-meeting-8/2026-09-23/
LOCATION:The Machias Tele-Business Center & Google Meet Link\, 17 Stackpole Dr\, Machias\, ME\, 04654\, United States
END:VEVENT
BEGIN:VEVENT
DTSTART;TZID=UTC:20261007T170000
DTEND;TZID=UTC:20261007T190000
DTSTAMP:20260423T103401
CREATED:20160219T151457Z
LAST-MODIFIED:20251222T163128Z
UID:10000468-1791392400-1791399600@machiasme.gov
SUMMARY:Planning Board Meeting
DESCRIPTION:The Planning Board meets the first Wednesday of the month at 5 p.m.
URL:https://machiasme.gov/event/planning-board-meeting-2026-10-02/
LOCATION:The Machias Tele-Business Center\, 17 Stackpole Dr\, Machias\, ME\, 04654\, United States
CATEGORIES:Town Meetings
END:VEVENT
BEGIN:VEVENT
DTSTART;TZID=UTC:20261014T170000
DTEND;TZID=UTC:20261014T190000
DTSTAMP:20260423T103401
CREATED:20260112T154409Z
LAST-MODIFIED:20260112T154409Z
UID:10001491-1791997200-1792004400@machiasme.gov
SUMMARY:Machias Select Board Meeting
DESCRIPTION:
URL:https://machiasme.gov/event/machias-select-board-meeting-8/2026-10-14/
LOCATION:The Machias Tele-Business Center & Google Meet Link\, 17 Stackpole Dr\, Machias\, ME\, 04654\, United States
END:VEVENT
BEGIN:VEVENT
DTSTART;TZID=UTC:20261028T170000
DTEND;TZID=UTC:20261028T190000
DTSTAMP:20260423T103401
CREATED:20260112T154409Z
LAST-MODIFIED:20260112T154409Z
UID:10001492-1793206800-1793214000@machiasme.gov
SUMMARY:Machias Select Board Meeting
DESCRIPTION:
URL:https://machiasme.gov/event/machias-select-board-meeting-8/2026-10-28/
LOCATION:The Machias Tele-Business Center & Google Meet Link\, 17 Stackpole Dr\, Machias\, ME\, 04654\, United States
END:VEVENT
BEGIN:VEVENT
DTSTART;TZID=UTC:20261104T170000
DTEND;TZID=UTC:20261104T190000
DTSTAMP:20260423T103401
CREATED:20160219T151457Z
LAST-MODIFIED:20251222T163229Z
UID:10000469-1793811600-1793818800@machiasme.gov
SUMMARY:Planning Board Meeting
DESCRIPTION:The Planning Board meets the first Wednesday of the month at 5 p.m.
URL:https://machiasme.gov/event/planning-board-meeting-2026-11-02/
LOCATION:The Machias Tele-Business Center\, 17 Stackpole Dr\, Machias\, ME\, 04654\, United States
CATEGORIES:Town Meetings
END:VEVENT
BEGIN:VEVENT
DTSTART;TZID=UTC:20261111T170000
DTEND;TZID=UTC:20261111T190000
DTSTAMP:20260423T103401
CREATED:20260112T154409Z
LAST-MODIFIED:20260112T154409Z
UID:10001493-1794416400-1794423600@machiasme.gov
SUMMARY:Machias Select Board Meeting
DESCRIPTION:
URL:https://machiasme.gov/event/machias-select-board-meeting-8/2026-11-11/
LOCATION:The Machias Tele-Business Center & Google Meet Link\, 17 Stackpole Dr\, Machias\, ME\, 04654\, United States
END:VEVENT
BEGIN:VEVENT
DTSTART;TZID=UTC:20261125T170000
DTEND;TZID=UTC:20261125T190000
DTSTAMP:20260423T103401
CREATED:20260112T154409Z
LAST-MODIFIED:20260112T154409Z
UID:10001494-1795626000-1795633200@machiasme.gov
SUMMARY:Machias Select Board Meeting
DESCRIPTION:
URL:https://machiasme.gov/event/machias-select-board-meeting-8/2026-11-25/
LOCATION:The Machias Tele-Business Center & Google Meet Link\, 17 Stackpole Dr\, Machias\, ME\, 04654\, United States
END:VEVENT
BEGIN:VEVENT
DTSTART;TZID=UTC:20261202T220000
DTEND;TZID=UTC:20261203T000000
DTSTAMP:20260423T103401
CREATED:20160219T151457Z
LAST-MODIFIED:20260303T161323Z
UID:10000470-1796248800-1796256000@machiasme.gov
SUMMARY:Planning Board Meeting
DESCRIPTION:The Planning Board meets the first Wednesday of the month at 5 p.m.
URL:https://machiasme.gov/event/planning-board-meeting-2026-12-02/
LOCATION:The Machias Tele-Business Center & Google Meet Link\, 17 Stackpole Dr\, Machias\, ME\, 04654\, United States
CATEGORIES:Town Meetings
END:VEVENT
BEGIN:VEVENT
DTSTART;TZID=UTC:20261209T170000
DTEND;TZID=UTC:20261209T190000
DTSTAMP:20260423T103401
CREATED:20260112T154409Z
LAST-MODIFIED:20260112T154409Z
UID:10001495-1796835600-1796842800@machiasme.gov
SUMMARY:Machias Select Board Meeting
DESCRIPTION:
URL:https://machiasme.gov/event/machias-select-board-meeting-8/2026-12-09/
LOCATION:The Machias Tele-Business Center & Google Meet Link\, 17 Stackpole Dr\, Machias\, ME\, 04654\, United States
END:VEVENT
END:VCALENDAR