BEGIN:VCALENDAR
VERSION:2.0
PRODID:-//Town of Machias - ECPv6.15.20//NONSGML v1.0//EN
CALSCALE:GREGORIAN
METHOD:PUBLISH
X-WR-CALNAME:Town of Machias
X-ORIGINAL-URL:https://machiasme.gov
X-WR-CALDESC:Events for Town of Machias
REFRESH-INTERVAL;VALUE=DURATION:PT1H
X-Robots-Tag:noindex
X-PUBLISHED-TTL:PT1H
BEGIN:VTIMEZONE
TZID:UTC
BEGIN:STANDARD
TZOFFSETFROM:+0000
TZOFFSETTO:+0000
TZNAME:UTC
DTSTART:20240101T000000
END:STANDARD
END:VTIMEZONE
BEGIN:VEVENT
DTSTART;TZID=UTC:20250429T163000
DTEND;TZID=UTC:20250429T190000
DTSTAMP:20260424T112722
CREATED:20250424T195336Z
LAST-MODIFIED:20250424T201117Z
UID:10001398-1745944200-1745953200@machiasme.gov
SUMMARY:Machias Select Board and Budget Meeting Immediately following Select Board Meeting
DESCRIPTION:Click here for Budget Agenda
URL:https://machiasme.gov/event/machias-select-board-and-budget-meeting-immediately-following-select-board-meeting/
LOCATION:The Machias Tele-Business Center\, 17 Stackpole Dr\, Machias\, ME\, 04654\, United States
END:VEVENT
BEGIN:VEVENT
DTSTART;TZID=UTC:20250429T160000
DTEND;TZID=UTC:20250429T163000
DTSTAMP:20260424T112722
CREATED:20250424T195207Z
LAST-MODIFIED:20250428T124521Z
UID:10001397-1745942400-1745944200@machiasme.gov
SUMMARY:Machias Select Board Meeting
DESCRIPTION:click here for BOS Agenda
URL:https://machiasme.gov/event/machias-select-board-meeting-4/
LOCATION:The Machias Tele-Business Center & Google Meet Link\, 17 Stackpole Dr\, Machias\, ME\, 04654\, United States
END:VEVENT
BEGIN:VEVENT
DTSTART;TZID=UTC:20250423T173000
DTEND;TZID=UTC:20250423T190000
DTSTAMP:20260424T112722
CREATED:20250418T181237Z
LAST-MODIFIED:20250419T130014Z
UID:10001396-1745429400-1745434800@machiasme.gov
SUMMARY:Machias Select Board and Budget Committee Meeting - Immediately following Select Board Meeting
DESCRIPTION:Click here for Budget Agenda
URL:https://machiasme.gov/event/machias-select-board-and-budget-committee-meeting-immediately-following-select-board-meeting/
LOCATION:ME
END:VEVENT
BEGIN:VEVENT
DTSTART;TZID=UTC:20250423T170000
DTEND;TZID=UTC:20250423T190000
DTSTAMP:20260424T112722
CREATED:20250317T191030Z
LAST-MODIFIED:20250418T180243Z
UID:10001386-1745427600-1745434800@machiasme.gov
SUMMARY:Machias Select Board Meeting
DESCRIPTION:Click here for Select Board Agenda
URL:https://machiasme.gov/event/machias-select-board-meeting-3/
LOCATION:The Machias Tele-Business Center & Google Meet Link\, 17 Stackpole Dr\, Machias\, ME\, 04654\, United States
END:VEVENT
BEGIN:VEVENT
DTSTART;TZID=UTC:20250421T180000
DTEND;TZID=UTC:20250421T200000
DTSTAMP:20260424T112722
CREATED:20250402T132743Z
LAST-MODIFIED:20250402T132743Z
UID:10001394-1745258400-1745265600@machiasme.gov
SUMMARY:Machias Comprehensive Planning Committee Meeting
DESCRIPTION:
URL:https://machiasme.gov/event/machias-comprehensive-planning-committee-meeting-6/
LOCATION:The Machias Tele-Business Center & Google Meet Link\, 17 Stackpole Dr\, Machias\, ME\, 04654\, United States
END:VEVENT
BEGIN:VEVENT
DTSTART;VALUE=DATE:20250421
DTEND;VALUE=DATE:20250422
DTSTAMP:20260424T112722
CREATED:20250106T185536Z
LAST-MODIFIED:20250106T185536Z
UID:10001341-1745193600-1745279999@machiasme.gov
SUMMARY:Machias Town Office will be closed for Patriot's Day
DESCRIPTION:
URL:https://machiasme.gov/event/machias-town-office-will-be-closed-for-patriots-day-2/
LOCATION:ME
END:VEVENT
BEGIN:VEVENT
DTSTART;TZID=UTC:20250416T160000
DTEND;TZID=UTC:20250416T170000
DTSTAMP:20260424T112722
CREATED:20250317T191745Z
LAST-MODIFIED:20250414T140648Z
UID:10001389-1744819200-1744822800@machiasme.gov
SUMMARY:Machias Budget Committee Meeting
DESCRIPTION:Click here for Budget Agenda
URL:https://machiasme.gov/event/machias-budget-committee-meeting-5/
LOCATION:The Machias Tele-Business Center & Google Meet Link\, 17 Stackpole Dr\, Machias\, ME\, 04654\, United States
END:VEVENT
BEGIN:VEVENT
DTSTART;TZID=UTC:20250409T180000
DTEND;TZID=UTC:20250409T210000
DTSTAMP:20260424T112722
CREATED:20250317T191641Z
LAST-MODIFIED:20250403T184135Z
UID:10001388-1744221600-1744232400@machiasme.gov
SUMMARY:Machias Budget Committee Meeting
DESCRIPTION:click here for Budget Meeting Agenda
URL:https://machiasme.gov/event/machias-budget-committee-meeting-4/
LOCATION:The Machias Tele-Business Center & Google Meet Link\, 17 Stackpole Dr\, Machias\, ME\, 04654\, United States
END:VEVENT
BEGIN:VEVENT
DTSTART;TZID=UTC:20250409T170000
DTEND;TZID=UTC:20250409T200000
DTSTAMP:20260424T112722
CREATED:20250307T154357Z
LAST-MODIFIED:20250403T184351Z
UID:10000813-1744218000-1744228800@machiasme.gov
SUMMARY:Machias Select Board Meeting
DESCRIPTION:Click here for BOS Agenda
URL:https://machiasme.gov/event/machias-select-board-meeting-5/
LOCATION:The Machias Tele-Business Center & Google Meet Link\, 17 Stackpole Dr\, Machias\, ME\, 04654\, United States
END:VEVENT
BEGIN:VEVENT
DTSTART;TZID=UTC:20250408T173000
DTEND;TZID=UTC:20250408T193000
DTSTAMP:20260424T112722
CREATED:20250317T143421Z
LAST-MODIFIED:20250408T132209Z
UID:10001385-1744133400-1744140600@machiasme.gov
SUMMARY:Machias Airport Committee Meeting
DESCRIPTION:Click here for Airport Agenda
URL:https://machiasme.gov/event/machias-airport-committee-meeting-4/
LOCATION:Machias Valley Airport\, Airport Rd\, Machias\, ME\, 04654\, United States
END:VEVENT
BEGIN:VEVENT
DTSTART;TZID=UTC:20250407T180000
DTEND;TZID=UTC:20250407T200000
DTSTAMP:20260424T112722
CREATED:20250402T132645Z
LAST-MODIFIED:20250402T132645Z
UID:10001393-1744048800-1744056000@machiasme.gov
SUMMARY:Machias Comprehensive Planning Committee Meeting
DESCRIPTION:Click here for Comprehensive Agenda
URL:https://machiasme.gov/event/machias-comprehensive-planning-committee-meeting-5/
LOCATION:The Machias Tele-Business Center\, 17 Stackpole Dr\, Machias\, ME\, 04654\, United States
END:VEVENT
BEGIN:VEVENT
DTSTART;TZID=UTC:20250407T180000
DTEND;TZID=UTC:20250407T190000
DTSTAMP:20260424T112722
CREATED:20250331T152812Z
LAST-MODIFIED:20250331T152919Z
UID:10001392-1744048800-1744052400@machiasme.gov
SUMMARY:AOS96 Budget Meeting
DESCRIPTION:Click here for AOS96 warrant
URL:https://machiasme.gov/event/aos96-budget-meeting/
LOCATION:Elm Street School\, 38 Jacksonville Rd\, East Machias\, 04630\, United States
END:VEVENT
BEGIN:VEVENT
DTSTART;TZID=UTC:20250402T180000
DTEND;TZID=UTC:20250402T200000
DTSTAMP:20260424T112722
CREATED:20241205T144638Z
LAST-MODIFIED:20241205T144638Z
UID:10000801-1743616800-1743624000@machiasme.gov
SUMMARY:Planning Board Meeting
DESCRIPTION:
URL:https://machiasme.gov/event/planning-board-meeting-9/
LOCATION:The Machias Tele-Business Center\, 17 Stackpole Dr\, Machias\, ME\, 04654\, United States
END:VEVENT
BEGIN:VEVENT
DTSTART;TZID=UTC:20250402T170000
DTEND;TZID=UTC:20250402T200000
DTSTAMP:20260424T112722
CREATED:20250317T191520Z
LAST-MODIFIED:20250327T172719Z
UID:10001387-1743613200-1743624000@machiasme.gov
SUMMARY:Machias Budget Committee Meeting
DESCRIPTION:Click here for Budget Agenda
URL:https://machiasme.gov/event/machias-budget-committee-meeting-3/
LOCATION:The Machias Tele-Business Center & Google Meet Link\, 17 Stackpole Dr\, Machias\, ME\, 04654\, United States
END:VEVENT
BEGIN:VEVENT
DTSTART;TZID=UTC:20250402T160000
DTEND;TZID=UTC:20250402T170000
DTSTAMP:20260424T112722
CREATED:20250327T130748Z
LAST-MODIFIED:20250327T130748Z
UID:10001391-1743609600-1743613200@machiasme.gov
SUMMARY:Machias School Committee Meeting
DESCRIPTION:
URL:https://machiasme.gov/event/machias-school-committee-meeting-29/
LOCATION:Machias Memorial High School – Room 6
END:VEVENT
BEGIN:VEVENT
DTSTART;TZID=UTC:20250326T173000
DTEND;TZID=UTC:20250326T180000
DTSTAMP:20260424T112722
CREATED:20250228T155604Z
LAST-MODIFIED:20250321T193304Z
UID:10000812-1743010200-1743012000@machiasme.gov
SUMMARY:Machias Select Board Meeting - Immediately following Special Town Meeting
DESCRIPTION:Click here for Select Board Agenda
URL:https://machiasme.gov/event/machias-select-board-meeting-2-3/
LOCATION:The Machias Tele-Business Center & Google Meet Link\, 17 Stackpole Dr\, Machias\, ME\, 04654\, United States
END:VEVENT
BEGIN:VEVENT
DTSTART;TZID=UTC:20250326T170000
DTEND;TZID=UTC:20250326T173000
DTSTAMP:20260424T112722
CREATED:20250311T141209Z
LAST-MODIFIED:20250313T164306Z
UID:10001383-1743008400-1743010200@machiasme.gov
SUMMARY:Special Town Meeting - Town of Machias
DESCRIPTION:Town of Machias – Special Town Meeting \nMarch 26\, 2025 @ Machias Tele-Business Center at 5PM\nARTICLE 1:  Elect a moderator.\nARTICLE 2:  To see if the Town will vote to adopt a 180-day moratorium on commercial solar development.\nARTICLE 3:  To see if the Town will vote to adopt a 180-day moratorium on commercial wind development.\nARTICLE 4:  To see if the Town will vote to adopt a modification to the Machias Sewer Use Ordinance to allow out-of-town customers to connect to the existing sewer infrastructure upon approval of the Machias Select Board\, and at the expense of the customer.
URL:https://machiasme.gov/event/special-town-meeting-town-of-machias-2/
LOCATION:The Machias Tele-Business Center & Google Meet Link\, 17 Stackpole Dr\, Machias\, ME\, 04654\, United States
END:VEVENT
BEGIN:VEVENT
DTSTART;TZID=UTC:20250326T160000
DTEND;TZID=UTC:20250326T170000
DTSTAMP:20260424T112722
CREATED:20250321T164123Z
LAST-MODIFIED:20250321T164123Z
UID:10001390-1743004800-1743008400@machiasme.gov
SUMMARY:AOS96 Board of Directors Meeting
DESCRIPTION:Click here for AOS96 Meeting Agenda
URL:https://machiasme.gov/event/aos96-board-of-directors-meeting-3/
LOCATION:Machias Memorial High School – Room 6
END:VEVENT
BEGIN:VEVENT
DTSTART;TZID=UTC:20250326T160000
DTEND;TZID=UTC:20250326T170000
DTSTAMP:20260424T112722
CREATED:20250228T155837Z
LAST-MODIFIED:20250321T143444Z
UID:10001358-1743004800-1743008400@machiasme.gov
SUMMARY:Town of Machias - Budget Meeting
DESCRIPTION:Click here for Budget Agenda
URL:https://machiasme.gov/event/town-of-machias-budget-meeting-immediately-following-select-board-mtg/
LOCATION:The Machias Tele-Business Center & Google Meet Link\, 17 Stackpole Dr\, Machias\, ME\, 04654\, United States
END:VEVENT
BEGIN:VEVENT
DTSTART;TZID=UTC:20250320T170000
DTEND;TZID=UTC:20250320T190000
DTSTAMP:20260424T112722
CREATED:20250228T155732Z
LAST-MODIFIED:20250314T183859Z
UID:10001357-1742490000-1742497200@machiasme.gov
SUMMARY:Town of Machias - Budget Meeting
DESCRIPTION:click here for Budget Agenda
URL:https://machiasme.gov/event/town-of-machias-budget-meeting/
LOCATION:The Machias Tele-Business Center\, 17 Stackpole Dr\, Machias\, ME\, 04654\, United States
END:VEVENT
BEGIN:VEVENT
DTSTART;TZID=UTC:20250317T180000
DTEND;TZID=UTC:20250317T200000
DTSTAMP:20260424T112722
CREATED:20250311T141505Z
LAST-MODIFIED:20250311T141505Z
UID:10001384-1742234400-1742241600@machiasme.gov
SUMMARY:Machias Comprehensive Planning Committee Meeting
DESCRIPTION:
URL:https://machiasme.gov/event/machias-comprehensive-planning-committee-meeting-4/
LOCATION:The Machias Tele-Business Center\, 17 Stackpole Dr\, Machias\, ME\, 04654\, United States
END:VEVENT
BEGIN:VEVENT
DTSTART;TZID=UTC:20250312T180000
DTEND;TZID=UTC:20250312T200000
DTSTAMP:20260424T112722
CREATED:20250228T155132Z
LAST-MODIFIED:20250228T155133Z
UID:10000811-1741802400-1741809600@machiasme.gov
SUMMARY:Machias Select Board Meeting - Immediately following Public Hearing
DESCRIPTION:
URL:https://machiasme.gov/event/machias-select-board-meeting-2-2/
LOCATION:The Machias Tele-Business Center & Google Meet Link\, 17 Stackpole Dr\, Machias\, ME\, 04654\, United States
END:VEVENT
BEGIN:VEVENT
DTSTART;TZID=UTC:20250312T170000
DTEND;TZID=UTC:20250312T180000
DTSTAMP:20260424T112722
CREATED:20250228T154330Z
LAST-MODIFIED:20250311T194042Z
UID:10001356-1741798800-1741802400@machiasme.gov
SUMMARY:Town of Machias - Public Hearing Notice
DESCRIPTION:TOWN OF MACHIAS Public Hearing Notice \nThe Town of Machias will hold a public hearing on Wednesday\, March 12\, at 5 p.m. at the Machias Town Office\, 17 Stackpole Road\, Machias ME to review and discuss the following items: 1. A proposed moratorium ordinance on large-scale solar facilities. 2. A proposed wind energy facility moratorium ordinance. 3. A proposed modification to the Machias Sewer Ordinance. Full copies of the draft proposals are available at the Machias Town Office\, 207-255-6621. Public comments will be solicited at this hearing on all of the above proposals. Comments may be submitted in writing to: Sarah Craighead Dedmon\, Town Manager\, P.O. Box 418\, Machias\, ME 04654-0418 at any time prior to the public hearing.
URL:https://machiasme.gov/event/town-of-machias-public-hearing-notice-10/
LOCATION:The Machias Tele-Business Center & Google Meet Link\, 17 Stackpole Dr\, Machias\, ME\, 04654\, United States
END:VEVENT
BEGIN:VEVENT
DTSTART;TZID=UTC:20250305T180000
DTEND;TZID=UTC:20250305T200000
DTSTAMP:20260424T112722
CREATED:20160219T151457Z
LAST-MODIFIED:20241205T144341Z
UID:10000021-1741197600-1741204800@machiasme.gov
SUMMARY:Planning Board Meeting
DESCRIPTION:The Planning Board meets the first Wednesday of the month at 6 p.m.
URL:https://machiasme.gov/event/planning-board-meeting-2025-03-02/
LOCATION:Machias Town Hall\, 7 Court Street\, Suite 1\, Machias\, ME\, 04654\, United States
CATEGORIES:Town Meetings
GEO:44.7184924;-67.4532582
X-APPLE-STRUCTURED-LOCATION;VALUE=URI;X-ADDRESS=Machias Town Hall 7 Court Street Suite 1 Machias ME 04654 United States;X-APPLE-RADIUS=500;X-TITLE=7 Court Street\, Suite 1:geo:-67.4532582,44.7184924
END:VEVENT
BEGIN:VEVENT
DTSTART;TZID=UTC:20250305T160000
DTEND;TZID=UTC:20250305T170000
DTSTAMP:20260424T112722
CREATED:20250228T194212Z
LAST-MODIFIED:20250228T194326Z
UID:10001359-1741190400-1741194000@machiasme.gov
SUMMARY:Machias School Committee Meeting
DESCRIPTION:
URL:https://machiasme.gov/event/machias-school-committee-meeting-28/
LOCATION:Machias Memorial High School – Room 6
END:VEVENT
BEGIN:VEVENT
DTSTART;TZID=UTC:20250303T180000
DTEND;TZID=UTC:20250303T200000
DTSTAMP:20260424T112722
CREATED:20250225T135204Z
LAST-MODIFIED:20250225T135204Z
UID:10001355-1741024800-1741032000@machiasme.gov
SUMMARY:Machias Comprehensive Planning Committee Meeting
DESCRIPTION:
URL:https://machiasme.gov/event/machias-comprehensive-planning-committee-meeting-3/2025-03-03/
LOCATION:The Machias Tele-Business Center & Google Meet Link\, 17 Stackpole Dr\, Machias\, ME\, 04654\, United States
END:VEVENT
BEGIN:VEVENT
DTSTART;TZID=UTC:20250226T180000
DTEND;TZID=UTC:20250226T200000
DTSTAMP:20260424T112722
CREATED:20241206T182142Z
LAST-MODIFIED:20241206T182142Z
UID:10000810-1740592800-1740600000@machiasme.gov
SUMMARY:Machias Select Board Meeting
DESCRIPTION:
URL:https://machiasme.gov/event/machias-select-board-meeting-2/2025-02-26/
LOCATION:The Machias Tele-Business Center & Google Meet Link\, 17 Stackpole Dr\, Machias\, ME\, 04654\, United States
END:VEVENT
BEGIN:VEVENT
DTSTART;TZID=UTC:20250225T160000
DTEND;TZID=UTC:20250225T170000
DTSTAMP:20260424T112722
CREATED:20250219T201041Z
LAST-MODIFIED:20250219T201041Z
UID:10001353-1740499200-1740502800@machiasme.gov
SUMMARY:AOS 96 Board of Directors Meeting
DESCRIPTION:
URL:https://machiasme.gov/event/aos-96-board-of-directors-meeting-3/
LOCATION:Machias Memorial High School – Room 6
END:VEVENT
BEGIN:VEVENT
DTSTART;TZID=UTC:20250218T180000
DTEND;TZID=UTC:20250218T200000
DTSTAMP:20260424T112722
CREATED:20250203T153215Z
LAST-MODIFIED:20250203T153215Z
UID:10000839-1739901600-1739908800@machiasme.gov
SUMMARY:The Machias Comprehensive Plan Committee Meeting
DESCRIPTION:
URL:https://machiasme.gov/event/the-machias-comprehensive-plan-committee-meeting/
LOCATION:The Machias Tele-Business Center & Google Meet Link\, 17 Stackpole Dr\, Machias\, ME\, 04654\, United States
END:VEVENT
BEGIN:VEVENT
DTSTART;TZID=UTC:20250217T180000
DTEND;TZID=UTC:20250217T200000
DTSTAMP:20260424T112722
CREATED:20250225T135204Z
LAST-MODIFIED:20250225T135204Z
UID:10001354-1739815200-1739822400@machiasme.gov
SUMMARY:Machias Comprehensive Planning Committee Meeting
DESCRIPTION:
URL:https://machiasme.gov/event/machias-comprehensive-planning-committee-meeting-3/2025-02-17/
LOCATION:The Machias Tele-Business Center & Google Meet Link\, 17 Stackpole Dr\, Machias\, ME\, 04654\, United States
END:VEVENT
END:VCALENDAR