BEGIN:VCALENDAR
VERSION:2.0
PRODID:-//Town of Machias - ECPv6.15.20//NONSGML v1.0//EN
CALSCALE:GREGORIAN
METHOD:PUBLISH
X-WR-CALNAME:Town of Machias
X-ORIGINAL-URL:https://machiasme.gov
X-WR-CALDESC:Events for Town of Machias
REFRESH-INTERVAL;VALUE=DURATION:PT1H
X-Robots-Tag:noindex
X-PUBLISHED-TTL:PT1H
BEGIN:VTIMEZONE
TZID:UTC
BEGIN:STANDARD
TZOFFSETFROM:+0000
TZOFFSETTO:+0000
TZNAME:UTC
DTSTART:20220101T000000
END:STANDARD
END:VTIMEZONE
BEGIN:VEVENT
DTSTART;TZID=UTC:20240214T180000
DTEND;TZID=UTC:20240214T183000
DTSTAMP:20260425T142924
CREATED:20240126T182405Z
LAST-MODIFIED:20240202T144012Z
UID:10001286-1707933600-1707935400@machiasme.gov
SUMMARY:Public Hearings - Town of Machias
DESCRIPTION:
URL:https://machiasme.gov/event/public-hearing-town-of-machias-3/
LOCATION:The Machias Tele-Business Center\, 17 Stackpole Dr\, Machias\, ME\, 04654\, United States
END:VEVENT
BEGIN:VEVENT
DTSTART;TZID=UTC:20240207T190000
DTEND;TZID=UTC:20240207T200000
DTSTAMP:20260425T142924
CREATED:20160219T151457Z
LAST-MODIFIED:20240202T161653Z
UID:10000024-1707332400-1707336000@machiasme.gov
SUMMARY:Planning Board Meeting at Tele-Business Center
DESCRIPTION:The Planning Board meets the first Wednesday of the month at 7 p.m.
URL:https://machiasme.gov/event/planning-board-meeting-2024-02-07/
LOCATION:The Machias Tele-Business Center\, 17 Stackpole Dr\, Machias\, ME\, 04654\, United States
CATEGORIES:Town Meetings
END:VEVENT
BEGIN:VEVENT
DTSTART;TZID=UTC:20240202T180000
DTEND;TZID=UTC:20240202T200000
DTSTAMP:20260425T142924
CREATED:20160219T151457Z
LAST-MODIFIED:20241205T143320Z
UID:10000148-1706896800-1706904000@machiasme.gov
SUMMARY:Planning Board Meeting
DESCRIPTION:The Planning Board meets the first Wednesday of the month at 6 p.m.
URL:https://machiasme.gov/event/planning-board-meeting/2024-02-02/
LOCATION:Machias Town Hall\, 7 Court Street\, Suite 1\, Machias\, ME\, 04654\, United States
CATEGORIES:Town Meetings
GEO:44.7184924;-67.4532582
X-APPLE-STRUCTURED-LOCATION;VALUE=URI;X-ADDRESS=Machias Town Hall 7 Court Street Suite 1 Machias ME 04654 United States;X-APPLE-RADIUS=500;X-TITLE=7 Court Street\, Suite 1:geo:-67.4532582,44.7184924
END:VEVENT
BEGIN:VEVENT
DTSTART;TZID=UTC:20240201T014500
DTEND;TZID=UTC:20240201T160000
DTSTAMP:20260425T142924
CREATED:20240129T155030Z
LAST-MODIFIED:20240129T155128Z
UID:10001288-1706751900-1706803200@machiasme.gov
SUMMARY:The Machias Town Office will be closed for training
DESCRIPTION:
URL:https://machiasme.gov/event/the-machias-town-office-will-be-closed-for-training-6/
END:VEVENT
BEGIN:VEVENT
DTSTART;TZID=UTC:20240129T180000
DTEND;TZID=UTC:20240129T210000
DTSTAMP:20260425T142924
CREATED:20240126T184647Z
LAST-MODIFIED:20240126T184647Z
UID:10001287-1706551200-1706562000@machiasme.gov
SUMMARY:Emergency Board of Select-People's Meeting
DESCRIPTION:Machias Board of Select-People is inviting you to a scheduled Zoom meeting. \nTopic: Emergency Board of Select-People Meeting\nTime: Jan 29\, 2024 06:00 PM Eastern Time (US and Canada) \nJoin Zoom Meeting\nhttps://us02web.zoom.us/j/86066095023?pwd=RG5YOGFCVXlWcDg2UUpUcDBWc3FxUT09 \nMeeting ID: 860 6609 5023\nPasscode: 917376 \n— \nOne tap mobile\n+13126266799\,\,86066095023#\,\,\,\,*917376# US (Chicago)\n+16465588656\,\,86066095023#\,\,\,\,*917376# US (New York) \n— \nDial by your location\n• +1 312 626 6799 US (Chicago)\n• +1 646 558 8656 US (New York)\n• +1 646 931 3860 US\n• +1 301 715 8592 US (Washington DC)\n• +1 305 224 1968 US\n• +1 309 205 3325 US\n• +1 386 347 5053 US\n• +1 507 473 4847 US\n• +1 564 217 2000 US\n• +1 669 444 9171 US\n• +1 669 900 9128 US (San Jose)\n• +1 689 278 1000 US\n• +1 719 359 4580 US\n• +1 253 205 0468 US\n• +1 253 215 8782 US (Tacoma)\n• +1 346 248 7799 US (Houston)\n• +1 360 209 5623 US \nMeeting ID: 860 6609 5023\nPasscode: 917376 \nFind your local number: https://us02web.zoom.us/u/kpM1K4j1I \n 
URL:https://machiasme.gov/event/emergency-board-of-select-peoples-meeting/
LOCATION:Machias Tele-Business Center and via Zoom\, 17 stackpole Dr\, Machias\, ME\, 04654\, United States
END:VEVENT
BEGIN:VEVENT
DTSTART;TZID=UTC:20240124T180000
DTEND;TZID=UTC:20240124T200000
DTSTAMP:20260425T142924
CREATED:20231214T150854Z
LAST-MODIFIED:20240124T194551Z
UID:10000738-1706119200-1706126400@machiasme.gov
SUMMARY:Board of Select-People's Meeting Cancelled
DESCRIPTION:
URL:https://machiasme.gov/event/board-of-select-peoples-meeting-4-2024-01-24/
LOCATION:Machias Tele-Business Center and via Zoom\, 17 stackpole Dr\, Machias\, ME\, 04654\, United States
END:VEVENT
BEGIN:VEVENT
DTSTART;TZID=UTC:20240124T180000
DTEND;TZID=UTC:20240124T200000
DTSTAMP:20260425T142924
CREATED:20231214T150854Z
LAST-MODIFIED:20240909T160342Z
UID:10001258-1706119200-1706126400@machiasme.gov
SUMMARY:Machias Select Board Meeting
DESCRIPTION:
URL:https://machiasme.gov/event/board-of-select-peoples-meeting-4-2024-04-24-2024-10-09/2024-01-24/
LOCATION:Machias Tele-Business Center and via Zoom\, 17 stackpole Dr\, Machias\, ME\, 04654\, United States
END:VEVENT
BEGIN:VEVENT
DTSTART;VALUE=DATE:20240116
DTEND;VALUE=DATE:20240122
DTSTAMP:20260425T142924
CREATED:20240116T201900Z
LAST-MODIFIED:20240116T202125Z
UID:10001285-1705363200-1705881599@machiasme.gov
SUMMARY:The Machias Town Office will be closed this week to clean up from the flooding.
DESCRIPTION:
URL:https://machiasme.gov/event/the-machias-town-office-will-be-closed-this-week-to-clean-up-from-the-flooding/
END:VEVENT
BEGIN:VEVENT
DTSTART;VALUE=DATE:20240111
DTEND;VALUE=DATE:20240117
DTSTAMP:20260425T142924
CREATED:20240112T122130Z
LAST-MODIFIED:20240112T122130Z
UID:10001284-1704931200-1705449599@machiasme.gov
SUMMARY:The Machias Town Office will be closed due to flooding
DESCRIPTION:After Saturday\, January 13\,2024 will re-assess
URL:https://machiasme.gov/event/the-machias-town-office-will-be-closed-due-to-flooding/
END:VEVENT
BEGIN:VEVENT
DTSTART;TZID=UTC:20240110T180000
DTEND;TZID=UTC:20240110T200000
DTSTAMP:20260425T142924
CREATED:20231214T150854Z
LAST-MODIFIED:20240105T183410Z
UID:10000747-1704909600-1704916800@machiasme.gov
SUMMARY:Board of Select-People's Meeting Immediately Following Public Hearing
DESCRIPTION:Machias Board of Select-People is inviting you to a scheduled Zoom meeting. \nTopic: Board of Select-People Meeting following Public Hearing at 6PM\nTime: Jan 10\, 2024 06:00 PM Eastern Time (US and Canada) \nJoin Zoom Meeting\nhttps://us02web.zoom.us/j/87102894439?pwd=SWlaMVlVc3cwQm1CNHhhaXR6S3kyQT09 \nMeeting ID: 871 0289 4439\nPasscode: 779243 \n— \nOne tap mobile\n+16469313860\,\,87102894439#\,\,\,\,*779243# US\n+13017158592\,\,87102894439#\,\,\,\,*779243# US (Washington DC) \n— \nDial by your location\n• +1 646 931 3860 US\n• +1 301 715 8592 US (Washington DC)\n• +1 305 224 1968 US\n• +1 309 205 3325 US\n• +1 312 626 6799 US (Chicago)\n• +1 646 558 8656 US (New York)\n• +1 253 205 0468 US\n• +1 253 215 8782 US (Tacoma)\n• +1 346 248 7799 US (Houston)\n• +1 360 209 5623 US\n• +1 386 347 5053 US\n• +1 507 473 4847 US\n• +1 564 217 2000 US\n• +1 669 444 9171 US\n• +1 669 900 9128 US (San Jose)\n• +1 689 278 1000 US\n• +1 719 359 4580 US \nMeeting ID: 871 0289 4439\nPasscode: 779243 \nFind your local number: https://us02web.zoom.us/u/kcCJA4HOlK \n 
URL:https://machiasme.gov/event/board-of-select-peoples-meeting-4/
LOCATION:Machias Tele-Business Center and via Zoom\, 17 stackpole Dr\, Machias\, ME\, 04654\, United States
END:VEVENT
BEGIN:VEVENT
DTSTART;TZID=UTC:20240110T180000
DTEND;TZID=UTC:20240110T183000
DTSTAMP:20260425T142924
CREATED:20231221T194744Z
LAST-MODIFIED:20231221T195441Z
UID:10001280-1704909600-1704911400@machiasme.gov
SUMMARY:Town of Machias - Public Hearing
DESCRIPTION:Notice is hereby given that the Municipal Officers of the Town of Machias will hold a public hearing on January 10\, 2024 @ 6:00 pm at the Tele-Business Center for the consideration of a liquor license application and Special Entertainment Permit for Mason’s Brewing Company Downeast\, LLC which is located at 78 Main Street in Machias.  Citizens are encouraged to attend or provide written comments.
URL:https://machiasme.gov/event/town-of-machias-public-hearing-9/
LOCATION:Machias Tele-Business Center and via Zoom\, 17 stackpole Dr\, Machias\, ME\, 04654\, United States
END:VEVENT
BEGIN:VEVENT
DTSTART;TZID=UTC:20240110T160000
DTEND;TZID=UTC:20240110T170000
DTSTAMP:20260425T142924
CREATED:20240105T190843Z
LAST-MODIFIED:20240105T190843Z
UID:10001283-1704902400-1704906000@machiasme.gov
SUMMARY:Machias School Committee Meeting
DESCRIPTION:
URL:https://machiasme.gov/event/machias-school-committee-meeting-23/
LOCATION:Machias Memorial High School
END:VEVENT
BEGIN:VEVENT
DTSTART;TZID=UTC:20240103T190000
DTEND;TZID=UTC:20240103T200000
DTSTAMP:20260425T142924
CREATED:20160219T151457Z
LAST-MODIFIED:20231228T181027Z
UID:10000023-1704308400-1704312000@machiasme.gov
SUMMARY:Planning Board Meeting Cancelled - no building permits
DESCRIPTION:The Planning Board meets the first Wednesday of the month at 7 p.m.
URL:https://machiasme.gov/event/planning-board-meeting-2024-01-03/
LOCATION:Machias Town Hall\, 7 Court Street\, Suite 1\, Machias\, ME\, 04654\, United States
CATEGORIES:Town Meetings
GEO:44.7184924;-67.4532582
X-APPLE-STRUCTURED-LOCATION;VALUE=URI;X-ADDRESS=Machias Town Hall 7 Court Street Suite 1 Machias ME 04654 United States;X-APPLE-RADIUS=500;X-TITLE=7 Court Street\, Suite 1:geo:-67.4532582,44.7184924
END:VEVENT
BEGIN:VEVENT
DTSTART;TZID=UTC:20240103T130000
DTEND;TZID=UTC:20240103T160000
DTSTAMP:20260425T142924
CREATED:20240102T144918Z
LAST-MODIFIED:20240102T144918Z
UID:10001282-1704286800-1704297600@machiasme.gov
SUMMARY:THE MACHIAS TOWN OFFICE WILL BE CLOSED AT 1:00 P.M.
DESCRIPTION:
URL:https://machiasme.gov/event/the-machias-town-office-will-be-closed-at-100-p-m/
END:VEVENT
BEGIN:VEVENT
DTSTART;TZID=UTC:20240102T180000
DTEND;TZID=UTC:20240102T200000
DTSTAMP:20260425T142924
CREATED:20160219T151457Z
LAST-MODIFIED:20241205T143320Z
UID:10000147-1704218400-1704225600@machiasme.gov
SUMMARY:Planning Board Meeting
DESCRIPTION:The Planning Board meets the first Wednesday of the month at 6 p.m.
URL:https://machiasme.gov/event/planning-board-meeting/2024-01-02/
LOCATION:Machias Town Hall\, 7 Court Street\, Suite 1\, Machias\, ME\, 04654\, United States
CATEGORIES:Town Meetings
GEO:44.7184924;-67.4532582
X-APPLE-STRUCTURED-LOCATION;VALUE=URI;X-ADDRESS=Machias Town Hall 7 Court Street Suite 1 Machias ME 04654 United States;X-APPLE-RADIUS=500;X-TITLE=7 Court Street\, Suite 1:geo:-67.4532582,44.7184924
END:VEVENT
BEGIN:VEVENT
DTSTART;VALUE=DATE:20240101
DTEND;VALUE=DATE:20240102
DTSTAMP:20260425T142924
CREATED:20231228T181134Z
LAST-MODIFIED:20231228T181141Z
UID:10001281-1704067200-1704153599@machiasme.gov
SUMMARY:THE MACHIAS TOWN OFFICE WILL BE CLOSED
DESCRIPTION:
URL:https://machiasme.gov/event/the-machias-town-office-will-be-closed-8/
END:VEVENT
BEGIN:VEVENT
DTSTART;TZID=UTC:20231227T180000
DTEND;TZID=UTC:20231227T200000
DTSTAMP:20260425T142924
CREATED:20231214T152247Z
LAST-MODIFIED:20231214T152247Z
UID:10001279-1703700000-1703707200@machiasme.gov
SUMMARY:Board of  Select-People's Meeting has been cancelled
DESCRIPTION:
URL:https://machiasme.gov/event/board-of-select-peoples-meeting-has-been-cancelled/
END:VEVENT
BEGIN:VEVENT
DTSTART;VALUE=DATE:20231225
DTEND;VALUE=DATE:20231226
DTSTAMP:20260425T142924
CREATED:20221214T165958Z
LAST-MODIFIED:20221214T165958Z
UID:10001198-1703462400-1703548799@machiasme.gov
SUMMARY:Machias Town Office will be closed for Christmas Day
DESCRIPTION:
URL:https://machiasme.gov/event/machias-town-office-will-be-closed-for-christmas-day/
ATTACH;FMTTYPE=image/jpeg:https://machiasme.gov/wp-content/uploads/xmasclipart-1.jpg
END:VEVENT
BEGIN:VEVENT
DTSTART;TZID=UTC:20231213T180000
DTEND;TZID=UTC:20231213T210000
DTSTAMP:20260425T142924
CREATED:20221214T142137Z
LAST-MODIFIED:20231208T143752Z
UID:10001189-1702490400-1702501200@machiasme.gov
SUMMARY:Board of Select-People's Meeting
DESCRIPTION:Machias Board of Select-People is inviting you to a scheduled Zoom meeting. \nTopic: Board of Select-People Meeting – Machias\nTime: Dec 13\, 2023 06:00 PM Eastern Time (US and Canada) \nJoin Zoom Meeting\nhttps://us02web.zoom.us/j/83367110675?pwd=eUgvOFBFbmRXL2Y2d1VINUdFMSsyQT09 \nMeeting ID: 833 6711 0675\nPasscode: 631152 \n— \nOne tap mobile\n+13052241968\,\,83367110675#\,\,\,\,*631152# US\n+13092053325\,\,83367110675#\,\,\,\,*631152# US \n— \nDial by your location\n• +1 305 224 1968 US\n• +1 309 205 3325 US\n• +1 312 626 6799 US (Chicago)\n• +1 646 558 8656 US (New York)\n• +1 646 931 3860 US\n• +1 301 715 8592 US (Washington DC)\n• +1 689 278 1000 US\n• +1 719 359 4580 US\n• +1 253 205 0468 US\n• +1 253 215 8782 US (Tacoma)\n• +1 346 248 7799 US (Houston)\n• +1 360 209 5623 US\n• +1 386 347 5053 US\n• +1 507 473 4847 US\n• +1 564 217 2000 US\n• +1 669 444 9171 US\n• +1 669 900 9128 US (San Jose) \nMeeting ID: 833 6711 0675\nPasscode: 631152 \nFind your local number: https://us02web.zoom.us/u/kZBQlHE9N \n 
URL:https://machiasme.gov/event/board-of-select-peoples-meeting-3-2023-12-13/
LOCATION:Machias Tele-Business Center and via Zoom\, 17 stackpole Dr\, Machias\, ME\, 04654\, United States
END:VEVENT
BEGIN:VEVENT
DTSTART;TZID=UTC:20231206T170000
DTEND;TZID=UTC:20231206T180000
DTSTAMP:20260425T142924
CREATED:20231201T163751Z
LAST-MODIFIED:20231201T163751Z
UID:10000749-1701882000-1701885600@machiasme.gov
SUMMARY:Machias - Cannabis Workshop
DESCRIPTION:https://us02web.zoom.us/j/81332733824?pwd=ZmlDTWxGKzZVZUVjTlQ4dE04b3gzUT09
URL:https://machiasme.gov/event/machias-cannabis-workshop/
LOCATION:Machias Tele-Business Center and via Zoom\, 17 stackpole Dr\, Machias\, ME\, 04654\, United States
END:VEVENT
BEGIN:VEVENT
DTSTART;TZID=UTC:20231206T160000
DTEND;TZID=UTC:20231206T170000
DTSTAMP:20260425T142924
CREATED:20231129T204230Z
LAST-MODIFIED:20231129T204230Z
UID:10000739-1701878400-1701882000@machiasme.gov
SUMMARY:Machias School Committee Meeting
DESCRIPTION:
URL:https://machiasme.gov/event/machias-school-committee-meeting-22/
END:VEVENT
BEGIN:VEVENT
DTSTART;TZID=UTC:20231202T180000
DTEND;TZID=UTC:20231202T200000
DTSTAMP:20260425T142924
CREATED:20160219T151457Z
LAST-MODIFIED:20241205T143320Z
UID:10000146-1701540000-1701547200@machiasme.gov
SUMMARY:Planning Board Meeting
DESCRIPTION:The Planning Board meets the first Wednesday of the month at 6 p.m.
URL:https://machiasme.gov/event/planning-board-meeting/2023-12-02/
LOCATION:Machias Town Hall\, 7 Court Street\, Suite 1\, Machias\, ME\, 04654\, United States
CATEGORIES:Town Meetings
GEO:44.7184924;-67.4532582
X-APPLE-STRUCTURED-LOCATION;VALUE=URI;X-ADDRESS=Machias Town Hall 7 Court Street Suite 1 Machias ME 04654 United States;X-APPLE-RADIUS=500;X-TITLE=7 Court Street\, Suite 1:geo:-67.4532582,44.7184924
END:VEVENT
BEGIN:VEVENT
DTSTART;TZID=UTC:20231202T180000
DTEND;TZID=UTC:20231202T190000
DTSTAMP:20260425T142924
CREATED:20231128T201824Z
LAST-MODIFIED:20231128T201824Z
UID:10001245-1701540000-1701543600@machiasme.gov
SUMMARY:The Machias Community Christmas Parade
DESCRIPTION:For information click here https://www.facebook.com/search/top?q=machias%20bay%20area%20chamber%20of%20commerce
URL:https://machiasme.gov/event/the-machias-community-christmas-parade/
END:VEVENT
BEGIN:VEVENT
DTSTART;TZID=UTC:20231202T120000
DTEND;TZID=UTC:20231202T150000
DTSTAMP:20260425T142924
CREATED:20231128T202100Z
LAST-MODIFIED:20231128T202100Z
UID:10001247-1701518400-1701529200@machiasme.gov
SUMMARY:Scavenger Hunt! Machias Bay Area Chamber of Commerce
DESCRIPTION:Scavenger Hunt! Machias Bay Area Chamber of Commerce\nBusiness members are taking part in our super fun Downtown\nScavenger Hunt from 12 PM-3 PM. Scavenger hunters will go to the\nbusinesses and find the item that has the special bow on it\, write it\ndown\, and turn in the list to the last business they visit. There will\nbe a drawing of all of the correct entries to win a $100 Gift Card\nthat they can use at any of the participating businesses. You can pick up the list of participating businesses at the Machias Area Chamber of Commerce. To become a participating business\, please contact Sandi Malagara by email or phone. sandi.malagara@gmail.com 207-271-0606
URL:https://machiasme.gov/event/scavenger-hunt-machias-bay-area-chamber-of-commerce/
END:VEVENT
BEGIN:VEVENT
DTSTART;TZID=UTC:20231202T110000
DTEND;TZID=UTC:20231202T150000
DTSTAMP:20260425T142924
CREATED:20231128T201934Z
LAST-MODIFIED:20231128T201934Z
UID:10001246-1701514800-1701529200@machiasme.gov
SUMMARY:Santa at the Machias Bay Area Chamber of Commerce
DESCRIPTION:
URL:https://machiasme.gov/event/santa-at-the-machias-bay-area-chamber-of-commerce/
END:VEVENT
BEGIN:VEVENT
DTSTART;VALUE=DATE:20231123
DTEND;VALUE=DATE:20231125
DTSTAMP:20260425T142924
CREATED:20221214T165847Z
LAST-MODIFIED:20221214T165847Z
UID:10001197-1700697600-1700870399@machiasme.gov
SUMMARY:Machias Town Office will be closed for Thanksgiving
DESCRIPTION:
URL:https://machiasme.gov/event/machias-town-office-will-be-closed-for-thanksgiving-2/
ATTACH;FMTTYPE=image/jpeg:https://machiasme.gov/wp-content/uploads/Thanksgivingoldfashion.jpg
END:VEVENT
BEGIN:VEVENT
DTSTART;TZID=UTC:20231122T180000
DTEND;TZID=UTC:20231122T210000
DTSTAMP:20260425T142924
CREATED:20221214T142137Z
LAST-MODIFIED:20231109T182449Z
UID:10001188-1700676000-1700686800@machiasme.gov
SUMMARY:Board of Select-People's Meeting has been cancelled
DESCRIPTION:
URL:https://machiasme.gov/event/board-of-select-peoples-meeting-3-2023-11-22/
END:VEVENT
BEGIN:VEVENT
DTSTART;VALUE=DATE:20231111
DTEND;VALUE=DATE:20231112
DTSTAMP:20260425T142924
CREATED:20231109T132526Z
LAST-MODIFIED:20231109T132526Z
UID:10001244-1699660800-1699747199@machiasme.gov
SUMMARY:The Machias Bay Area Transfer Station will be closed for Veteran's Day
DESCRIPTION:
URL:https://machiasme.gov/event/the-machias-bay-area-transfer-station-will-be-closed-for-veterans-day-2/
END:VEVENT
BEGIN:VEVENT
DTSTART;VALUE=DATE:20231110
DTEND;VALUE=DATE:20231111
DTSTAMP:20260425T142924
CREATED:20231109T132448Z
LAST-MODIFIED:20231109T132448Z
UID:10001243-1699574400-1699660799@machiasme.gov
SUMMARY:The Machias Town Office will be closed for Veteran's Day
DESCRIPTION:
URL:https://machiasme.gov/event/the-machias-town-office-will-be-closed-for-veterans-day-4/
END:VEVENT
BEGIN:VEVENT
DTSTART;TZID=UTC:20231108T180000
DTEND;TZID=UTC:20231108T210000
DTSTAMP:20260425T142924
CREATED:20221214T142137Z
LAST-MODIFIED:20231102T161049Z
UID:10001187-1699466400-1699477200@machiasme.gov
SUMMARY:Board of Select-People's Meeting
DESCRIPTION:Machias Board of Select-People is inviting you to a scheduled Zoom meeting. \nTopic: Board of SelectPeople Meeting\nTime: Nov 8\, 2023 06:00 PM Eastern Time (US and Canada) \nJoin Zoom Meeting\nhttps://us02web.zoom.us/j/86046101319?pwd=ZWFWMDJLT202R1grOUIyUUNVb1ZsQT09 \nMeeting ID: 860 4610 1319\nPasscode: 249348 \n— \nOne tap mobile\n+13126266799\,\,86046101319#\,\,\,\,*249348# US (Chicago)\n+16465588656\,\,86046101319#\,\,\,\,*249348# US (New York) \n— \nDial by your location\n• +1 312 626 6799 US (Chicago)\n• +1 646 558 8656 US (New York)\n• +1 646 931 3860 US\n• +1 301 715 8592 US (Washington DC)\n• +1 305 224 1968 US\n• +1 309 205 3325 US\n• +1 689 278 1000 US\n• +1 719 359 4580 US\n• +1 253 205 0468 US\n• +1 253 215 8782 US (Tacoma)\n• +1 346 248 7799 US (Houston)\n• +1 360 209 5623 US\n• +1 386 347 5053 US\n• +1 507 473 4847 US\n• +1 564 217 2000 US\n• +1 669 444 9171 US\n• +1 669 900 9128 US (San Jose) \nMeeting ID: 860 4610 1319\nPasscode: 249348 \nFind your local number: https://us02web.zoom.us/u/kdqbF594op \n 
URL:https://machiasme.gov/event/board-of-select-peoples-meeting-3-2023-11-08/
LOCATION:Machias Tele-Business Center and via Zoom\, 17 stackpole Dr\, Machias\, ME\, 04654\, United States
END:VEVENT
END:VCALENDAR