BEGIN:VCALENDAR
VERSION:2.0
PRODID:-//Town of Machias - ECPv6.15.20//NONSGML v1.0//EN
CALSCALE:GREGORIAN
METHOD:PUBLISH
X-WR-CALNAME:Town of Machias
X-ORIGINAL-URL:https://machiasme.gov
X-WR-CALDESC:Events for Town of Machias
REFRESH-INTERVAL;VALUE=DURATION:PT1H
X-Robots-Tag:noindex
X-PUBLISHED-TTL:PT1H
BEGIN:VTIMEZONE
TZID:UTC
BEGIN:STANDARD
TZOFFSETFROM:+0000
TZOFFSETTO:+0000
TZNAME:UTC
DTSTART:20240101T000000
END:STANDARD
END:VTIMEZONE
BEGIN:VEVENT
DTSTART;VALUE=DATE:20251225
DTEND;VALUE=DATE:20251226
DTSTAMP:20260423T203134
CREATED:20250106T190426Z
LAST-MODIFIED:20250106T190738Z
UID:10001349-1766620800-1766707199@machiasme.gov
SUMMARY:Machias Town Office will be closed for Christmas Day
DESCRIPTION:
URL:https://machiasme.gov/event/machias-town-office-will-be-closed-for-christmas-day-2/
END:VEVENT
BEGIN:VEVENT
DTSTART;TZID=UTC:20251224T170000
DTEND;TZID=UTC:20251224T200000
DTSTAMP:20260423T203135
CREATED:20250307T160639Z
LAST-MODIFIED:20251103T153749Z
UID:10000830-1766595600-1766606400@machiasme.gov
SUMMARY:Machias Select Board Meeting - CANCELLED
DESCRIPTION:
URL:https://machiasme.gov/event/machias-select-board-meeting-25/
LOCATION:The Machias Tele-Business Center & Google Meet Link\, 17 Stackpole Dr\, Machias\, ME\, 04654\, United States
END:VEVENT
BEGIN:VEVENT
DTSTART;VALUE=DATE:20251224
DTEND;VALUE=DATE:20251227
DTSTAMP:20260423T203135
CREATED:20251106T194257Z
LAST-MODIFIED:20251106T194257Z
UID:10001437-1766534400-1766793599@machiasme.gov
SUMMARY:The Machias Town Office will be closed for Christmas
DESCRIPTION:Have a Merry Christmas
URL:https://machiasme.gov/event/the-machias-town-office-will-be-closed-for-christmas-3/
END:VEVENT
BEGIN:VEVENT
DTSTART;TZID=UTC:20251223T140000
DTEND;TZID=UTC:20251223T150000
DTSTAMP:20260423T203135
CREATED:20251223T171504Z
LAST-MODIFIED:20251223T171504Z
UID:10001442-1766498400-1766502000@machiasme.gov
SUMMARY:Select Board Emergency Meeting
DESCRIPTION:Click here for Agenda 
URL:https://machiasme.gov/event/select-board-emergency-meeting/
LOCATION:The Machias Tele-Business Center\, 17 Stackpole Dr\, Machias\, ME\, 04654\, United States
END:VEVENT
BEGIN:VEVENT
DTSTART;TZID=UTC:20251217T170000
DTEND;TZID=UTC:20251217T190000
DTSTAMP:20260423T203135
CREATED:20251209T165121Z
LAST-MODIFIED:20251209T165121Z
UID:10001440-1765990800-1765998000@machiasme.gov
SUMMARY:Machias Select Board Meeting
DESCRIPTION:
URL:https://machiasme.gov/event/machias-select-board-meeting-7/
LOCATION:The Machias Tele-Business Center\, 17 Stackpole Dr\, Machias\, ME\, 04654\, United States
END:VEVENT
BEGIN:VEVENT
DTSTART;TZID=UTC:20251203T180000
DTEND;TZID=UTC:20251203T203000
DTSTAMP:20260423T203135
CREATED:20251121T183526Z
LAST-MODIFIED:20251201T201200Z
UID:10001439-1764784800-1764793800@machiasme.gov
SUMMARY:Machias Select Board Meeting - CANCELLED
DESCRIPTION:
URL:https://machiasme.gov/event/machias-select-board-meeting-immediately-following-special-town-mtg-at-the-tele-business-center/
LOCATION:The Machias Tele-Business Center & Google Meet Link\, 17 Stackpole Dr\, Machias\, ME\, 04654\, United States
END:VEVENT
BEGIN:VEVENT
DTSTART;TZID=UTC:20251203T170000
DTEND;TZID=UTC:20251203T190000
DTSTAMP:20260423T203135
CREATED:20160219T151457Z
LAST-MODIFIED:20251126T173529Z
UID:10000004-1764781200-1764788400@machiasme.gov
SUMMARY:Planning Board Meeting - CANCELLED
DESCRIPTION:The Planning Board meets the first Wednesday of the month at 6 p.m.
URL:https://machiasme.gov/event/planning-board-meeting-2025-12-02/
LOCATION:Machias Town Hall\, 7 Court Street\, Suite 1\, Machias\, ME\, 04654\, United States
CATEGORIES:Town Meetings
GEO:44.7184924;-67.4532582
X-APPLE-STRUCTURED-LOCATION;VALUE=URI;X-ADDRESS=Machias Town Hall 7 Court Street Suite 1 Machias ME 04654 United States;X-APPLE-RADIUS=500;X-TITLE=7 Court Street\, Suite 1:geo:-67.4532582,44.7184924
END:VEVENT
BEGIN:VEVENT
DTSTART;TZID=UTC:20251203T170000
DTEND;TZID=UTC:20251203T183000
DTSTAMP:20260423T203135
CREATED:20250307T160620Z
LAST-MODIFIED:20251203T142652Z
UID:10000829-1764781200-1764786600@machiasme.gov
SUMMARY:Special Town Meeting
DESCRIPTION:Click here for Warrant \nClick here for Final Wind Ordinance \nClick here for Final Solar Ordinance \n 
URL:https://machiasme.gov/event/machias-select-board-meeting-24/
LOCATION:Machias Memorial High School Gym\, 30 Bulldog Lane\, Machias ME\, 04654\, United States
END:VEVENT
BEGIN:VEVENT
DTSTART;VALUE=DATE:20251127
DTEND;VALUE=DATE:20251129
DTSTAMP:20260423T203135
CREATED:20250106T190330Z
LAST-MODIFIED:20250106T190330Z
UID:10001348-1764201600-1764374399@machiasme.gov
SUMMARY:Machias Town Office will be closed for Thanksgiving
DESCRIPTION:
URL:https://machiasme.gov/event/machias-town-office-will-be-closed-for-thanksgiving-4/
END:VEVENT
BEGIN:VEVENT
DTSTART;TZID=UTC:20251124T080000
DTEND;TZID=UTC:20251124T160000
DTSTAMP:20260423T203135
CREATED:20251121T155355Z
LAST-MODIFIED:20251121T155355Z
UID:10001438-1763971200-1764000000@machiasme.gov
SUMMARY:MACHIAS TOWN OFFICE WILL BE OPENED TIL 4:00 PM FOR TAX PAYMENTS
DESCRIPTION:
URL:https://machiasme.gov/event/machias-town-office-will-be-opened-til-400-pm-for-tax-payments/
END:VEVENT
BEGIN:VEVENT
DTSTART;TZID=UTC:20251119T170000
DTEND;TZID=UTC:20251119T200000
DTSTAMP:20260423T203135
CREATED:20250307T160558Z
LAST-MODIFIED:20251103T153408Z
UID:10000828-1763571600-1763582400@machiasme.gov
SUMMARY:Public Hearing prior to Machias Select Board Meeting
DESCRIPTION:
URL:https://machiasme.gov/event/machias-select-board-meeting-23/
LOCATION:The Machias Tele-Business Center & Google Meet Link\, 17 Stackpole Dr\, Machias\, ME\, 04654\, United States
END:VEVENT
BEGIN:VEVENT
DTSTART;VALUE=DATE:20251111
DTEND;VALUE=DATE:20251112
DTSTAMP:20260423T203135
CREATED:20250106T190229Z
LAST-MODIFIED:20250106T190229Z
UID:10001347-1762819200-1762905599@machiasme.gov
SUMMARY:Machias Town Office will be closed for Veteran's Day
DESCRIPTION:
URL:https://machiasme.gov/event/machias-town-office-will-be-closed-for-veterans-day-3/
END:VEVENT
BEGIN:VEVENT
DTSTART;TZID=UTC:20251105T170000
DTEND;TZID=UTC:20251105T200000
DTSTAMP:20260423T203135
CREATED:20250307T160538Z
LAST-MODIFIED:20251103T152735Z
UID:10000827-1762362000-1762372800@machiasme.gov
SUMMARY:Machias Select Board Meeting
DESCRIPTION:
URL:https://machiasme.gov/event/machias-select-board-meeting-22/
LOCATION:The Machias Tele-Business Center & Google Meet Link\, 17 Stackpole Dr\, Machias\, ME\, 04654\, United States
END:VEVENT
BEGIN:VEVENT
DTSTART;TZID=UTC:20251105T170000
DTEND;TZID=UTC:20251105T190000
DTSTAMP:20260423T203135
CREATED:20160219T151457Z
LAST-MODIFIED:20251001T195931Z
UID:10000003-1762362000-1762369200@machiasme.gov
SUMMARY:Planning Board Meeting
DESCRIPTION:The Planning Board meets the first Wednesday of the month at 6 p.m.
URL:https://machiasme.gov/event/planning-board-meeting-2025-11-02/
LOCATION:Machias Town Hall\, 7 Court Street\, Suite 1\, Machias\, ME\, 04654\, United States
CATEGORIES:Town Meetings
GEO:44.7184924;-67.4532582
X-APPLE-STRUCTURED-LOCATION;VALUE=URI;X-ADDRESS=Machias Town Hall 7 Court Street Suite 1 Machias ME 04654 United States;X-APPLE-RADIUS=500;X-TITLE=7 Court Street\, Suite 1:geo:-67.4532582,44.7184924
END:VEVENT
BEGIN:VEVENT
DTSTART;VALUE=DATE:20251104
DTEND;VALUE=DATE:20251105
DTSTAMP:20260423T203135
CREATED:20251103T152611Z
LAST-MODIFIED:20251103T152611Z
UID:10001436-1762214400-1762300799@machiasme.gov
SUMMARY:Machias Town Office will be closed for elections
DESCRIPTION:
URL:https://machiasme.gov/event/machias-town-office-will-be-closed-for-elections-2/
END:VEVENT
BEGIN:VEVENT
DTSTART;TZID=UTC:20251024T090000
DTEND;TZID=UTC:20251024T130000
DTSTAMP:20260423T203135
CREATED:20251002T195458Z
LAST-MODIFIED:20251002T195458Z
UID:10001432-1761296400-1761310800@machiasme.gov
SUMMARY:Machias Town Office will be closed for Election Training
DESCRIPTION:
URL:https://machiasme.gov/event/machias-town-office-will-be-closed-for-election-training/2025-10-24/
END:VEVENT
BEGIN:VEVENT
DTSTART;TZID=UTC:20251023T090000
DTEND;TZID=UTC:20251023T130000
DTSTAMP:20260423T203135
CREATED:20251002T195458Z
LAST-MODIFIED:20251002T195458Z
UID:10001431-1761210000-1761224400@machiasme.gov
SUMMARY:Machias Town Office will be closed for Election Training
DESCRIPTION:
URL:https://machiasme.gov/event/machias-town-office-will-be-closed-for-election-training/2025-10-23/
END:VEVENT
BEGIN:VEVENT
DTSTART;VALUE=DATE:20251023
DTEND;VALUE=DATE:20251024
DTSTAMP:20260423T203135
CREATED:20251022T193314Z
LAST-MODIFIED:20251022T193521Z
UID:10001435-1761177600-1761263999@machiasme.gov
SUMMARY:Machias Town Office will be closed to process tax bills
DESCRIPTION:
URL:https://machiasme.gov/event/machias-town-office-will-be-closed-to-process-tax-bills-2/
END:VEVENT
BEGIN:VEVENT
DTSTART;TZID=UTC:20251022T170000
DTEND;TZID=UTC:20251022T200000
DTSTAMP:20260423T203135
CREATED:20250307T160518Z
LAST-MODIFIED:20250307T160527Z
UID:10000826-1761152400-1761163200@machiasme.gov
SUMMARY:Machias Select Board Meeting
DESCRIPTION:
URL:https://machiasme.gov/event/machias-select-board-meeting-21/
LOCATION:The Machias Tele-Business Center & Google Meet Link\, 17 Stackpole Dr\, Machias\, ME\, 04654\, United States
END:VEVENT
BEGIN:VEVENT
DTSTART;VALUE=DATE:20251021
DTEND;VALUE=DATE:20251022
DTSTAMP:20260423T203135
CREATED:20251017T162555Z
LAST-MODIFIED:20251020T200908Z
UID:10001434-1761004800-1761091199@machiasme.gov
SUMMARY:The Machias Town Office will be opened
DESCRIPTION:
URL:https://machiasme.gov/event/the-machias-town-office-will-be-closed-to-process-tax-bills-4/
END:VEVENT
BEGIN:VEVENT
DTSTART;VALUE=DATE:20251013
DTEND;VALUE=DATE:20251014
DTSTAMP:20260423T203135
CREATED:20250106T185935Z
LAST-MODIFIED:20250106T190124Z
UID:10001345-1760313600-1760399999@machiasme.gov
SUMMARY:Machias Town Office will be closed for Columbus Day
DESCRIPTION:
URL:https://machiasme.gov/event/machias-town-office-will-be-closed-for-columbus-day-3/
END:VEVENT
BEGIN:VEVENT
DTSTART;TZID=UTC:20251010T160000
DTEND;TZID=UTC:20251010T170000
DTSTAMP:20260423T203135
CREATED:20251010T142251Z
LAST-MODIFIED:20251010T142251Z
UID:10001433-1760112000-1760115600@machiasme.gov
SUMMARY:Machias School Committee Meeting
DESCRIPTION:
URL:https://machiasme.gov/event/machias-school-committee-meeting-32/
LOCATION:Machias Memorial High School – Room 6
END:VEVENT
BEGIN:VEVENT
DTSTART;TZID=UTC:20251007T170000
DTEND;TZID=UTC:20251007T200000
DTSTAMP:20260423T203135
CREATED:20250307T160456Z
LAST-MODIFIED:20250930T182139Z
UID:10000825-1759856400-1759867200@machiasme.gov
SUMMARY:Machias Select Board Meeting (moved from October 8th to October 7th)
DESCRIPTION:
URL:https://machiasme.gov/event/machias-select-board-meeting-20/
LOCATION:The Machias Tele-Business Center & Google Meet Link\, 17 Stackpole Dr\, Machias\, ME\, 04654\, United States
END:VEVENT
BEGIN:VEVENT
DTSTART;TZID=UTC:20251001T170000
DTEND;TZID=UTC:20251001T190000
DTSTAMP:20260423T203135
CREATED:20160219T151457Z
LAST-MODIFIED:20251001T195851Z
UID:10000002-1759338000-1759345200@machiasme.gov
SUMMARY:Planning Board Meeting
DESCRIPTION:The Planning Board meets the first Wednesday of the month at 6 p.m.
URL:https://machiasme.gov/event/planning-board-meeting-2025-10-02/
LOCATION:Machias Town Hall\, 7 Court Street\, Suite 1\, Machias\, ME\, 04654\, United States
CATEGORIES:Town Meetings
GEO:44.7184924;-67.4532582
X-APPLE-STRUCTURED-LOCATION;VALUE=URI;X-ADDRESS=Machias Town Hall 7 Court Street Suite 1 Machias ME 04654 United States;X-APPLE-RADIUS=500;X-TITLE=7 Court Street\, Suite 1:geo:-67.4532582,44.7184924
END:VEVENT
BEGIN:VEVENT
DTSTART;TZID=UTC:20251001T170000
DTEND;TZID=UTC:20251001T173000
DTSTAMP:20260423T203135
CREATED:20250930T181727Z
LAST-MODIFIED:20250930T181727Z
UID:10001430-1759338000-1759339800@machiasme.gov
SUMMARY:Machias Select Board Special Meeting
DESCRIPTION:
URL:https://machiasme.gov/event/machias-select-board-special-meeting/
LOCATION:The Machias Tele-Business Center & Google Meet Link\, 17 Stackpole Dr\, Machias\, ME\, 04654\, United States
END:VEVENT
BEGIN:VEVENT
DTSTART;TZID=UTC:20251001T160000
DTEND;TZID=UTC:20251001T170000
DTSTAMP:20260423T203135
CREATED:20250929T135241Z
LAST-MODIFIED:20250929T135241Z
UID:10001429-1759334400-1759338000@machiasme.gov
SUMMARY:Machias School Committee Meeting
DESCRIPTION:
URL:https://machiasme.gov/event/machias-school-committee-meeting-31/
LOCATION:Machias Memorial High School – Room 6
END:VEVENT
BEGIN:VEVENT
DTSTART;TZID=UTC:20250924T170000
DTEND;TZID=UTC:20250924T200000
DTSTAMP:20260423T203135
CREATED:20250307T160434Z
LAST-MODIFIED:20250912T165000Z
UID:10000824-1758733200-1758744000@machiasme.gov
SUMMARY:Machias Select Board Meeting Immediately following the Public Hearing
DESCRIPTION:
URL:https://machiasme.gov/event/machias-select-board-meeting-19/
LOCATION:The Machias Tele-Business Center & Google Meet Link\, 17 Stackpole Dr\, Machias\, ME\, 04654\, United States
END:VEVENT
BEGIN:VEVENT
DTSTART;TZID=UTC:20250924T170000
DTEND;TZID=UTC:20250924T190000
DTSTAMP:20260423T203135
CREATED:20250903T153853Z
LAST-MODIFIED:20250912T164817Z
UID:10001428-1758733200-1758740400@machiasme.gov
SUMMARY:Town of Machias - Public Hearing
DESCRIPTION:The Public Hearing is to Collect feedback on the proposed closure of the Forest Avenue TIF District and for the purpose of receiving public input concerning the adoption of the Municipality of Machias General Assistance Ordinance and Appendices A-H of the General Assistance Maximums for October 1\, 2025 – September 30\, 2026.  Please contact Sarah Dedmon\, Town Manager at 207-255-6621 for more information. \n 
URL:https://machiasme.gov/event/town-of-machias-public-hearing-13/
LOCATION:The Machias Tele-Business Center & Google Meet Link\, 17 Stackpole Dr\, Machias\, ME\, 04654\, United States
END:VEVENT
BEGIN:VEVENT
DTSTART;TZID=UTC:20250910T170000
DTEND;TZID=UTC:20250910T200000
DTSTAMP:20260423T203135
CREATED:20250307T160410Z
LAST-MODIFIED:20250307T160419Z
UID:10000823-1757523600-1757534400@machiasme.gov
SUMMARY:Machias Select Board Meeting
DESCRIPTION:
URL:https://machiasme.gov/event/machias-select-board-meeting-18/
LOCATION:The Machias Tele-Business Center & Google Meet Link\, 17 Stackpole Dr\, Machias\, ME\, 04654\, United States
END:VEVENT
BEGIN:VEVENT
DTSTART;TZID=UTC:20250903T170000
DTEND;TZID=UTC:20250903T190000
DTSTAMP:20260423T203135
CREATED:20160219T151457Z
LAST-MODIFIED:20250902T141400Z
UID:10000001-1756918800-1756926000@machiasme.gov
SUMMARY:Planning Board Meeting
DESCRIPTION:The Planning Board meets the first Wednesday of the month at 6 p.m.
URL:https://machiasme.gov/event/planning-board-meeting-2025-09-02/
LOCATION:Machias Town Hall\, 7 Court Street\, Suite 1\, Machias\, ME\, 04654\, United States
CATEGORIES:Town Meetings
GEO:44.7184924;-67.4532582
X-APPLE-STRUCTURED-LOCATION;VALUE=URI;X-ADDRESS=Machias Town Hall 7 Court Street Suite 1 Machias ME 04654 United States;X-APPLE-RADIUS=500;X-TITLE=7 Court Street\, Suite 1:geo:-67.4532582,44.7184924
END:VEVENT
END:VCALENDAR