BEGIN:VCALENDAR
VERSION:2.0
PRODID:-//Town of Machias - ECPv6.15.20//NONSGML v1.0//EN
CALSCALE:GREGORIAN
METHOD:PUBLISH
X-ORIGINAL-URL:https://machiasme.gov
X-WR-CALDESC:Events for Town of Machias
REFRESH-INTERVAL;VALUE=DURATION:PT1H
X-Robots-Tag:noindex
X-PUBLISHED-TTL:PT1H
BEGIN:VTIMEZONE
TZID:UTC
BEGIN:STANDARD
TZOFFSETFROM:+0000
TZOFFSETTO:+0000
TZNAME:UTC
DTSTART:20230101T000000
END:STANDARD
END:VTIMEZONE
BEGIN:VEVENT
DTSTART;TZID=UTC:20240327T180000
DTEND;TZID=UTC:20240327T200000
DTSTAMP:20260425T162539
CREATED:20231214T150854Z
LAST-MODIFIED:20240909T160342Z
UID:10001262-1711562400-1711569600@machiasme.gov
SUMMARY:Machias Select Board Meeting
DESCRIPTION:
URL:https://machiasme.gov/event/board-of-select-peoples-meeting-4-2024-04-24-2024-10-09/2024-03-27/
LOCATION:Machias Tele-Business Center and via Zoom\, 17 stackpole Dr\, Machias\, ME\, 04654\, United States
END:VEVENT
BEGIN:VEVENT
DTSTART;TZID=UTC:20240327T180000
DTEND;TZID=UTC:20240327T200000
DTSTAMP:20260425T162539
CREATED:20231214T150854Z
LAST-MODIFIED:20240319T141403Z
UID:10000735-1711562400-1711569600@machiasme.gov
SUMMARY:Board of Select-People's Meeting
DESCRIPTION:Machias Selectboard is inviting you to a scheduled Zoom meeting. \nTopic: Board of Select-People Meeting\nTime: Mar 27\, 2024 06:00 PM Eastern Time (US and Canada) \nJoin Zoom Meeting\nhttps://us02web.zoom.us/j/81527649879?pwd=dmpVQmx1NlNRVHQ0NFBOdjhVZnNnZz09 \nMeeting ID: 815 2764 9879\nPasscode: 564084 \n— \nOne tap mobile\n+13126266799\,\,81527649879#\,\,\,\,*564084# US (Chicago)\n+16465588656\,\,81527649879#\,\,\,\,*564084# US (New York) \n— \nDial by your location\n• +1 312 626 6799 US (Chicago)\n• +1 646 558 8656 US (New York)\n• +1 646 931 3860 US\n• +1 301 715 8592 US (Washington DC)\n• +1 305 224 1968 US\n• +1 309 205 3325 US\n• +1 564 217 2000 US\n• +1 669 444 9171 US\n• +1 669 900 9128 US (San Jose)\n• +1 689 278 1000 US\n• +1 719 359 4580 US\n• +1 253 205 0468 US\n• +1 253 215 8782 US (Tacoma)\n• +1 346 248 7799 US (Houston)\n• +1 360 209 5623 US\n• +1 386 347 5053 US\n• +1 507 473 4847 US \nMeeting ID: 815 2764 9879\nPasscode: 564084 \nFind your local number: https://us02web.zoom.us/u/krZW8nR01 \n 
URL:https://machiasme.gov/event/board-of-select-peoples-meeting-4-2024-03-27/
LOCATION:Machias Tele-Business Center and via Zoom\, 17 stackpole Dr\, Machias\, ME\, 04654\, United States
END:VEVENT
BEGIN:VEVENT
DTSTART;VALUE=DATE:20240328
DTEND;VALUE=DATE:20240329
DTSTAMP:20260425T162540
CREATED:20240325T181900Z
LAST-MODIFIED:20240325T181900Z
UID:10000770-1711584000-1711670399@machiasme.gov
SUMMARY:The Machias Town Office will be closed
DESCRIPTION:
URL:https://machiasme.gov/event/the-machias-town-office-will-be-closed-9/
END:VEVENT
BEGIN:VEVENT
DTSTART;TZID=UTC:20240402T180000
DTEND;TZID=UTC:20240402T200000
DTSTAMP:20260425T162540
CREATED:20160219T151457Z
LAST-MODIFIED:20241205T143320Z
UID:10000150-1712080800-1712088000@machiasme.gov
SUMMARY:Planning Board Meeting
DESCRIPTION:The Planning Board meets the first Wednesday of the month at 6 p.m.
URL:https://machiasme.gov/event/planning-board-meeting/2024-04-02/
LOCATION:Machias Town Hall\, 7 Court Street\, Suite 1\, Machias\, ME\, 04654\, United States
CATEGORIES:Town Meetings
GEO:44.7184924;-67.4532582
X-APPLE-STRUCTURED-LOCATION;VALUE=URI;X-ADDRESS=Machias Town Hall 7 Court Street Suite 1 Machias ME 04654 United States;X-APPLE-RADIUS=500;X-TITLE=7 Court Street\, Suite 1:geo:-67.4532582,44.7184924
END:VEVENT
BEGIN:VEVENT
DTSTART;TZID=UTC:20240410T180000
DTEND;TZID=UTC:20240410T200000
DTSTAMP:20260425T162540
CREATED:20231214T150854Z
LAST-MODIFIED:20240909T160342Z
UID:10001263-1712772000-1712779200@machiasme.gov
SUMMARY:Machias Select Board Meeting
DESCRIPTION:
URL:https://machiasme.gov/event/board-of-select-peoples-meeting-4-2024-04-24-2024-10-09/2024-04-10/
LOCATION:Machias Tele-Business Center and via Zoom\, 17 stackpole Dr\, Machias\, ME\, 04654\, United States
END:VEVENT
BEGIN:VEVENT
DTSTART;TZID=UTC:20240410T180000
DTEND;TZID=UTC:20240410T200000
DTSTAMP:20260425T162540
CREATED:20231214T150854Z
LAST-MODIFIED:20240405T160459Z
UID:10000732-1712772000-1712779200@machiasme.gov
SUMMARY:Board of Select-People's Meeting
DESCRIPTION:Machias Selectboard is inviting you to a scheduled Zoom meeting. \nTopic: Board of Select-People Meeting\nTime: Apr 10\, 2024 06:00 PM Eastern Time (US and Canada) \nJoin Zoom Meeting\nhttps://us02web.zoom.us/j/82172547837?pwd=NkpZdDBOcjJJOU4rUGFMSGxFeWNqUT09 \nMeeting ID: 821 7254 7837\nPasscode: 376883 \n— \nOne tap mobile\n+13126266799\,\,82172547837#\,\,\,\,*376883# US (Chicago)\n+16465588656\,\,82172547837#\,\,\,\,*376883# US (New York) \n— \nDial by your location\n• +1 312 626 6799 US (Chicago)\n• +1 646 558 8656 US (New York)\n• +1 646 931 3860 US\n• +1 301 715 8592 US (Washington DC)\n• +1 305 224 1968 US\n• +1 309 205 3325 US\n• +1 507 473 4847 US\n• +1 564 217 2000 US\n• +1 669 444 9171 US\n• +1 669 900 9128 US (San Jose)\n• +1 689 278 1000 US\n• +1 719 359 4580 US\n• +1 253 205 0468 US\n• +1 253 215 8782 US (Tacoma)\n• +1 346 248 7799 US (Houston)\n• +1 360 209 5623 US\n• +1 386 347 5053 US \nMeeting ID: 821 7254 7837\nPasscode: 376883 \nFind your local number: https://us02web.zoom.us/u/kc0X1eB55z \n 
URL:https://machiasme.gov/event/board-of-select-peoples-meeting-4-2024-04-10/
LOCATION:Machias Tele-Business Center and via Zoom\, 17 stackpole Dr\, Machias\, ME\, 04654\, United States
END:VEVENT
BEGIN:VEVENT
DTSTART;TZID=UTC:20240424T180000
DTEND;TZID=UTC:20240424T200000
DTSTAMP:20260425T162540
CREATED:20231214T150854Z
LAST-MODIFIED:20240417T151011Z
UID:10000740-1713981600-1713988800@machiasme.gov
SUMMARY:Machias Select Board Meeting
DESCRIPTION:Machias Selectboard is inviting you to a scheduled Zoom meeting. \nTopic: Machias Select Board Meeting\nTime: Apr 24\, 2024 06:00 PM Eastern Time (US and Canada) \nJoin Zoom Meeting\nhttps://us02web.zoom.us/j/87045937341?pwd=S0NQQVBQMFZtUkhDS3p6eTU3KzA3dz09 \nMeeting ID: 870 4593 7341\nPasscode: 617948 \n— \nOne tap mobile\n+13126266799\,\,87045937341#\,\,\,\,*617948# US (Chicago)\n+16465588656\,\,87045937341#\,\,\,\,*617948# US (New York) \n— \nDial by your location\n• +1 312 626 6799 US (Chicago)\n• +1 646 558 8656 US (New York)\n• +1 646 931 3860 US\n• +1 301 715 8592 US (Washington DC)\n• +1 305 224 1968 US\n• +1 309 205 3325 US\n• +1 253 205 0468 US\n• +1 253 215 8782 US (Tacoma)\n• +1 346 248 7799 US (Houston)\n• +1 360 209 5623 US\n• +1 386 347 5053 US\n• +1 507 473 4847 US\n• +1 564 217 2000 US\n• +1 669 444 9171 US\n• +1 669 900 9128 US (San Jose)\n• +1 689 278 1000 US\n• +1 719 359 4580 US \nMeeting ID: 870 4593 7341\nPasscode: 617948 \nFind your local number: https://us02web.zoom.us/u/kdao0ZzUzg \n 
URL:https://machiasme.gov/event/board-of-select-peoples-meeting-4-2024-04-24/
LOCATION:Machias Tele-Business Center and via Zoom\, 17 stackpole Dr\, Machias\, ME\, 04654\, United States
END:VEVENT
BEGIN:VEVENT
DTSTART;TZID=UTC:20240424T180000
DTEND;TZID=UTC:20240424T200000
DTSTAMP:20260425T162540
CREATED:20231214T150854Z
LAST-MODIFIED:20240909T160342Z
UID:10001264-1713981600-1713988800@machiasme.gov
SUMMARY:Machias Select Board Meeting
DESCRIPTION:
URL:https://machiasme.gov/event/board-of-select-peoples-meeting-4-2024-04-24-2024-10-09/2024-04-24/
LOCATION:Machias Tele-Business Center and via Zoom\, 17 stackpole Dr\, Machias\, ME\, 04654\, United States
END:VEVENT
BEGIN:VEVENT
DTSTART;TZID=UTC:20240501T170000
DTEND;TZID=UTC:20240501T183000
DTSTAMP:20260425T162540
CREATED:20240501T130145Z
LAST-MODIFIED:20240501T131424Z
UID:10001291-1714582800-1714588200@machiasme.gov
SUMMARY:Machias Select Board and Budget Committee Meeting
DESCRIPTION:at 17 Stackpole Drive\, Machias or via zoom \nClick here for meeting link
URL:https://machiasme.gov/event/machias-select-board-and-budget-committee-meeting/
LOCATION:Machias Tele-Business Center and via Zoom\, 17 stackpole Dr\, Machias\, ME\, 04654\, United States
END:VEVENT
BEGIN:VEVENT
DTSTART;TZID=UTC:20240502T180000
DTEND;TZID=UTC:20240502T200000
DTSTAMP:20260425T162540
CREATED:20160219T151457Z
LAST-MODIFIED:20241205T143320Z
UID:10000151-1714672800-1714680000@machiasme.gov
SUMMARY:Planning Board Meeting
DESCRIPTION:The Planning Board meets the first Wednesday of the month at 6 p.m.
URL:https://machiasme.gov/event/planning-board-meeting/2024-05-02/
LOCATION:Machias Town Hall\, 7 Court Street\, Suite 1\, Machias\, ME\, 04654\, United States
CATEGORIES:Town Meetings
GEO:44.7184924;-67.4532582
X-APPLE-STRUCTURED-LOCATION;VALUE=URI;X-ADDRESS=Machias Town Hall 7 Court Street Suite 1 Machias ME 04654 United States;X-APPLE-RADIUS=500;X-TITLE=7 Court Street\, Suite 1:geo:-67.4532582,44.7184924
END:VEVENT
BEGIN:VEVENT
DTSTART;TZID=UTC:20240506T180000
DTEND;TZID=UTC:20240506T193000
DTSTAMP:20260425T162540
CREATED:20240430T142829Z
LAST-MODIFIED:20240430T143452Z
UID:10001290-1715018400-1715023800@machiasme.gov
SUMMARY:Town of Machias - Public Hearing Notice
DESCRIPTION:Notice is hereby given that the Municipal Officers of the Town of Machias will hold a Public Hearing May 6\, 2024 at 6:00 p.m. to review the DRAFT Proposed Ordinance to regulate Medical and Adult Use Cannabis activities in the Town Of Machias.  The meeting will be held at the Machias Memorial High School Gym at 30 Bulldog Lane in Machias.  Copies of the DRAFT Proposed Ordinance are available at the Machias Town Office and MachiasME.org \n 
URL:https://machiasme.gov/event/town-of-machias-public-hearing-notice-9/
LOCATION:Machias Memorial High School Gym\, 30 Bulldog Lane\, Machias ME\, 04654\, United States
END:VEVENT
BEGIN:VEVENT
DTSTART;TZID=UTC:20240508T170000
DTEND;TZID=UTC:20240508T180000
DTSTAMP:20260425T162540
CREATED:20240502T165555Z
LAST-MODIFIED:20240502T170937Z
UID:10001293-1715187600-1715191200@machiasme.gov
SUMMARY:MACHIAS SELECT BOARD/BUDGET COMMITTEE MEETING
DESCRIPTION:Join Zoom Meeting\nhttps://us02web.zoom.us/j/84274326633?pwd=bWpHZUk1alA2V0ZFd29vQU1YbHNwZz09 \nMeeting ID: 842 7432 6633\nPasscode: 511315 \n— \nOne tap mobile\n+13126266799\,\,84274326633#\,\,\,\,*511315# US (Chicago)\n+16465588656\,\,84274326633#\,\,\,\,*511315# US (New York) \n— \nDial by your location\n• +1 312 626 6799 US (Chicago)\n• +1 646 558 8656 US (New York)\n• +1 646 931 3860 US\n• +1 301 715 8592 US (Washington DC)\n• +1 305 224 1968 US\n• +1 309 205 3325 US\n• +1 689 278 1000 US\n• +1 719 359 4580 US\n• +1 253 205 0468 US\n• +1 253 215 8782 US (Tacoma)\n• +1 346 248 7799 US (Houston)\n• +1 360 209 5623 US\n• +1 386 347 5053 US\n• +1 507 473 4847 US\n• +1 564 217 2000 US\n• +1 669 444 9171 US\n• +1 669 900 9128 US (San Jose) \nMeeting ID: 842 7432 6633\nPasscode: 511315 \nFind your local number: https://us02web.zoom.us/u/kcSUuIkFvN \n 
URL:https://machiasme.gov/event/machias-select-board-budget-committee-meeting/
LOCATION:Machias Tele-Business Center and via Zoom\, 17 stackpole Dr\, Machias\, ME\, 04654\, United States
END:VEVENT
BEGIN:VEVENT
DTSTART;TZID=UTC:20240508T180000
DTEND;TZID=UTC:20240508T200000
DTSTAMP:20260425T162540
CREATED:20231214T150854Z
LAST-MODIFIED:20240429T175519Z
UID:10001248-1715191200-1715198400@machiasme.gov
SUMMARY:Machias Select Board Meeting
DESCRIPTION:Machias Selectboard is inviting you to a scheduled Zoom meeting. \nTopic: Machias Select Board Meeting\nTime: May 8\, 2024 06:00 PM Eastern Time (US and Canada) \nJoin Zoom Meeting\nhttps://us02web.zoom.us/j/86785370849?pwd=dXFueHpRYTBrL3gveTlCSTVFa3dJZz09 \nMeeting ID: 867 8537 0849\nPasscode: 023520 \n— \nOne tap mobile\n+13052241968\,\,86785370849#\,\,\,\,*023520# US\n+13092053325\,\,86785370849#\,\,\,\,*023520# US \n— \nDial by your location\n• +1 305 224 1968 US\n• +1 309 205 3325 US\n• +1 312 626 6799 US (Chicago)\n• +1 646 558 8656 US (New York)\n• +1 646 931 3860 US\n• +1 301 715 8592 US (Washington DC)\n• +1 719 359 4580 US\n• +1 253 205 0468 US\n• +1 253 215 8782 US (Tacoma)\n• +1 346 248 7799 US (Houston)\n• +1 360 209 5623 US\n• +1 386 347 5053 US\n• +1 507 473 4847 US\n• +1 564 217 2000 US\n• +1 669 444 9171 US\n• +1 669 900 9128 US (San Jose)\n• +1 689 278 1000 US \nMeeting ID: 867 8537 0849\nPasscode: 023520 \nFind your local number: https://us02web.zoom.us/u/kxIZo2dR \n 
URL:https://machiasme.gov/event/board-of-select-peoples-meeting-4-2024-04-24-2024-05-08/
LOCATION:Machias Tele-Business Center and via Zoom\, 17 stackpole Dr\, Machias\, ME\, 04654\, United States
END:VEVENT
BEGIN:VEVENT
DTSTART;TZID=UTC:20240508T180000
DTEND;TZID=UTC:20240508T200000
DTSTAMP:20260425T162540
CREATED:20231214T150854Z
LAST-MODIFIED:20240909T160342Z
UID:10001265-1715191200-1715198400@machiasme.gov
SUMMARY:Machias Select Board Meeting
DESCRIPTION:
URL:https://machiasme.gov/event/board-of-select-peoples-meeting-4-2024-04-24-2024-10-09/2024-05-08/
LOCATION:Machias Tele-Business Center and via Zoom\, 17 stackpole Dr\, Machias\, ME\, 04654\, United States
END:VEVENT
BEGIN:VEVENT
DTSTART;TZID=UTC:20240515T180000
DTEND;TZID=UTC:20240515T200000
DTSTAMP:20260425T162540
CREATED:20240502T153355Z
LAST-MODIFIED:20240503T151206Z
UID:10001292-1715796000-1715803200@machiasme.gov
SUMMARY:Planning Board Workshop
DESCRIPTION:Topic: Planning Board Workshop\nTime: May 15\, 2024 06:00 PM Eastern Time (US and Canada) \nJoin Zoom Meeting\nhttps://us02web.zoom.us/j/83324656758?pwd=NXI0Q2g4VWthdkdCT2JxaFM1SDhDUT09 \nMeeting ID: 833 2465 6758\nPasscode: 964948 \n— \nOne tap mobile\n+13017158592\,\,83324656758#\,\,\,\,*964948# US (Washington DC)\n+13052241968\,\,83324656758#\,\,\,\,*964948# US \n— \nDial by your location\n• +1 301 715 8592 US (Washington DC)\n• +1 305 224 1968 US\n• +1 309 205 3325 US\n• +1 312 626 6799 US (Chicago)\n• +1 646 558 8656 US (New York)\n• +1 646 931 3860 US\n• +1 689 278 1000 US\n• +1 719 359 4580 US\n• +1 253 205 0468 US\n• +1 253 215 8782 US (Tacoma)\n• +1 346 248 7799 US (Houston)\n• +1 360 209 5623 US\n• +1 386 347 5053 US\n• +1 507 473 4847 US\n• +1 564 217 2000 US\n• +1 669 444 9171 US\n• +1 669 900 9128 US (San Jose) \nMeeting ID: 833 2465 6758\nPasscode: 964948 \nFind your local number: https://us02web.zoom.us/u/kepKOnbR85 \n 
URL:https://machiasme.gov/event/planning-board-workshop/
LOCATION:Machias Tele-Business Center and via Zoom\, 17 stackpole Dr\, Machias\, ME\, 04654\, United States
END:VEVENT
BEGIN:VEVENT
DTSTART;TZID=UTC:20240520T180000
DTEND;TZID=UTC:20240520T200000
DTSTAMP:20260425T162540
CREATED:20240507T130321Z
LAST-MODIFIED:20240507T130419Z
UID:10001294-1716228000-1716235200@machiasme.gov
SUMMARY:Town of Machias - Special Town Meeting
DESCRIPTION:
URL:https://machiasme.gov/event/town-of-machias-special-town-meeting-5/
LOCATION:Machias Memorial High School Gym\, 30 Bulldog Lane\, Machias ME\, 04654\, United States
END:VEVENT
BEGIN:VEVENT
DTSTART;TZID=UTC:20240522T180000
DTEND;TZID=UTC:20240522T200000
DTSTAMP:20260425T162540
CREATED:20231214T150854Z
LAST-MODIFIED:20240517T182737Z
UID:10001249-1716400800-1716408000@machiasme.gov
SUMMARY:Machias Select Board Meeting
DESCRIPTION:Machias Selectboard is inviting you to a scheduled Zoom meeting. \nTopic: Select Board Meeting\nTime: May 22\, 2024 06:00 PM Eastern Time (US and Canada) \nJoin Zoom Meeting\nhttps://us02web.zoom.us/j/88672661915?pwd=aEJuT3VlSmNTMWJvNFJYMmxUODB4UT09 \nMeeting ID: 886 7266 1915\nPasscode: 302876 \n— \nOne tap mobile\n+13052241968\,\,88672661915#\,\,\,\,*302876# US\n+13092053325\,\,88672661915#\,\,\,\,*302876# US \n— \nDial by your location\n• +1 305 224 1968 US\n• +1 309 205 3325 US\n• +1 312 626 6799 US (Chicago)\n• +1 646 558 8656 US (New York)\n• +1 646 931 3860 US\n• +1 301 715 8592 US (Washington DC)\n• +1 689 278 1000 US\n• +1 719 359 4580 US\n• +1 253 205 0468 US\n• +1 253 215 8782 US (Tacoma)\n• +1 346 248 7799 US (Houston)\n• +1 360 209 5623 US\n• +1 386 347 5053 US\n• +1 507 473 4847 US\n• +1 564 217 2000 US\n• +1 669 444 9171 US\n• +1 669 900 9128 US (San Jose) \nMeeting ID: 886 7266 1915\nPasscode: 302876 \nFind your local number: https://us02web.zoom.us/u/kdE90Ihkfm \n 
URL:https://machiasme.gov/event/board-of-select-peoples-meeting-4-2024-04-24-2024-05-22/
LOCATION:Machias Tele-Business Center and via Zoom\, 17 stackpole Dr\, Machias\, ME\, 04654\, United States
END:VEVENT
BEGIN:VEVENT
DTSTART;TZID=UTC:20240522T180000
DTEND;TZID=UTC:20240522T200000
DTSTAMP:20260425T162540
CREATED:20231214T150854Z
LAST-MODIFIED:20240909T160342Z
UID:10001266-1716400800-1716408000@machiasme.gov
SUMMARY:Machias Select Board Meeting
DESCRIPTION:
URL:https://machiasme.gov/event/board-of-select-peoples-meeting-4-2024-04-24-2024-10-09/2024-05-22/
LOCATION:Machias Tele-Business Center and via Zoom\, 17 stackpole Dr\, Machias\, ME\, 04654\, United States
END:VEVENT
BEGIN:VEVENT
DTSTART;VALUE=DATE:20240527
DTEND;VALUE=DATE:20240528
DTSTAMP:20260425T162540
CREATED:20240521T132913Z
LAST-MODIFIED:20240521T133034Z
UID:10001295-1716768000-1716854399@machiasme.gov
SUMMARY:The Machias Town Office will be closed for Memorial Day
DESCRIPTION:
URL:https://machiasme.gov/event/the-machias-town-office-will-be-closed-for-memorial-day-4/
END:VEVENT
BEGIN:VEVENT
DTSTART;TZID=UTC:20240602T180000
DTEND;TZID=UTC:20240602T200000
DTSTAMP:20260425T162540
CREATED:20160219T151457Z
LAST-MODIFIED:20241205T143320Z
UID:10000152-1717351200-1717358400@machiasme.gov
SUMMARY:Planning Board Meeting
DESCRIPTION:The Planning Board meets the first Wednesday of the month at 6 p.m.
URL:https://machiasme.gov/event/planning-board-meeting/2024-06-02/
LOCATION:Machias Town Hall\, 7 Court Street\, Suite 1\, Machias\, ME\, 04654\, United States
CATEGORIES:Town Meetings
GEO:44.7184924;-67.4532582
X-APPLE-STRUCTURED-LOCATION;VALUE=URI;X-ADDRESS=Machias Town Hall 7 Court Street Suite 1 Machias ME 04654 United States;X-APPLE-RADIUS=500;X-TITLE=7 Court Street\, Suite 1:geo:-67.4532582,44.7184924
END:VEVENT
BEGIN:VEVENT
DTSTART;VALUE=DATE:20240611
DTEND;VALUE=DATE:20240612
DTSTAMP:20260425T162540
CREATED:20240603T161034Z
LAST-MODIFIED:20240603T161034Z
UID:10001296-1718064000-1718150399@machiasme.gov
SUMMARY:The Machias Town Office will be closed
DESCRIPTION:
URL:https://machiasme.gov/event/the-machias-town-office-will-be-closed-10/
END:VEVENT
BEGIN:VEVENT
DTSTART;TZID=UTC:20240611T080000
DTEND;TZID=UTC:20240611T200000
DTSTAMP:20260425T162540
CREATED:20240603T161422Z
LAST-MODIFIED:20240603T172247Z
UID:10001297-1718092800-1718136000@machiasme.gov
SUMMARY:Notice of State Primary Election
DESCRIPTION:StatePrimElection06112024-06032024124341
URL:https://machiasme.gov/event/notice-of-state-primary-election/
LOCATION:Machias Memorial High School Gym\, 30 Bulldog Lane\, Machias ME\, 04654\, United States
END:VEVENT
BEGIN:VEVENT
DTSTART;TZID=UTC:20240612T170000
DTEND;TZID=UTC:20240612T180000
DTSTAMP:20260425T162540
CREATED:20240604T191235Z
LAST-MODIFIED:20240604T191235Z
UID:10001298-1718211600-1718215200@machiasme.gov
SUMMARY:SELECT BOARD/BUDGET MEETING RE: SCHOOL BUDGET
DESCRIPTION:
URL:https://machiasme.gov/event/select-board-budget-meeting-re-school-budget/
LOCATION:The Machias Tele-Business Center & Google Meet Link\, 17 Stackpole Dr\, Machias\, ME\, 04654\, United States
END:VEVENT
BEGIN:VEVENT
DTSTART;TZID=UTC:20240612T180000
DTEND;TZID=UTC:20240612T200000
DTSTAMP:20260425T162540
CREATED:20231214T150854Z
LAST-MODIFIED:20240605T124406Z
UID:10001250-1718215200-1718222400@machiasme.gov
SUMMARY:Machias Select Board Meeting
DESCRIPTION:Topic: MACHIAS SELECT BOARD MEETING\nTime: Jun 26\, 2024 06:00 PM Eastern Time (US and Canada) \nJoin Zoom Meeting\nhttps://us02web.zoom.us/j/87959611407?pwd=yaCepo7PSQx14ZbLyGhdu14GMETyvF.1 \nMeeting ID: 879 5961 1407\nPasscode: 902096 \n— \nOne tap mobile\n+13126266799\,\,87959611407#\,\,\,\,*902096# US (Chicago)\n+16465588656\,\,87959611407#\,\,\,\,*902096# US (New York) \n— \nDial by your location\n• +1 312 626 6799 US (Chicago)\n• +1 646 558 8656 US (New York)\n• +1 646 931 3860 US\n• +1 301 715 8592 US (Washington DC)\n• +1 305 224 1968 US\n• +1 309 205 3325 US\n• +1 360 209 5623 US\n• +1 386 347 5053 US\n• +1 507 473 4847 US\n• +1 564 217 2000 US\n• +1 669 444 9171 US\n• +1 669 900 9128 US (San Jose)\n• +1 689 278 1000 US\n• +1 719 359 4580 US\n• +1 253 205 0468 US\n• +1 253 215 8782 US (Tacoma)\n• +1 346 248 7799 US (Houston) \nMeeting ID: 879 5961 1407\nPasscode: 902096 \nFind your local number: https://us02web.zoom.us/u/kdMxkfgB2b \n 
URL:https://machiasme.gov/event/board-of-select-peoples-meeting-4-2024-04-24-2024-06-12/
LOCATION:Machias Tele-Business Center and via Zoom\, 17 stackpole Dr\, Machias\, ME\, 04654\, United States
END:VEVENT
BEGIN:VEVENT
DTSTART;TZID=UTC:20240612T180000
DTEND;TZID=UTC:20240612T200000
DTSTAMP:20260425T162540
CREATED:20231214T150854Z
LAST-MODIFIED:20240909T160342Z
UID:10001267-1718215200-1718222400@machiasme.gov
SUMMARY:Machias Select Board Meeting
DESCRIPTION:
URL:https://machiasme.gov/event/board-of-select-peoples-meeting-4-2024-04-24-2024-10-09/2024-06-12/
LOCATION:Machias Tele-Business Center and via Zoom\, 17 stackpole Dr\, Machias\, ME\, 04654\, United States
END:VEVENT
BEGIN:VEVENT
DTSTART;VALUE=DATE:20240619
DTEND;VALUE=DATE:20240620
DTSTAMP:20260425T162540
CREATED:20240613T182322Z
LAST-MODIFIED:20240613T182322Z
UID:10001300-1718755200-1718841599@machiasme.gov
SUMMARY:THE MACHIAS TOWN OFFICE WILL BE CLOSED
DESCRIPTION:
URL:https://machiasme.gov/event/the-machias-town-office-will-be-closed-11/
END:VEVENT
BEGIN:VEVENT
DTSTART;VALUE=DATE:20240619
DTEND;VALUE=DATE:20240620
DTSTAMP:20260425T162540
CREATED:20240613T182404Z
LAST-MODIFIED:20240613T184609Z
UID:10001301-1718755200-1718841599@machiasme.gov
SUMMARY:THE MACHIAS BAY AREA TRANSFER STATION WILL BE CLOSED
DESCRIPTION:
URL:https://machiasme.gov/event/the-machias-bay-area-transfer-station-will-be-closed-3/
END:VEVENT
BEGIN:VEVENT
DTSTART;TZID=UTC:20240619T190000
DTEND;TZID=UTC:20240619T210000
DTSTAMP:20260425T162540
CREATED:20240606T130215Z
LAST-MODIFIED:20240606T130215Z
UID:10001299-1718823600-1718830800@machiasme.gov
SUMMARY:MACHIAS PLANNING BOARD - ORDINANCE WORKSHOP
DESCRIPTION:
URL:https://machiasme.gov/event/machias-planning-board-ordinance-workshop/
LOCATION:The Machias Tele-Business Center & Google Meet Link\, 17 Stackpole Dr\, Machias\, ME\, 04654\, United States
END:VEVENT
BEGIN:VEVENT
DTSTART;TZID=UTC:20240625T180000
DTEND;TZID=UTC:20240625T200000
DTSTAMP:20260425T162540
CREATED:20240618T125008Z
LAST-MODIFIED:20240618T125008Z
UID:10001303-1719338400-1719345600@machiasme.gov
SUMMARY:2024 School Budget Validation Referendum
DESCRIPTION:Click here for Warrant
URL:https://machiasme.gov/event/2024-school-budget-validation-referendum/
LOCATION:Rose M. Gaffney School Gynasium\, 15 Rose Gaffney Road\, Machias\, Maine\, 04654
END:VEVENT
BEGIN:VEVENT
DTSTART;TZID=UTC:20240626T170000
DTEND;TZID=UTC:20240626T190000
DTSTAMP:20260425T162540
CREATED:20240624T134845Z
LAST-MODIFIED:20240624T134845Z
UID:10001307-1719421200-1719428400@machiasme.gov
SUMMARY:MACHIAS SELECT BOARD & BUDGET COMMITTEE MEETING
DESCRIPTION:
URL:https://machiasme.gov/event/machias-select-board-budget-committee-meeting-2/
LOCATION:The Machias Tele-Business Center & Google Meet Link\, 17 Stackpole Dr\, Machias\, ME\, 04654\, United States
END:VEVENT
END:VCALENDAR