BEGIN:VCALENDAR
VERSION:2.0
PRODID:-//Town of Machias - ECPv6.15.20//NONSGML v1.0//EN
CALSCALE:GREGORIAN
METHOD:PUBLISH
X-WR-CALNAME:Town of Machias
X-ORIGINAL-URL:https://machiasme.gov
X-WR-CALDESC:Events for Town of Machias
REFRESH-INTERVAL;VALUE=DURATION:PT1H
X-Robots-Tag:noindex
X-PUBLISHED-TTL:PT1H
BEGIN:VTIMEZONE
TZID:UTC
BEGIN:STANDARD
TZOFFSETFROM:+0000
TZOFFSETTO:+0000
TZNAME:UTC
DTSTART:20240101T000000
END:STANDARD
END:VTIMEZONE
BEGIN:VEVENT
DTSTART;TZID=UTC:20250708T173000
DTEND;TZID=UTC:20250708T190000
DTSTAMP:20260423T235950
CREATED:20250707T173538Z
LAST-MODIFIED:20250707T173647Z
UID:10001423-1751995800-1752001200@machiasme.gov
SUMMARY:Machias Airport Committee Meeting
DESCRIPTION:Airport Meeting Agenda 07/08/2025
URL:https://machiasme.gov/event/machias-airport-committee-meeting-5/
LOCATION:Machias Valley Airport\, Airport Rd\, Machias\, ME\, 04654\, United States
END:VEVENT
BEGIN:VEVENT
DTSTART;VALUE=DATE:20250704
DTEND;VALUE=DATE:20250705
DTSTAMP:20260423T235950
CREATED:20250106T185735Z
LAST-MODIFIED:20250106T185735Z
UID:10001344-1751587200-1751673599@machiasme.gov
SUMMARY:Machias Town Office will be closed for 4th of July
DESCRIPTION:
URL:https://machiasme.gov/event/machias-town-office-will-be-closed-for-4th-of-july/
END:VEVENT
BEGIN:VEVENT
DTSTART;TZID=UTC:20250703T180000
DTEND;TZID=UTC:20250703T200000
DTSTAMP:20260423T235950
CREATED:20250613T124512Z
LAST-MODIFIED:20250613T124512Z
UID:10001414-1751565600-1751572800@machiasme.gov
SUMMARY:Kitchen concert Series @ Bad Little Falls Park - Pitch Black Ribbons
DESCRIPTION:
URL:https://machiasme.gov/event/kitchen-concert-series-bad-little-falls-park-pitch-black-ribbons/
LOCATION:Bad Little Falls Park\, Machias\, Maine
END:VEVENT
BEGIN:VEVENT
DTSTART;TZID=UTC:20250702T180000
DTEND;TZID=UTC:20250702T200000
DTSTAMP:20260423T235950
CREATED:20241205T144718Z
LAST-MODIFIED:20241205T144718Z
UID:10000803-1751479200-1751486400@machiasme.gov
SUMMARY:Planning Board Meeting
DESCRIPTION:
URL:https://machiasme.gov/event/planning-board-meeting-10/
LOCATION:The Machias Tele-Business Center\, 17 Stackpole Dr\, Machias\, ME\, 04654\, United States
END:VEVENT
BEGIN:VEVENT
DTSTART;VALUE=DATE:20250701
DTEND;VALUE=DATE:20250702
DTSTAMP:20260423T235950
CREATED:20250626T165711Z
LAST-MODIFIED:20250626T165711Z
UID:10001422-1751328000-1751414399@machiasme.gov
SUMMARY:Machias Town Office will be closed for year end
DESCRIPTION:
URL:https://machiasme.gov/event/machias-town-office-will-be-closed-for-year-end-3/
END:VEVENT
BEGIN:VEVENT
DTSTART;TZID=UTC:20250626T180000
DTEND;TZID=UTC:20250626T200000
DTSTAMP:20260423T235950
CREATED:20250613T124426Z
LAST-MODIFIED:20250613T124426Z
UID:10001413-1750960800-1750968000@machiasme.gov
SUMMARY:Kitchen concert Series @ Bad Little Falls Park - Hot Velvet
DESCRIPTION:
URL:https://machiasme.gov/event/kitchen-concert-series-bad-little-falls-park-hot-velvet/
LOCATION:Bad Little Falls Park\, Machias\, Maine
END:VEVENT
BEGIN:VEVENT
DTSTART;TZID=UTC:20250625T170000
DTEND;TZID=UTC:20250625T200000
DTSTAMP:20260423T235950
CREATED:20250307T160112Z
LAST-MODIFIED:20250307T160120Z
UID:10000818-1750870800-1750881600@machiasme.gov
SUMMARY:Machias Select Board Meeting
DESCRIPTION:
URL:https://machiasme.gov/event/machias-select-board-meeting-13/
LOCATION:The Machias Tele-Business Center & Google Meet Link\, 17 Stackpole Dr\, Machias\, ME\, 04654\, United States
END:VEVENT
BEGIN:VEVENT
DTSTART;VALUE=DATE:20250620
DTEND;VALUE=DATE:20250621
DTSTAMP:20260423T235950
CREATED:20250603T180138Z
LAST-MODIFIED:20250603T180138Z
UID:10001411-1750377600-1750463999@machiasme.gov
SUMMARY:Machias Town Office will be closed
DESCRIPTION:
URL:https://machiasme.gov/event/machias-town-office-will-be-closed-5/
END:VEVENT
BEGIN:VEVENT
DTSTART;TZID=UTC:20250619T180000
DTEND;TZID=UTC:20250619T200000
DTSTAMP:20260423T235950
CREATED:20250613T124339Z
LAST-MODIFIED:20250613T124339Z
UID:10001412-1750356000-1750363200@machiasme.gov
SUMMARY:Kitchen concert Series @ Bad Little Falls Park - The Swampwalkers
DESCRIPTION:
URL:https://machiasme.gov/event/kitchen-concert-series-bad-little-falls-park-the-swampwalkers/
LOCATION:Bad Little Falls Park\, Machias\, Maine
END:VEVENT
BEGIN:VEVENT
DTSTART;VALUE=DATE:20250619
DTEND;VALUE=DATE:20250620
DTSTAMP:20260423T235950
CREATED:20250106T185648Z
LAST-MODIFIED:20250106T185648Z
UID:10001343-1750291200-1750377599@machiasme.gov
SUMMARY:Machias Town Office will be closed for Juneteenth
DESCRIPTION:
URL:https://machiasme.gov/event/machias-town-office-will-be-closed-for-juneteenth/
END:VEVENT
BEGIN:VEVENT
DTSTART;TZID=UTC:20250611T193000
DTEND;TZID=UTC:20250611T200000
DTSTAMP:20260423T235950
CREATED:20250307T160050Z
LAST-MODIFIED:20250502T145652Z
UID:10000817-1749670200-1749672000@machiasme.gov
SUMMARY:Machias Select Board Meeting Immediately following Annual Town Meeting
DESCRIPTION:
URL:https://machiasme.gov/event/machias-select-board-meeting-12/
LOCATION:The Machias Tele-Business Center & Google Meet Link\, 17 Stackpole Dr\, Machias\, ME\, 04654\, United States
END:VEVENT
BEGIN:VEVENT
DTSTART;TZID=UTC:20250611T190000
DTEND;TZID=UTC:20250611T200000
DTSTAMP:20260423T235950
CREATED:20250428T142253Z
LAST-MODIFIED:20250428T142253Z
UID:10001401-1749668400-1749672000@machiasme.gov
SUMMARY:Annual Town Meeting - Recovene
DESCRIPTION:
URL:https://machiasme.gov/event/annual-town-meeting-recovene/
LOCATION:Machias Memorial High School Gym\, 30 Bulldog Lane\, Machias ME\, 04654\, United States
END:VEVENT
BEGIN:VEVENT
DTSTART;TZID=UTC:20250610T080000
DTEND;TZID=UTC:20250610T200000
DTSTAMP:20260423T235950
CREATED:20250428T141936Z
LAST-MODIFIED:20250428T142912Z
UID:10001400-1749542400-1749585600@machiasme.gov
SUMMARY:VOTING - Open Annual Town Meeting/Secret Ballot
DESCRIPTION:
URL:https://machiasme.gov/event/open-town-meeting-secret-ballot-voting/
LOCATION:Machias Memorial High School Gym\, 30 Bulldog Lane\, Machias ME\, 04654\, United States
END:VEVENT
BEGIN:VEVENT
DTSTART;VALUE=DATE:20250610
DTEND;VALUE=DATE:20250611
DTSTAMP:20260423T235950
CREATED:20250602T165504Z
LAST-MODIFIED:20250602T180853Z
UID:10001410-1749513600-1749599999@machiasme.gov
SUMMARY:MACHIAS TOWN OFFICE WILL BE CLOSED FOR ELECTIONS
DESCRIPTION:
URL:https://machiasme.gov/event/machias-town-office-will-be-closed-for-elections/
END:VEVENT
BEGIN:VEVENT
DTSTART;TZID=UTC:20250604T180000
DTEND;TZID=UTC:20250604T200000
DTSTAMP:20260423T235950
CREATED:20160219T151457Z
LAST-MODIFIED:20241205T144204Z
UID:10000006-1749060000-1749067200@machiasme.gov
SUMMARY:Planning Board Meeting
DESCRIPTION:The Planning Board meets the first Wednesday of the month at 6 p.m.
URL:https://machiasme.gov/event/planning-board-meeting-2025-06-02/
LOCATION:Machias Town Hall\, 7 Court Street\, Suite 1\, Machias\, ME\, 04654\, United States
CATEGORIES:Town Meetings
GEO:44.7184924;-67.4532582
X-APPLE-STRUCTURED-LOCATION;VALUE=URI;X-ADDRESS=Machias Town Hall 7 Court Street Suite 1 Machias ME 04654 United States;X-APPLE-RADIUS=500;X-TITLE=7 Court Street\, Suite 1:geo:-67.4532582,44.7184924
END:VEVENT
BEGIN:VEVENT
DTSTART;TZID=UTC:20250604T160000
DTEND;TZID=UTC:20250604T170000
DTSTAMP:20260423T235950
CREATED:20250529T184310Z
LAST-MODIFIED:20250529T184310Z
UID:10001408-1749052800-1749056400@machiasme.gov
SUMMARY:MACHIAS SCHOOL COMMITTEE MEETING
DESCRIPTION:
URL:https://machiasme.gov/event/machias-school-committee-meeting-30/
LOCATION:Machias Memorial High School – Room 6
END:VEVENT
BEGIN:VEVENT
DTSTART;TZID=UTC:20250602T180000
DTEND;TZID=UTC:20250602T190000
DTSTAMP:20260423T235950
CREATED:20250529T184436Z
LAST-MODIFIED:20250529T184436Z
UID:10001409-1748887200-1748890800@machiasme.gov
SUMMARY:MACHIAS COMPREHENSIVE PLANNING COMMITTEE MEETING
DESCRIPTION:
URL:https://machiasme.gov/event/machias-comprehensive-planning-committee-meeting-8/
LOCATION:The Machias Tele-Business Center & Google Meet Link\, 17 Stackpole Dr\, Machias\, ME\, 04654\, United States
END:VEVENT
BEGIN:VEVENT
DTSTART;VALUE=DATE:20250531
DTEND;VALUE=DATE:20250601
DTSTAMP:20260423T235950
CREATED:20250506T182701Z
LAST-MODIFIED:20250506T182703Z
UID:10001405-1748649600-1748735999@machiasme.gov
SUMMARY:1st Annual Kitchen Kup @ Barren View Golf Course
DESCRIPTION:
URL:https://machiasme.gov/event/1st-annual-kitchen-kup-barren-view-golf-course/
END:VEVENT
BEGIN:VEVENT
DTSTART;TZID=UTC:20250528T170000
DTEND;TZID=UTC:20250528T200000
DTSTAMP:20260423T235950
CREATED:20250307T155922Z
LAST-MODIFIED:20250523T192005Z
UID:10000816-1748451600-1748462400@machiasme.gov
SUMMARY:Machias Select Board Meeting and Public Hearing
DESCRIPTION:
URL:https://machiasme.gov/event/machias-select-board-meeting-11/
LOCATION:The Machias Tele-Business Center & Google Meet Link\, 17 Stackpole Dr\, Machias\, ME\, 04654\, United States
END:VEVENT
BEGIN:VEVENT
DTSTART;TZID=UTC:20250527T180000
DTEND;TZID=UTC:20250527T190000
DTSTAMP:20260423T235950
CREATED:20250428T141536Z
LAST-MODIFIED:20250515T155737Z
UID:10001399-1748368800-1748372400@machiasme.gov
SUMMARY:Machias School Budget Referendum
DESCRIPTION:Click here for Machias School warrant
URL:https://machiasme.gov/event/machias-school-budget-referendum-2/
LOCATION:Rose M. Gaffney School Gynasium\, 15 Rose Gaffney Road\, Machias\, Maine\, 04654
END:VEVENT
BEGIN:VEVENT
DTSTART;VALUE=DATE:20250526
DTEND;VALUE=DATE:20250527
DTSTAMP:20260423T235950
CREATED:20250519T143059Z
LAST-MODIFIED:20250519T143059Z
UID:10001407-1748217600-1748303999@machiasme.gov
SUMMARY:Machias Town Office will be closed for Memorial Day
DESCRIPTION:
URL:https://machiasme.gov/event/machias-town-office-will-be-closed-for-memorial-day-3/
END:VEVENT
BEGIN:VEVENT
DTSTART;VALUE=DATE:20250526
DTEND;VALUE=DATE:20250527
DTSTAMP:20260423T235950
CREATED:20250106T185609Z
LAST-MODIFIED:20250106T185609Z
UID:10001342-1748217600-1748303999@machiasme.gov
SUMMARY:Machias Town Office will be closed for Memorial Day
DESCRIPTION:
URL:https://machiasme.gov/event/machias-town-office-will-be-closed-for-memorial-day-2/
END:VEVENT
BEGIN:VEVENT
DTSTART;TZID=UTC:20250519T080000
DTEND;TZID=UTC:20250519T170000
DTSTAMP:20260423T235950
CREATED:20250519T193453Z
LAST-MODIFIED:20250519T193455Z
UID:10001403-1747641600-1747674000@machiasme.gov
SUMMARY:Machias Comprehensive Planning Committee Meeting - CANCELLED
DESCRIPTION:
URL:https://machiasme.gov/event/machias-comprehensive-planning-committee-meeting-7-2/
LOCATION:The Machias Tele-Business Center\, 17 Stackpole Dr\, Machias\, ME\, 04654\, United States
END:VEVENT
BEGIN:VEVENT
DTSTART;TZID=UTC:20250514T170000
DTEND;TZID=UTC:20250514T200000
DTSTAMP:20260423T235950
CREATED:20250307T155834Z
LAST-MODIFIED:20250307T155845Z
UID:10000815-1747242000-1747252800@machiasme.gov
SUMMARY:Machias Select Board Meeting
DESCRIPTION:
URL:https://machiasme.gov/event/machias-select-board-meeting-10/
LOCATION:The Machias Tele-Business Center & Google Meet Link\, 17 Stackpole Dr\, Machias\, ME\, 04654\, United States
END:VEVENT
BEGIN:VEVENT
DTSTART;TZID=UTC:20250513T173000
DTEND;TZID=UTC:20250513T190000
DTSTAMP:20260423T235950
CREATED:20250429T140507Z
LAST-MODIFIED:20250429T140507Z
UID:10001404-1747157400-1747162800@machiasme.gov
SUMMARY:Machias Valley Airport Committee Meeting
DESCRIPTION:
URL:https://machiasme.gov/event/machias-valley-airport-committee-meeting-3/
LOCATION:Machias Valley Airport\, Airport Rd\, Machias\, ME\, 04654\, United States
END:VEVENT
BEGIN:VEVENT
DTSTART;TZID=UTC:20250507T180000
DTEND;TZID=UTC:20250507T200000
DTSTAMP:20260423T235950
CREATED:20160219T151457Z
LAST-MODIFIED:20241205T144314Z
UID:10000005-1746640800-1746648000@machiasme.gov
SUMMARY:Planning Board Meeting
DESCRIPTION:The Planning Board meets the first Wednesday of the month at 6 p.m.
URL:https://machiasme.gov/event/planning-board-meeting-2025-05-02/
LOCATION:Machias Town Hall\, 7 Court Street\, Suite 1\, Machias\, ME\, 04654\, United States
CATEGORIES:Town Meetings
GEO:44.7184924;-67.4532582
X-APPLE-STRUCTURED-LOCATION;VALUE=URI;X-ADDRESS=Machias Town Hall 7 Court Street Suite 1 Machias ME 04654 United States;X-APPLE-RADIUS=500;X-TITLE=7 Court Street\, Suite 1:geo:-67.4532582,44.7184924
END:VEVENT
BEGIN:VEVENT
DTSTART;TZID=UTC:20250507T160000
DTEND;TZID=UTC:20250507T170000
DTSTAMP:20260423T235950
CREATED:20250506T183216Z
LAST-MODIFIED:20250506T183216Z
UID:10001406-1746633600-1746637200@machiasme.gov
SUMMARY:School Committee Meeting
DESCRIPTION:Click here for meeting agenda
URL:https://machiasme.gov/event/school-committee-meeting-2/
LOCATION:Machias Memorial High School – Room 6
END:VEVENT
BEGIN:VEVENT
DTSTART;TZID=UTC:20250505T180000
DTEND;TZID=UTC:20250505T200000
DTSTAMP:20260423T235950
CREATED:20250429T134626Z
LAST-MODIFIED:20250429T134626Z
UID:10001402-1746468000-1746475200@machiasme.gov
SUMMARY:Machias Comprehensive Planning Committee Meeting
DESCRIPTION:
URL:https://machiasme.gov/event/machias-comprehensive-planning-committee-meeting-7/
LOCATION:The Machias Tele-Business Center\, 17 Stackpole Dr\, Machias\, ME\, 04654\, United States
END:VEVENT
BEGIN:VEVENT
DTSTART;TZID=UTC:20250429T163000
DTEND;TZID=UTC:20250429T190000
DTSTAMP:20260423T235950
CREATED:20250424T195336Z
LAST-MODIFIED:20250424T201117Z
UID:10001398-1745944200-1745953200@machiasme.gov
SUMMARY:Machias Select Board and Budget Meeting Immediately following Select Board Meeting
DESCRIPTION:Click here for Budget Agenda
URL:https://machiasme.gov/event/machias-select-board-and-budget-meeting-immediately-following-select-board-meeting/
LOCATION:The Machias Tele-Business Center\, 17 Stackpole Dr\, Machias\, ME\, 04654\, United States
END:VEVENT
BEGIN:VEVENT
DTSTART;TZID=UTC:20250429T160000
DTEND;TZID=UTC:20250429T163000
DTSTAMP:20260423T235950
CREATED:20250424T195207Z
LAST-MODIFIED:20250428T124521Z
UID:10001397-1745942400-1745944200@machiasme.gov
SUMMARY:Machias Select Board Meeting
DESCRIPTION:click here for BOS Agenda
URL:https://machiasme.gov/event/machias-select-board-meeting-4/
LOCATION:The Machias Tele-Business Center & Google Meet Link\, 17 Stackpole Dr\, Machias\, ME\, 04654\, United States
END:VEVENT
END:VCALENDAR