BEGIN:VCALENDAR
VERSION:2.0
PRODID:-//Town of Machias - ECPv6.15.20//NONSGML v1.0//EN
CALSCALE:GREGORIAN
METHOD:PUBLISH
X-ORIGINAL-URL:https://machiasme.gov
X-WR-CALDESC:Events for Town of Machias
REFRESH-INTERVAL;VALUE=DURATION:PT1H
X-Robots-Tag:noindex
X-PUBLISHED-TTL:PT1H
BEGIN:VTIMEZONE
TZID:UTC
BEGIN:STANDARD
TZOFFSETFROM:+0000
TZOFFSETTO:+0000
TZNAME:UTC
DTSTART:20230101T000000
END:STANDARD
END:VTIMEZONE
BEGIN:VEVENT
DTSTART;TZID=UTC:20240905T173000
DTEND;TZID=UTC:20240905T193000
DTSTAMP:20260425T162737
CREATED:20240806T162043Z
LAST-MODIFIED:20240806T162043Z
UID:10001308-1725557400-1725564600@machiasme.gov
SUMMARY:BAD LITTLE FALLS PARK SUMMER CONCERT SERIES - CLOUDWAGON
DESCRIPTION:
URL:https://machiasme.gov/event/bad-little-falls-park-summer-concert-series-cloudwagon/
LOCATION:Bad Little Falls Park\, Machias\, Maine
END:VEVENT
BEGIN:VEVENT
DTSTART;VALUE=DATE:20240910
DTEND;VALUE=DATE:20240911
DTSTAMP:20260425T162737
CREATED:20240910T124606Z
LAST-MODIFIED:20240910T124606Z
UID:10001321-1725926400-1726012799@machiasme.gov
SUMMARY:THE MACHIAS TOWN OFFICE WILL BE CLOSED
DESCRIPTION:
URL:https://machiasme.gov/event/the-machias-town-office-will-be-closed-13/
END:VEVENT
BEGIN:VEVENT
DTSTART;TZID=UTC:20240911T180000
DTEND;TZID=UTC:20240911T200000
DTSTAMP:20260425T162737
CREATED:20231214T150854Z
LAST-MODIFIED:20240911T125943Z
UID:10001257-1726077600-1726084800@machiasme.gov
SUMMARY:Machias Select Board Emergency Meeting
DESCRIPTION:
URL:https://machiasme.gov/event/board-of-select-peoples-meeting-4-2024-04-24-2024-09-11/
LOCATION:Machias Tele-Business Center and via Zoom\, 17 stackpole Dr\, Machias\, ME\, 04654\, United States
END:VEVENT
BEGIN:VEVENT
DTSTART;TZID=UTC:20240911T180000
DTEND;TZID=UTC:20240911T200000
DTSTAMP:20260425T162737
CREATED:20231214T150854Z
LAST-MODIFIED:20240909T160342Z
UID:10001273-1726077600-1726084800@machiasme.gov
SUMMARY:Machias Select Board Meeting
DESCRIPTION:
URL:https://machiasme.gov/event/board-of-select-peoples-meeting-4-2024-04-24-2024-10-09/2024-09-11/
LOCATION:Machias Tele-Business Center and via Zoom\, 17 stackpole Dr\, Machias\, ME\, 04654\, United States
END:VEVENT
BEGIN:VEVENT
DTSTART;VALUE=DATE:20240914
DTEND;VALUE=DATE:20240915
DTSTAMP:20260425T162737
CREATED:20240911T185845Z
LAST-MODIFIED:20240912T150052Z
UID:10001322-1726272000-1726358399@machiasme.gov
SUMMARY:The Machias Bay Area Transfer Station will be closed for Memorial Service
DESCRIPTION:
URL:https://machiasme.gov/event/the-machias-bay-area-transfer-station-will-be-closed-for-funeral-services/
END:VEVENT
BEGIN:VEVENT
DTSTART;TZID=UTC:20240914T120000
DTEND;TZID=UTC:20240914T143000
DTSTAMP:20260425T162737
CREATED:20240912T145021Z
LAST-MODIFIED:20240913T182438Z
UID:10001324-1726315200-1726324200@machiasme.gov
SUMMARY:Memorial Service for Bill Kitchen -  Machias Town Manager
DESCRIPTION:We invite the community to join us in honoring the life and legacy of Bill Kitchen this Saturday\, September 14th\, at 12:00 PM at the Machias Memorial High School Gymnasium (30 Bulldog Lane\, Machias\, ME 04654). \nIn celebration of Bill’s vibrant spirit\, we ask that all attendees wear their brightest colored outfits to the service. Following the memorial\, there will be a parade led by our emergency responders\, passing by some of Bill’s favorite places in town. The parade will conclude at the memorial reception at West Branch Farms (180 W Kennebec Road\, Machias\, ME 04654)\, where everyone is welcome to gather for music\, light snacks\, and refreshments. \nPlease join us to celebrate the life of Bill. \n\n\n\nLive stream link click here https://www.youtube.com/@mmhsbulldogs?app=desktop
URL:https://machiasme.gov/event/memorial-service-for-bill-kitchen-machias-town-manager/
LOCATION:Machias Memorial High School Gym\, 30 Bulldog Lane\, Machias ME\, 04654\, United States
END:VEVENT
BEGIN:VEVENT
DTSTART;TZID=UTC:20240923T123000
DTEND;TZID=UTC:20240923T160000
DTSTAMP:20260425T162738
CREATED:20240916T141049Z
LAST-MODIFIED:20240916T141049Z
UID:10001323-1727094600-1727107200@machiasme.gov
SUMMARY:The Machias Town Office will be closed for training
DESCRIPTION:
URL:https://machiasme.gov/event/the-machias-town-office-will-be-closed-for-training-7/
END:VEVENT
BEGIN:VEVENT
DTSTART;VALUE=DATE:20240924
DTEND;VALUE=DATE:20240925
DTSTAMP:20260425T162738
CREATED:20240916T141124Z
LAST-MODIFIED:20240916T141124Z
UID:10001325-1727136000-1727222399@machiasme.gov
SUMMARY:The Machias Town Office will be closed for municipal elections
DESCRIPTION:
URL:https://machiasme.gov/event/the-machias-town-office-will-be-closed-for-municipal-elections/
END:VEVENT
BEGIN:VEVENT
DTSTART;TZID=UTC:20240924T080000
DTEND;TZID=UTC:20240924T200000
DTSTAMP:20260425T162738
CREATED:20240731T162354Z
LAST-MODIFIED:20240731T180618Z
UID:10000779-1727164800-1727208000@machiasme.gov
SUMMARY:Town of Machias - Municipal Voting
DESCRIPTION:
URL:https://machiasme.gov/event/town-of-machias-municipal-voting/
LOCATION:Machias Memorial High School Gym\, 30 Bulldog Lane\, Machias ME\, 04654\, United States
END:VEVENT
BEGIN:VEVENT
DTSTART;TZID=UTC:20240925T180000
DTEND;TZID=UTC:20240925T200000
DTSTAMP:20260425T162738
CREATED:20231214T150854Z
LAST-MODIFIED:20240909T160342Z
UID:10001274-1727287200-1727294400@machiasme.gov
SUMMARY:Machias Select Board Meeting
DESCRIPTION:
URL:https://machiasme.gov/event/board-of-select-peoples-meeting-4-2024-04-24-2024-10-09/2024-09-25/
LOCATION:Machias Tele-Business Center and via Zoom\, 17 stackpole Dr\, Machias\, ME\, 04654\, United States
END:VEVENT
BEGIN:VEVENT
DTSTART;TZID=UTC:20240925T190000
DTEND;TZID=UTC:20240925T200000
DTSTAMP:20260425T162738
CREATED:20240731T180912Z
LAST-MODIFIED:20240731T180912Z
UID:10000781-1727290800-1727294400@machiasme.gov
SUMMARY:Machias Annual Town Meeting
DESCRIPTION:
URL:https://machiasme.gov/event/machias-annual-town-meeting-2/
END:VEVENT
BEGIN:VEVENT
DTSTART;TZID=UTC:20240925T193000
DTEND;TZID=UTC:20240925T193000
DTSTAMP:20260425T162738
CREATED:20240916T142945Z
LAST-MODIFIED:20240916T145027Z
UID:10001326-1727292600-1727292600@machiasme.gov
SUMMARY:Town of Machias - Public Hearing Immediately following Annual Town Meeting
DESCRIPTION:The Town of Machias will hold Public Hearing immediately following the Town Meeting on September 25\, 2024.  The Machias Select Board will convene at the Machias Tele-Business Center for the purpose of receiving public input concerning the adoption of the Muncipality of Machias General Assistance Ordinance and Appendices A-H of the General Assistance Maximums for October 1\, 2024 – September 30\, 2025.
URL:https://machiasme.gov/event/town-of-machias-public-hearing-11/
LOCATION:The Machias Tele-Business Center & Google Meet Link\, 17 Stackpole Dr\, Machias\, ME\, 04654\, United States
END:VEVENT
BEGIN:VEVENT
DTSTART;TZID=UTC:20240925T193000
DTEND;TZID=UTC:20240925T200000
DTSTAMP:20260425T162738
CREATED:20231214T150854Z
LAST-MODIFIED:20240920T182757Z
UID:10001256-1727292600-1727294400@machiasme.gov
SUMMARY:Machias Select Board  Meeting Immediately following Public Hearing
DESCRIPTION:
URL:https://machiasme.gov/event/board-of-select-peoples-meeting-4-2024-04-24-2024-09-25/
LOCATION:Machias Tele-Business Center and via Zoom\, 17 stackpole Dr\, Machias\, ME\, 04654\, United States
END:VEVENT
BEGIN:VEVENT
DTSTART;TZID=UTC:20241002T180000
DTEND;TZID=UTC:20241002T200000
DTSTAMP:20260425T162738
CREATED:20160219T151457Z
LAST-MODIFIED:20241205T143320Z
UID:10000156-1727892000-1727899200@machiasme.gov
SUMMARY:Planning Board Meeting
DESCRIPTION:The Planning Board meets the first Wednesday of the month at 6 p.m.
URL:https://machiasme.gov/event/planning-board-meeting/2024-10-02/
LOCATION:Machias Town Hall\, 7 Court Street\, Suite 1\, Machias\, ME\, 04654\, United States
CATEGORIES:Town Meetings
GEO:44.7184924;-67.4532582
X-APPLE-STRUCTURED-LOCATION;VALUE=URI;X-ADDRESS=Machias Town Hall 7 Court Street Suite 1 Machias ME 04654 United States;X-APPLE-RADIUS=500;X-TITLE=7 Court Street\, Suite 1:geo:-67.4532582,44.7184924
END:VEVENT
BEGIN:VEVENT
DTSTART;TZID=UTC:20241002T190000
DTEND;TZID=UTC:20241002T200000
DTSTAMP:20260425T162738
CREATED:20240806T195723Z
LAST-MODIFIED:20240806T195723Z
UID:10001311-1727895600-1727899200@machiasme.gov
SUMMARY:Planning Board Meeting
DESCRIPTION:
URL:https://machiasme.gov/event/planning-board-meeting-8/2024-10-02/
LOCATION:The Machias Tele-Business Center & Google Meet Link\, 17 Stackpole Dr\, Machias\, ME\, 04654\, United States
END:VEVENT
BEGIN:VEVENT
DTSTART;TZID=UTC:20241009T180000
DTEND;TZID=UTC:20241009T200000
DTSTAMP:20260425T162738
CREATED:20231214T150854Z
LAST-MODIFIED:20240909T160342Z
UID:10001275-1728496800-1728504000@machiasme.gov
SUMMARY:Machias Select Board Meeting
DESCRIPTION:
URL:https://machiasme.gov/event/board-of-select-peoples-meeting-4-2024-04-24-2024-10-09/2024-10-09/
LOCATION:Machias Tele-Business Center and via Zoom\, 17 stackpole Dr\, Machias\, ME\, 04654\, United States
END:VEVENT
BEGIN:VEVENT
DTSTART;VALUE=DATE:20241014
DTEND;VALUE=DATE:20241015
DTSTAMP:20260425T162738
CREATED:20241004T134418Z
LAST-MODIFIED:20241004T134418Z
UID:10001327-1728864000-1728950399@machiasme.gov
SUMMARY:Machias Town Office will be closed for  Columbus Day
DESCRIPTION:
URL:https://machiasme.gov/event/machias-town-office-will-be-closed-for-columbus-day-2/
END:VEVENT
BEGIN:VEVENT
DTSTART;VALUE=DATE:20241022
DTEND;VALUE=DATE:20241023
DTSTAMP:20260425T162738
CREATED:20241017T153250Z
LAST-MODIFIED:20241017T153250Z
UID:10001328-1729555200-1729641599@machiasme.gov
SUMMARY:MACHIAS TOWN OFFICE WILL BE CLOSED - PROCESS TAX BILLS
DESCRIPTION:
URL:https://machiasme.gov/event/machias-town-office-will-be-closed-process-tax-bills/
END:VEVENT
BEGIN:VEVENT
DTSTART;TZID=UTC:20241023T180000
DTEND;TZID=UTC:20241023T200000
DTSTAMP:20260425T162738
CREATED:20231214T150854Z
LAST-MODIFIED:20240909T160342Z
UID:10001276-1729706400-1729713600@machiasme.gov
SUMMARY:Machias Select Board Meeting
DESCRIPTION:
URL:https://machiasme.gov/event/board-of-select-peoples-meeting-4-2024-04-24-2024-10-09/2024-10-23/
LOCATION:Machias Tele-Business Center and via Zoom\, 17 stackpole Dr\, Machias\, ME\, 04654\, United States
END:VEVENT
BEGIN:VEVENT
DTSTART;TZID=UTC:20241028T180000
DTEND;TZID=UTC:20241028T190000
DTSTAMP:20260425T162738
CREATED:20241024T152139Z
LAST-MODIFIED:20241024T152139Z
UID:10001329-1730138400-1730142000@machiasme.gov
SUMMARY:Machias Select Board Meeting
DESCRIPTION:
URL:https://machiasme.gov/event/machias-select-board-meeting/
LOCATION:The Machias Tele-Business Center\, 17 Stackpole Dr\, Machias\, ME\, 04654\, United States
END:VEVENT
BEGIN:VEVENT
DTSTART;TZID=UTC:20241102T180000
DTEND;TZID=UTC:20241102T200000
DTSTAMP:20260425T162738
CREATED:20160219T151457Z
LAST-MODIFIED:20241205T143320Z
UID:10000157-1730570400-1730577600@machiasme.gov
SUMMARY:Planning Board Meeting
DESCRIPTION:The Planning Board meets the first Wednesday of the month at 6 p.m.
URL:https://machiasme.gov/event/planning-board-meeting/2024-11-02/
LOCATION:Machias Town Hall\, 7 Court Street\, Suite 1\, Machias\, ME\, 04654\, United States
CATEGORIES:Town Meetings
GEO:44.7184924;-67.4532582
X-APPLE-STRUCTURED-LOCATION;VALUE=URI;X-ADDRESS=Machias Town Hall 7 Court Street Suite 1 Machias ME 04654 United States;X-APPLE-RADIUS=500;X-TITLE=7 Court Street\, Suite 1:geo:-67.4532582,44.7184924
END:VEVENT
BEGIN:VEVENT
DTSTART;VALUE=DATE:20241105
DTEND;VALUE=DATE:20241106
DTSTAMP:20260425T162738
CREATED:20241028T180442Z
LAST-MODIFIED:20241028T180442Z
UID:10001331-1730764800-1730851199@machiasme.gov
SUMMARY:MACHIAS TOWN OFFICE WILL BE CLOSED ELECTION DAY
DESCRIPTION:
URL:https://machiasme.gov/event/machias-town-office-will-be-closed-election-day/
END:VEVENT
BEGIN:VEVENT
DTSTART;TZID=UTC:20241105T080000
DTEND;TZID=UTC:20241105T200000
DTSTAMP:20260425T162738
CREATED:20241028T172536Z
LAST-MODIFIED:20241028T180349Z
UID:10001330-1730793600-1730836800@machiasme.gov
SUMMARY:ELECTION DAY
DESCRIPTION:
URL:https://machiasme.gov/event/election-day-6/
LOCATION:Machias Memorial High School Gym\, 30 Bulldog Lane\, Machias ME\, 04654\, United States
END:VEVENT
BEGIN:VEVENT
DTSTART;TZID=UTC:20241106T190000
DTEND;TZID=UTC:20241106T200000
DTSTAMP:20260425T162738
CREATED:20240806T195723Z
LAST-MODIFIED:20240806T195723Z
UID:10001312-1730919600-1730923200@machiasme.gov
SUMMARY:Planning Board Meeting
DESCRIPTION:
URL:https://machiasme.gov/event/planning-board-meeting-8/2024-11-06/
LOCATION:The Machias Tele-Business Center & Google Meet Link\, 17 Stackpole Dr\, Machias\, ME\, 04654\, United States
END:VEVENT
BEGIN:VEVENT
DTSTART;VALUE=DATE:20241111
DTEND;VALUE=DATE:20241112
DTSTAMP:20260425T162738
CREATED:20241107T172358Z
LAST-MODIFIED:20241107T172358Z
UID:10001332-1731283200-1731369599@machiasme.gov
SUMMARY:Machias Town Office will be closed for Veteran's Day
DESCRIPTION:
URL:https://machiasme.gov/event/machias-town-office-will-be-closed-for-veterans-day-2/
END:VEVENT
BEGIN:VEVENT
DTSTART;TZID=UTC:20241113T180000
DTEND;TZID=UTC:20241113T200000
DTSTAMP:20260425T162738
CREATED:20231214T150854Z
LAST-MODIFIED:20240909T160342Z
UID:10001277-1731520800-1731528000@machiasme.gov
SUMMARY:Machias Select Board Meeting
DESCRIPTION:
URL:https://machiasme.gov/event/board-of-select-peoples-meeting-4-2024-04-24-2024-10-09/2024-11-13/
LOCATION:Machias Tele-Business Center and via Zoom\, 17 stackpole Dr\, Machias\, ME\, 04654\, United States
END:VEVENT
BEGIN:VEVENT
DTSTART;VALUE=DATE:20241114
DTEND;VALUE=DATE:20241115
DTSTAMP:20260425T162738
CREATED:20241108T154254Z
LAST-MODIFIED:20241108T154254Z
UID:10000794-1731542400-1731628799@machiasme.gov
SUMMARY:Machias Town Office will be closed
DESCRIPTION:
URL:https://machiasme.gov/event/machias-town-office-will-be-closed-4/
END:VEVENT
BEGIN:VEVENT
DTSTART;TZID=UTC:20241127T180000
DTEND;TZID=UTC:20241127T180000
DTSTAMP:20260425T162738
CREATED:20241119T142524Z
LAST-MODIFIED:20241119T142524Z
UID:10000795-1732730400-1732730400@machiasme.gov
SUMMARY:Machias Select Board Meeting - Cancelled
DESCRIPTION:
URL:https://machiasme.gov/event/machias-select-board-meeting-cancelled/
END:VEVENT
BEGIN:VEVENT
DTSTART;VALUE=DATE:20241128
DTEND;VALUE=DATE:20241129
DTSTAMP:20260425T162738
CREATED:20241119T142734Z
LAST-MODIFIED:20241119T142734Z
UID:10000798-1732752000-1732838399@machiasme.gov
SUMMARY:Machias Town Office will be closed for Thanksgiving
DESCRIPTION:
URL:https://machiasme.gov/event/machias-town-office-will-be-closed-for-thanksgiving-3/2024-11-28/
END:VEVENT
BEGIN:VEVENT
DTSTART;VALUE=DATE:20241129
DTEND;VALUE=DATE:20241130
DTSTAMP:20260425T162738
CREATED:20241119T142734Z
LAST-MODIFIED:20241119T142734Z
UID:10000799-1732838400-1732924799@machiasme.gov
SUMMARY:Machias Town Office will be closed for Thanksgiving
DESCRIPTION:
URL:https://machiasme.gov/event/machias-town-office-will-be-closed-for-thanksgiving-3/2024-11-29/
END:VEVENT
END:VCALENDAR