BEGIN:VCALENDAR
VERSION:2.0
PRODID:-//Town of Machias - ECPv6.15.20//NONSGML v1.0//EN
CALSCALE:GREGORIAN
METHOD:PUBLISH
X-WR-CALNAME:Town of Machias
X-ORIGINAL-URL:https://machiasme.gov
X-WR-CALDESC:Events for Town of Machias
REFRESH-INTERVAL;VALUE=DURATION:PT1H
X-Robots-Tag:noindex
X-PUBLISHED-TTL:PT1H
BEGIN:VTIMEZONE
TZID:UTC
BEGIN:STANDARD
TZOFFSETFROM:+0000
TZOFFSETTO:+0000
TZNAME:UTC
DTSTART:20220101T000000
END:STANDARD
END:VTIMEZONE
BEGIN:VEVENT
DTSTART;TZID=UTC:20230914T180000
DTEND;TZID=UTC:20230914T200000
DTSTAMP:20260425T220801
CREATED:20230906T154357Z
LAST-MODIFIED:20230906T154357Z
UID:10001233-1694714400-1694721600@machiasme.gov
SUMMARY:Town of Machias - Special Town Meeting
DESCRIPTION:Click here for Special Town Meeting Warrant
URL:https://machiasme.gov/event/town-of-machias-special-town-meeting-4/
LOCATION:Rose M. Gaffney School Gynasium\, 15 Rose Gaffney Road\, Machias\, Maine\, 04654
END:VEVENT
BEGIN:VEVENT
DTSTART;TZID=UTC:20230914T180000
DTEND;TZID=UTC:20230914T190000
DTSTAMP:20260425T220801
CREATED:20230906T153910Z
LAST-MODIFIED:20230906T153910Z
UID:10001232-1694714400-1694718000@machiasme.gov
SUMMARY:Town of Machias - Public Hearing
DESCRIPTION:Notice is hereby given that the Municipal Officers of the Town of Machias will hold a Public Hearing on September 14\, 2023 at 6:00 P.M. at the Rose M. Gaffney Gymnasium.  This Public Hearing is to consider placing a moratorium on additional medical marijuana storefronts.
URL:https://machiasme.gov/event/town-of-machias-public-hearing-8/
LOCATION:Rose M. Gaffney School Gynasium\, 15 Rose Gaffney Road\, Machias\, Maine\, 04654
END:VEVENT
BEGIN:VEVENT
DTSTART;TZID=UTC:20230913T180000
DTEND;TZID=UTC:20230913T210000
DTSTAMP:20260425T220801
CREATED:20221214T142137Z
LAST-MODIFIED:20230907T182206Z
UID:10001166-1694628000-1694638800@machiasme.gov
SUMMARY:Board of Select-People's Meeting
DESCRIPTION:Machias Board of Select-People is inviting you to a scheduled Zoom meeting. \nTopic: BOARD OF SELECT-PEOPLE MEETING\nTime: Sep 13\, 2023 06:00 PM Eastern Time (US and Canada) \nJoin Zoom Meeting\nhttps://us02web.zoom.us/j/85356054765?pwd=QU9zYjl2RWFGMDB6SDBZd1h1RnptUT09 \nMeeting ID: 853 5605 4765\nPasscode: 487722 \n— \nOne tap mobile\n+13126266799\,\,85356054765#\,\,\,\,*487722# US (Chicago)\n+16465588656\,\,85356054765#\,\,\,\,*487722# US (New York) \n— \nDial by your location\n• +1 312 626 6799 US (Chicago)\n• +1 646 558 8656 US (New York)\n• +1 646 931 3860 US\n• +1 301 715 8592 US (Washington DC)\n• +1 305 224 1968 US\n• +1 309 205 3325 US\n• +1 669 900 9128 US (San Jose)\n• +1 689 278 1000 US\n• +1 719 359 4580 US\n• +1 253 205 0468 US\n• +1 253 215 8782 US (Tacoma)\n• +1 346 248 7799 US (Houston)\n• +1 360 209 5623 US\n• +1 386 347 5053 US\n• +1 507 473 4847 US\n• +1 564 217 2000 US\n• +1 669 444 9171 US \nMeeting ID: 853 5605 4765\nPasscode: 487722 \nFind your local number: https://us02web.zoom.us/u/khx1qL7se \n 
URL:https://machiasme.gov/event/board-of-select-peoples-meeting-3-2023-09-13/
LOCATION:Machias Tele-Business Center and via Zoom\, 17 stackpole Dr\, Machias\, ME\, 04654\, United States
END:VEVENT
BEGIN:VEVENT
DTSTART;TZID=UTC:20230913T180000
DTEND;TZID=UTC:20230913T210000
DTSTAMP:20260425T220801
CREATED:20221214T142137Z
LAST-MODIFIED:20230921T160437Z
UID:10001183-1694628000-1694638800@machiasme.gov
SUMMARY:Board of Select-People's Meeting
DESCRIPTION:
URL:https://machiasme.gov/event/board-of-select-peoples-meeting-3-2023-10-11/2023-09-13/
LOCATION:Machias Tele-Business Center and via Zoom\, 17 stackpole Dr\, Machias\, ME\, 04654\, United States
END:VEVENT
BEGIN:VEVENT
DTSTART;TZID=UTC:20230913T160000
DTEND;TZID=UTC:20230913T180000
DTSTAMP:20260425T220801
CREATED:20230907T143324Z
LAST-MODIFIED:20230907T154340Z
UID:10001236-1694620800-1694628000@machiasme.gov
SUMMARY:Machias School Committee Meeting
DESCRIPTION:
URL:https://machiasme.gov/event/machias-school-committee-meeting-21/
LOCATION:Machias Memorial High School
END:VEVENT
BEGIN:VEVENT
DTSTART;TZID=UTC:20230912T135000
DTEND;TZID=UTC:20230912T145000
DTSTAMP:20260425T220801
CREATED:20230911T144719Z
LAST-MODIFIED:20230911T144719Z
UID:10001237-1694526600-1694530200@machiasme.gov
SUMMARY:The Machias Town Office will be closed for training
DESCRIPTION:
URL:https://machiasme.gov/event/the-machias-town-office-will-be-closed-for-training-5/
END:VEVENT
BEGIN:VEVENT
DTSTART;VALUE=DATE:20230904
DTEND;VALUE=DATE:20230905
DTSTAMP:20260425T220801
CREATED:20221214T165632Z
LAST-MODIFIED:20221214T165632Z
UID:10001195-1693785600-1693871999@machiasme.gov
SUMMARY:Machias Town Office will be closed Labor Day
DESCRIPTION:
URL:https://machiasme.gov/event/machias-town-office-will-be-closed-labor-day/
ATTACH;FMTTYPE=image/jpeg:https://machiasme.gov/wp-content/uploads/laborday.jpg
END:VEVENT
BEGIN:VEVENT
DTSTART;TZID=UTC:20230902T180000
DTEND;TZID=UTC:20230902T200000
DTSTAMP:20260425T220801
CREATED:20160219T151457Z
LAST-MODIFIED:20241205T143320Z
UID:10000143-1693677600-1693684800@machiasme.gov
SUMMARY:Planning Board Meeting
DESCRIPTION:The Planning Board meets the first Wednesday of the month at 6 p.m.
URL:https://machiasme.gov/event/planning-board-meeting/2023-09-02/
LOCATION:Machias Town Hall\, 7 Court Street\, Suite 1\, Machias\, ME\, 04654\, United States
CATEGORIES:Town Meetings
GEO:44.7184924;-67.4532582
X-APPLE-STRUCTURED-LOCATION;VALUE=URI;X-ADDRESS=Machias Town Hall 7 Court Street Suite 1 Machias ME 04654 United States;X-APPLE-RADIUS=500;X-TITLE=7 Court Street\, Suite 1:geo:-67.4532582,44.7184924
END:VEVENT
BEGIN:VEVENT
DTSTART;TZID=UTC:20230831T180000
DTEND;TZID=UTC:20230831T200000
DTSTAMP:20260425T220801
CREATED:20230825T174416Z
LAST-MODIFIED:20230825T174416Z
UID:10001231-1693504800-1693512000@machiasme.gov
SUMMARY:International Overdose Awareness Day
DESCRIPTION:
URL:https://machiasme.gov/event/international-overdose-awareness-day/
END:VEVENT
BEGIN:VEVENT
DTSTART;TZID=UTC:20230831T170000
DTEND;TZID=UTC:20230831T190000
DTSTAMP:20260425T220801
CREATED:20230720T181524Z
LAST-MODIFIED:20230720T181524Z
UID:10001229-1693501200-1693508400@machiasme.gov
SUMMARY:Summer Concert Series -Bad Little Falls Parks - TBD
DESCRIPTION:
URL:https://machiasme.gov/event/summer-concert-series-bad-little-falls-parks-tbd/
END:VEVENT
BEGIN:VEVENT
DTSTART;TZID=UTC:20230824T173000
DTEND;TZID=UTC:20230824T193000
DTSTAMP:20260425T220801
CREATED:20230629T174011Z
LAST-MODIFIED:20230720T181259Z
UID:10001227-1692898200-1692905400@machiasme.gov
SUMMARY:Summer Concert Series - Bad Little Falls Park - Drisko Street Barn Band & The Crows
DESCRIPTION:Click here for full calendar – https://machiasme.gov/wp-content/uploads/SummerConcerts2023-06292023135931.pdf
URL:https://machiasme.gov/event/summer-concert-series-bad-little-falls-park-sounds-like-this-2023-08-24/
END:VEVENT
BEGIN:VEVENT
DTSTART;TZID=UTC:20230824T150000
DTEND;TZID=UTC:20230824T160000
DTSTAMP:20260425T220801
CREATED:20230822T122229Z
LAST-MODIFIED:20230822T122229Z
UID:10001230-1692889200-1692892800@machiasme.gov
SUMMARY:The Machias Town Office will be closed early
DESCRIPTION:
URL:https://machiasme.gov/event/the-machias-town-office-will-be-closed-early/
END:VEVENT
BEGIN:VEVENT
DTSTART;TZID=UTC:20230823T180000
DTEND;TZID=UTC:20230823T210000
DTSTAMP:20260425T220801
CREATED:20221214T142137Z
LAST-MODIFIED:20230817T184028Z
UID:10001165-1692813600-1692824400@machiasme.gov
SUMMARY:Board of Select-People's Meeting
DESCRIPTION:Machias Board of Select-People is inviting you to a scheduled Zoom meeting. \nTopic: Machias Board of Select-People Meeting\nTime: Aug 23\, 2023 06:00 PM Eastern Time (US and Canada) \nJoin Zoom Meeting\nhttps://us02web.zoom.us/j/81401735701?pwd=VGdKQmtlZ0hPb1ArSjFSRGhFektTUT09 \nMeeting ID: 814 0173 5701\nPasscode: 036458 \n— \nOne tap mobile\n+16469313860\,\,81401735701#\,\,\,\,*036458# US\n+13017158592\,\,81401735701#\,\,\,\,*036458# US (Washington DC) \n— \nDial by your location\n• +1 646 931 3860 US\n• +1 301 715 8592 US (Washington DC)\n• +1 305 224 1968 US\n• +1 309 205 3325 US\n• +1 312 626 6799 US (Chicago)\n• +1 646 558 8656 US (New York)\n• +1 253 205 0468 US\n• +1 253 215 8782 US (Tacoma)\n• +1 346 248 7799 US (Houston)\n• +1 360 209 5623 US\n• +1 386 347 5053 US\n• +1 507 473 4847 US\n• +1 564 217 2000 US\n• +1 669 444 9171 US\n• +1 669 900 9128 US (San Jose)\n• +1 689 278 1000 US\n• +1 719 359 4580 US \nMeeting ID: 814 0173 5701\nPasscode: 036458 \nFind your local number: https://us02web.zoom.us/u/kbQtyFKyQH \n 
URL:https://machiasme.gov/event/board-of-select-peoples-meeting-3-2023-08-23/
LOCATION:Machias Tele-Business Center and via Zoom\, 17 stackpole Dr\, Machias\, ME\, 04654\, United States
END:VEVENT
BEGIN:VEVENT
DTSTART;TZID=UTC:20230823T180000
DTEND;TZID=UTC:20230823T210000
DTSTAMP:20260425T220801
CREATED:20221214T142137Z
LAST-MODIFIED:20230921T160437Z
UID:10001182-1692813600-1692824400@machiasme.gov
SUMMARY:Board of Select-People's Meeting
DESCRIPTION:
URL:https://machiasme.gov/event/board-of-select-peoples-meeting-3-2023-10-11/2023-08-23/
LOCATION:Machias Tele-Business Center and via Zoom\, 17 stackpole Dr\, Machias\, ME\, 04654\, United States
END:VEVENT
BEGIN:VEVENT
DTSTART;TZID=UTC:20230817T173000
DTEND;TZID=UTC:20230817T193000
DTSTAMP:20260425T220801
CREATED:20230629T174011Z
LAST-MODIFIED:20230720T181128Z
UID:10001226-1692293400-1692300600@machiasme.gov
SUMMARY:Summer Concert Series - Bad Little Falls Park - The Lamplighters
DESCRIPTION:Click here for full calendar – https://machiasme.gov/wp-content/uploads/SummerConcerts2023-06292023135931.pdf
URL:https://machiasme.gov/event/summer-concert-series-bad-little-falls-park-sounds-like-this-2023-08-17/
END:VEVENT
BEGIN:VEVENT
DTSTART;TZID=UTC:20230810T173000
DTEND;TZID=UTC:20230810T193000
DTSTAMP:20260425T220801
CREATED:20230629T174011Z
LAST-MODIFIED:20230720T181034Z
UID:10001225-1691688600-1691695800@machiasme.gov
SUMMARY:Summer Concert Series - Bad Little Falls Park - The Stillwater Band
DESCRIPTION:Click here for full calendar – https://machiasme.gov/wp-content/uploads/SummerConcerts2023-06292023135931.pdf
URL:https://machiasme.gov/event/summer-concert-series-bad-little-falls-park-sounds-like-this-2023-08-10/
END:VEVENT
BEGIN:VEVENT
DTSTART;TZID=UTC:20230809T180000
DTEND;TZID=UTC:20230809T210000
DTSTAMP:20260425T220801
CREATED:20221214T142137Z
LAST-MODIFIED:20230921T160437Z
UID:10001181-1691604000-1691614800@machiasme.gov
SUMMARY:Board of Select-People's Meeting
DESCRIPTION:
URL:https://machiasme.gov/event/board-of-select-peoples-meeting-3-2023-10-11/2023-08-09/
LOCATION:Machias Tele-Business Center and via Zoom\, 17 stackpole Dr\, Machias\, ME\, 04654\, United States
END:VEVENT
BEGIN:VEVENT
DTSTART;TZID=UTC:20230809T180000
DTEND;TZID=UTC:20230809T210000
DTSTAMP:20260425T220801
CREATED:20221214T142137Z
LAST-MODIFIED:20230724T141414Z
UID:10001164-1691604000-1691614800@machiasme.gov
SUMMARY:Board of Select-People's Meeting - CANCELLED
DESCRIPTION:
URL:https://machiasme.gov/event/board-of-select-peoples-meeting-3-2023-08-09/
LOCATION:Machias Tele-Business Center and via Zoom\, 17 stackpole Dr\, Machias\, ME\, 04654\, United States
END:VEVENT
BEGIN:VEVENT
DTSTART;TZID=UTC:20230803T173000
DTEND;TZID=UTC:20230803T193000
DTSTAMP:20260425T220801
CREATED:20230629T174011Z
LAST-MODIFIED:20230720T180937Z
UID:10000727-1691083800-1691091000@machiasme.gov
SUMMARY:Summer Concert Series - Bad Little Falls Park - Heavenly Hash
DESCRIPTION:Click here for full calendar – https://machiasme.gov/wp-content/uploads/SummerConcerts2023-06292023135931.pdf
URL:https://machiasme.gov/event/summer-concert-series-bad-little-falls-park-sounds-like-this-2023-08-03/
END:VEVENT
BEGIN:VEVENT
DTSTART;TZID=UTC:20230802T180000
DTEND;TZID=UTC:20230802T200000
DTSTAMP:20260425T220801
CREATED:20160219T151457Z
LAST-MODIFIED:20241205T143320Z
UID:10000142-1690999200-1691006400@machiasme.gov
SUMMARY:Planning Board Meeting
DESCRIPTION:The Planning Board meets the first Wednesday of the month at 6 p.m.
URL:https://machiasme.gov/event/planning-board-meeting/2023-08-02/
LOCATION:Machias Town Hall\, 7 Court Street\, Suite 1\, Machias\, ME\, 04654\, United States
CATEGORIES:Town Meetings
GEO:44.7184924;-67.4532582
X-APPLE-STRUCTURED-LOCATION;VALUE=URI;X-ADDRESS=Machias Town Hall 7 Court Street Suite 1 Machias ME 04654 United States;X-APPLE-RADIUS=500;X-TITLE=7 Court Street\, Suite 1:geo:-67.4532582,44.7184924
END:VEVENT
BEGIN:VEVENT
DTSTART;TZID=UTC:20230727T173000
DTEND;TZID=UTC:20230727T193000
DTSTAMP:20260425T220801
CREATED:20230629T174011Z
LAST-MODIFIED:20230720T180856Z
UID:10000726-1690479000-1690486200@machiasme.gov
SUMMARY:Summer Concert Series - Bad Little Falls Park - The Milk and Honey Rebellion
DESCRIPTION:Click here for full calendar – https://machiasme.gov/wp-content/uploads/SummerConcerts2023-06292023135931.pdf
URL:https://machiasme.gov/event/summer-concert-series-bad-little-falls-park-sounds-like-this-2023-07-27/
END:VEVENT
BEGIN:VEVENT
DTSTART;TZID=UTC:20230727T170000
DTEND;TZID=UTC:20230727T210000
DTSTAMP:20260425T220801
CREATED:20230623T135153Z
LAST-MODIFIED:20230623T135332Z
UID:10000717-1690477200-1690491600@machiasme.gov
SUMMARY:Machias Board of Appeals Meeting
DESCRIPTION:Machias Board of Select-People is inviting you to a scheduled Zoom meeting. \nTopic: Machias Board of Appeals\nTime: Jul 27\, 2023 05:00 PM Eastern Time (US and Canada) \nJoin Zoom Meeting\nhttps://us02web.zoom.us/j/84706350650?pwd=MG1NK3NtWld5eGFFUkZQS1hpenR1UT09 \nMeeting ID: 847 0635 0650\nPasscode: 440619 \n— \nOne tap mobile\n+16465588656\,\,84706350650#\,\,\,\,*440619# US (New York)\n+16469313860\,\,84706350650#\,\,\,\,*440619# US \n— \nDial by your location\n• +1 646 558 8656 US (New York)\n• +1 646 931 3860 US\n• +1 301 715 8592 US (Washington DC)\n• +1 305 224 1968 US\n• +1 309 205 3325 US\n• +1 312 626 6799 US (Chicago)\n• +1 346 248 7799 US (Houston)\n• +1 360 209 5623 US\n• +1 386 347 5053 US\n• +1 507 473 4847 US\n• +1 564 217 2000 US\n• +1 669 444 9171 US\n• +1 669 900 9128 US (San Jose)\n• +1 689 278 1000 US\n• +1 719 359 4580 US\n• +1 253 205 0468 US\n• +1 253 215 8782 US (Tacoma) \nMeeting ID: 847 0635 0650\nPasscode: 440619 \nFind your local number: https://us02web.zoom.us/u/km0INN1h \n 
URL:https://machiasme.gov/event/machias-board-of-appeals-meeting/
LOCATION:Machias Tele-Business Center and via Zoom\, 17 stackpole Dr\, Machias\, ME\, 04654\, United States
END:VEVENT
BEGIN:VEVENT
DTSTART;TZID=UTC:20230726T190000
DTEND;TZID=UTC:20230726T203000
DTSTAMP:20260425T220801
CREATED:20230626T150114Z
LAST-MODIFIED:20230626T150157Z
UID:10000719-1690398000-1690403400@machiasme.gov
SUMMARY:The Machias Annual Town Meeting
DESCRIPTION:
URL:https://machiasme.gov/event/the-machias-annual-town-meeting/
LOCATION:Rose M. Gaffney School Gynasium\, 15 Rose Gaffney Road\, Machias\, Maine\, 04654
END:VEVENT
BEGIN:VEVENT
DTSTART;TZID=UTC:20230726T180000
DTEND;TZID=UTC:20230726T210000
DTSTAMP:20260425T220801
CREATED:20221214T142137Z
LAST-MODIFIED:20230718T141749Z
UID:10001163-1690394400-1690405200@machiasme.gov
SUMMARY:Board of Select-People's Meeting - CANCELLED
DESCRIPTION:
URL:https://machiasme.gov/event/board-of-select-peoples-meeting-3-2023-07-26/
LOCATION:Machias Tele-Business Center and via Zoom\, 17 stackpole Dr\, Machias\, ME\, 04654\, United States
END:VEVENT
BEGIN:VEVENT
DTSTART;TZID=UTC:20230726T180000
DTEND;TZID=UTC:20230726T210000
DTSTAMP:20260425T220801
CREATED:20221214T142137Z
LAST-MODIFIED:20230921T160437Z
UID:10001180-1690394400-1690405200@machiasme.gov
SUMMARY:Board of Select-People's Meeting
DESCRIPTION:
URL:https://machiasme.gov/event/board-of-select-peoples-meeting-3-2023-10-11/2023-07-26/
LOCATION:Machias Tele-Business Center and via Zoom\, 17 stackpole Dr\, Machias\, ME\, 04654\, United States
END:VEVENT
BEGIN:VEVENT
DTSTART;TZID=UTC:20230720T173000
DTEND;TZID=UTC:20230720T193000
DTSTAMP:20260425T220801
CREATED:20230629T174011Z
LAST-MODIFIED:20230720T180758Z
UID:10000725-1689874200-1689881400@machiasme.gov
SUMMARY:Summer Concert Series - Bad Little Falls Park -Steele Hill Band
DESCRIPTION:Click here for full calendar – https://machiasme.gov/wp-content/uploads/SummerConcerts2023-06292023135931.pdf
URL:https://machiasme.gov/event/summer-concert-series-bad-little-falls-park-sounds-like-this-2023-07-20/
END:VEVENT
BEGIN:VEVENT
DTSTART;TZID=UTC:20230713T173000
DTEND;TZID=UTC:20230713T193000
DTSTAMP:20260425T220801
CREATED:20230629T174011Z
LAST-MODIFIED:20230629T174011Z
UID:10000722-1689269400-1689276600@machiasme.gov
SUMMARY:Summer Concert Series - Bad Little Falls Park "Sounds Like This"
DESCRIPTION:Click here for full calendar – https://machiasme.gov/wp-content/uploads/SummerConcerts2023-06292023135931.pdf
URL:https://machiasme.gov/event/summer-concert-series-bad-little-falls-park-sounds-like-this/2023-07-13/
END:VEVENT
BEGIN:VEVENT
DTSTART;TZID=UTC:20230712T190000
DTEND;TZID=UTC:20230712T200000
DTSTAMP:20260425T220801
CREATED:20160219T151457Z
LAST-MODIFIED:20230703T184859Z
UID:10000035-1689188400-1689192000@machiasme.gov
SUMMARY:Planning Board Meeting (change of date)
DESCRIPTION:
URL:https://machiasme.gov/event/planning-board-meeting-2023-07-05/
LOCATION:Machias Town Hall\, 7 Court Street\, Suite 1\, Machias\, ME\, 04654\, United States
CATEGORIES:Town Meetings
GEO:44.7184924;-67.4532582
X-APPLE-STRUCTURED-LOCATION;VALUE=URI;X-ADDRESS=Machias Town Hall 7 Court Street Suite 1 Machias ME 04654 United States;X-APPLE-RADIUS=500;X-TITLE=7 Court Street\, Suite 1:geo:-67.4532582,44.7184924
END:VEVENT
BEGIN:VEVENT
DTSTART;TZID=UTC:20230712T180000
DTEND;TZID=UTC:20230712T210000
DTSTAMP:20260425T220801
CREATED:20221214T142137Z
LAST-MODIFIED:20230705T133202Z
UID:10001162-1689184800-1689195600@machiasme.gov
SUMMARY:Board of Select-People's Meeting
DESCRIPTION:Machias Board of Select-People is inviting you to a scheduled Zoom meeting. \nTopic: Board of Select-People Meeting\nTime: Jul 12\, 2023 06:00 PM Eastern Time (US and Canada) \nJoin Zoom Meeting\nhttps://us02web.zoom.us/j/84024725156?pwd=cW9pT0RONk5zbWJlb3hBdzhldTArdz09 \nMeeting ID: 840 2472 5156\nPasscode: 579879 \n— \nOne tap mobile\n+16465588656\,\,84024725156#\,\,\,\,*579879# US (New York)\n+16469313860\,\,84024725156#\,\,\,\,*579879# US \n— \nDial by your location\n• +1 646 558 8656 US (New York)\n• +1 646 931 3860 US\n• +1 301 715 8592 US (Washington DC)\n• +1 305 224 1968 US\n• +1 309 205 3325 US\n• +1 312 626 6799 US (Chicago)\n• +1 346 248 7799 US (Houston)\n• +1 360 209 5623 US\n• +1 386 347 5053 US\n• +1 507 473 4847 US\n• +1 564 217 2000 US\n• +1 669 444 9171 US\n• +1 669 900 9128 US (San Jose)\n• +1 689 278 1000 US\n• +1 719 359 4580 US\n• +1 253 205 0468 US\n• +1 253 215 8782 US (Tacoma) \nMeeting ID: 840 2472 5156\nPasscode: 579879 \nFind your local number: https://us02web.zoom.us/u/kbfP3aexj1 \n 
URL:https://machiasme.gov/event/board-of-select-peoples-meeting-3-2023-07-12/
LOCATION:Machias Tele-Business Center and via Zoom\, 17 stackpole Dr\, Machias\, ME\, 04654\, United States
END:VEVENT
BEGIN:VEVENT
DTSTART;TZID=UTC:20230712T180000
DTEND;TZID=UTC:20230712T210000
DTSTAMP:20260425T220801
CREATED:20221214T142137Z
LAST-MODIFIED:20230921T160437Z
UID:10001179-1689184800-1689195600@machiasme.gov
SUMMARY:Board of Select-People's Meeting
DESCRIPTION:
URL:https://machiasme.gov/event/board-of-select-peoples-meeting-3-2023-10-11/2023-07-12/
LOCATION:Machias Tele-Business Center and via Zoom\, 17 stackpole Dr\, Machias\, ME\, 04654\, United States
END:VEVENT
END:VCALENDAR