BEGIN:VCALENDAR
VERSION:2.0
PRODID:-//Town of Machias - ECPv6.15.20//NONSGML v1.0//EN
CALSCALE:GREGORIAN
METHOD:PUBLISH
X-ORIGINAL-URL:https://machiasme.gov
X-WR-CALDESC:Events for Town of Machias
REFRESH-INTERVAL;VALUE=DURATION:PT1H
X-Robots-Tag:noindex
X-PUBLISHED-TTL:PT1H
BEGIN:VTIMEZONE
TZID:UTC
BEGIN:STANDARD
TZOFFSETFROM:+0000
TZOFFSETTO:+0000
TZNAME:UTC
DTSTART:20220101T000000
END:STANDARD
END:VTIMEZONE
BEGIN:VEVENT
DTSTART;TZID=UTC:20230602T180000
DTEND;TZID=UTC:20230602T200000
DTSTAMP:20260425T231108
CREATED:20160219T151457Z
LAST-MODIFIED:20241205T143320Z
UID:10000140-1685728800-1685736000@machiasme.gov
SUMMARY:Planning Board Meeting
DESCRIPTION:The Planning Board meets the first Wednesday of the month at 6 p.m.
URL:https://machiasme.gov/event/planning-board-meeting/2023-06-02/
LOCATION:Machias Town Hall\, 7 Court Street\, Suite 1\, Machias\, ME\, 04654\, United States
CATEGORIES:Town Meetings
GEO:44.7184924;-67.4532582
X-APPLE-STRUCTURED-LOCATION;VALUE=URI;X-ADDRESS=Machias Town Hall 7 Court Street Suite 1 Machias ME 04654 United States;X-APPLE-RADIUS=500;X-TITLE=7 Court Street\, Suite 1:geo:-67.4532582,44.7184924
END:VEVENT
BEGIN:VEVENT
DTSTART;VALUE=DATE:20230603
DTEND;VALUE=DATE:20230605
DTSTAMP:20260425T231108
CREATED:20230522T133633Z
LAST-MODIFIED:20230524T134328Z
UID:10001223-1685750400-1685923199@machiasme.gov
SUMMARY:Free Fishing Weekend
DESCRIPTION:Click here for more information
URL:https://machiasme.gov/event/free-fishing-weekend/
LOCATION:ME
END:VEVENT
BEGIN:VEVENT
DTSTART;VALUE=DATE:20230613
DTEND;VALUE=DATE:20230614
DTSTAMP:20260425T231108
CREATED:20230223T172301Z
LAST-MODIFIED:20230223T172301Z
UID:10001205-1686614400-1686700799@machiasme.gov
SUMMARY:Election Day
DESCRIPTION:
URL:https://machiasme.gov/event/election-day-5/
LOCATION:Machias Town Hall\, 7 Court Street\, Suite 1\, Machias\, ME\, 04654\, United States
GEO:44.7184924;-67.4532582
X-APPLE-STRUCTURED-LOCATION;VALUE=URI;X-ADDRESS=Machias Town Hall 7 Court Street Suite 1 Machias ME 04654 United States;X-APPLE-RADIUS=500;X-TITLE=7 Court Street\, Suite 1:geo:-67.4532582,44.7184924
END:VEVENT
BEGIN:VEVENT
DTSTART;TZID=UTC:20230613T160000
DTEND;TZID=UTC:20230613T170000
DTSTAMP:20260425T231108
CREATED:20230607T155321Z
LAST-MODIFIED:20230607T155321Z
UID:10000713-1686672000-1686675600@machiasme.gov
SUMMARY:Machias School Committee Meeting
DESCRIPTION:
URL:https://machiasme.gov/event/machias-school-committee-meeting-20/
LOCATION:ME
END:VEVENT
BEGIN:VEVENT
DTSTART;TZID=UTC:20230614T180000
DTEND;TZID=UTC:20230614T210000
DTSTAMP:20260425T231108
CREATED:20221214T142137Z
LAST-MODIFIED:20230608T122209Z
UID:10000683-1686765600-1686776400@machiasme.gov
SUMMARY:Board of Select-People's Meeting
DESCRIPTION:Machias Board of Select-People is inviting you to a scheduled Zoom meeting. \nTopic: Board of Select-People Meeting\nTime: Jun 14\, 2023 06:00 PM Eastern Time (US and Canada) \nJoin Zoom Meeting\nhttps://us02web.zoom.us/j/87109338314?pwd=UTBNaGk1dm80bmFXTzZuNFk0ZEV5UT09 \nMeeting ID: 871 0933 8314\nPasscode: 780165 \n— \nOne tap mobile\n+16465588656\,\,87109338314#\,\,\,\,*780165# US (New York)\n+16469313860\,\,87109338314#\,\,\,\,*780165# US \n— \nDial by your location\n• +1 646 558 8656 US (New York)\n• +1 646 931 3860 US\n• +1 301 715 8592 US (Washington DC)\n• +1 305 224 1968 US\n• +1 309 205 3325 US\n• +1 312 626 6799 US (Chicago)\n• +1 346 248 7799 US (Houston)\n• +1 360 209 5623 US\n• +1 386 347 5053 US\n• +1 507 473 4847 US\n• +1 564 217 2000 US\n• +1 669 444 9171 US\n• +1 669 900 9128 US (San Jose)\n• +1 689 278 1000 US\n• +1 719 359 4580 US\n• +1 253 205 0468 US\n• +1 253 215 8782 US (Tacoma) \nMeeting ID: 871 0933 8314\nPasscode: 780165 \nFind your local number: https://us02web.zoom.us/u/kcnjerxQKn \n 
URL:https://machiasme.gov/event/board-of-select-peoples-meeting-3-2023-06-14/
LOCATION:Machias Tele-Business Center and via Zoom\, 17 stackpole Dr\, Machias\, ME\, 04654\, United States
END:VEVENT
BEGIN:VEVENT
DTSTART;TZID=UTC:20230614T180000
DTEND;TZID=UTC:20230614T210000
DTSTAMP:20260425T231108
CREATED:20221214T142137Z
LAST-MODIFIED:20230921T160437Z
UID:10001177-1686765600-1686776400@machiasme.gov
SUMMARY:Board of Select-People's Meeting
DESCRIPTION:
URL:https://machiasme.gov/event/board-of-select-peoples-meeting-3-2023-10-11/2023-06-14/
LOCATION:Machias Tele-Business Center and via Zoom\, 17 stackpole Dr\, Machias\, ME\, 04654\, United States
END:VEVENT
BEGIN:VEVENT
DTSTART;VALUE=DATE:20230619
DTEND;VALUE=DATE:20230620
DTSTAMP:20260425T231108
CREATED:20230606T162621Z
LAST-MODIFIED:20230606T162621Z
UID:10000711-1687132800-1687219199@machiasme.gov
SUMMARY:The Machias Town Office will be closed for Juneteenth
DESCRIPTION:
URL:https://machiasme.gov/event/the-machias-town-office-will-be-closed-for-juneteenth/
LOCATION:ME
END:VEVENT
BEGIN:VEVENT
DTSTART;TZID=UTC:20230622T123000
DTEND;TZID=UTC:20230622T143000
DTSTAMP:20260425T231108
CREATED:20230621T150556Z
LAST-MODIFIED:20230621T150556Z
UID:10000715-1687437000-1687444200@machiasme.gov
SUMMARY:The Machias Town Office will be closed for a couple hours
DESCRIPTION:
URL:https://machiasme.gov/event/the-machias-town-office-will-be-closed-for-a-couple-hours/
LOCATION:ME
END:VEVENT
BEGIN:VEVENT
DTSTART;TZID=UTC:20230628T180000
DTEND;TZID=UTC:20230628T210000
DTSTAMP:20260425T231108
CREATED:20221214T142137Z
LAST-MODIFIED:20230921T160437Z
UID:10001178-1687975200-1687986000@machiasme.gov
SUMMARY:Board of Select-People's Meeting
DESCRIPTION:
URL:https://machiasme.gov/event/board-of-select-peoples-meeting-3-2023-10-11/2023-06-28/
LOCATION:Machias Tele-Business Center and via Zoom\, 17 stackpole Dr\, Machias\, ME\, 04654\, United States
END:VEVENT
BEGIN:VEVENT
DTSTART;TZID=UTC:20230628T180000
DTEND;TZID=UTC:20230628T210000
DTSTAMP:20260425T231108
CREATED:20221214T142137Z
LAST-MODIFIED:20230623T141846Z
UID:10001161-1687975200-1687986000@machiasme.gov
SUMMARY:Board of Select-People's Meeting
DESCRIPTION:Machias Board of Select-People is inviting you to a scheduled Zoom meeting. \nTopic: Board of Select-People Meeting\nTime: Jun 28\, 2023 06:00 PM Eastern Time (US and Canada) \nJoin Zoom Meeting\nhttps://us02web.zoom.us/j/88090068740?pwd=cmlxcWhsTlF6ZmNKMjdxRC8raWJCUT09 \nMeeting ID: 880 9006 8740\nPasscode: 805309 \n— \nOne tap mobile\n+16465588656\,\,88090068740#\,\,\,\,*805309# US (New York)\n+16469313860\,\,88090068740#\,\,\,\,*805309# US \n— \nDial by your location\n• +1 646 558 8656 US (New York)\n• +1 646 931 3860 US\n• +1 301 715 8592 US (Washington DC)\n• +1 305 224 1968 US\n• +1 309 205 3325 US\n• +1 312 626 6799 US (Chicago)\n• +1 669 900 9128 US (San Jose)\n• +1 689 278 1000 US\n• +1 719 359 4580 US\n• +1 253 205 0468 US\n• +1 253 215 8782 US (Tacoma)\n• +1 346 248 7799 US (Houston)\n• +1 360 209 5623 US\n• +1 386 347 5053 US\n• +1 507 473 4847 US\n• +1 564 217 2000 US\n• +1 669 444 9171 US \nMeeting ID: 880 9006 8740\nPasscode: 805309 \nFind your local number: https://us02web.zoom.us/u/k9X3xe2O \n 
URL:https://machiasme.gov/event/board-of-select-peoples-meeting-3-2023-06-28/
LOCATION:Machias Tele-Business Center and via Zoom\, 17 stackpole Dr\, Machias\, ME\, 04654\, United States
END:VEVENT
END:VCALENDAR