BEGIN:VCALENDAR
VERSION:2.0
PRODID:-//Town of Machias - ECPv6.15.20//NONSGML v1.0//EN
CALSCALE:GREGORIAN
METHOD:PUBLISH
X-ORIGINAL-URL:https://machiasme.gov
X-WR-CALDESC:Events for Town of Machias
REFRESH-INTERVAL;VALUE=DURATION:PT1H
X-Robots-Tag:noindex
X-PUBLISHED-TTL:PT1H
BEGIN:VTIMEZONE
TZID:UTC
BEGIN:STANDARD
TZOFFSETFROM:+0000
TZOFFSETTO:+0000
TZNAME:UTC
DTSTART:20220101T000000
END:STANDARD
END:VTIMEZONE
BEGIN:VEVENT
DTSTART;TZID=UTC:20231002T180000
DTEND;TZID=UTC:20231002T200000
DTSTAMP:20260425T160430
CREATED:20160219T151457Z
LAST-MODIFIED:20241205T143320Z
UID:10000144-1696269600-1696276800@machiasme.gov
SUMMARY:Planning Board Meeting
DESCRIPTION:The Planning Board meets the first Wednesday of the month at 6 p.m.
URL:https://machiasme.gov/event/planning-board-meeting/2023-10-02/
LOCATION:Machias Town Hall\, 7 Court Street\, Suite 1\, Machias\, ME\, 04654\, United States
CATEGORIES:Town Meetings
GEO:44.7184924;-67.4532582
X-APPLE-STRUCTURED-LOCATION;VALUE=URI;X-ADDRESS=Machias Town Hall 7 Court Street Suite 1 Machias ME 04654 United States;X-APPLE-RADIUS=500;X-TITLE=7 Court Street\, Suite 1:geo:-67.4532582,44.7184924
END:VEVENT
BEGIN:VEVENT
DTSTART;VALUE=DATE:20231005
DTEND;VALUE=DATE:20231006
DTSTAMP:20260425T160430
CREATED:20230925T155707Z
LAST-MODIFIED:20230925T155707Z
UID:10001241-1696464000-1696550399@machiasme.gov
SUMMARY:The Machias Town Office will be closed to process tax bills
DESCRIPTION:
URL:https://machiasme.gov/event/the-machias-town-office-will-be-closed-to-process-tax-bills-3/
LOCATION:ME
END:VEVENT
BEGIN:VEVENT
DTSTART;VALUE=DATE:20231009
DTEND;VALUE=DATE:20231010
DTSTAMP:20260425T160430
CREATED:20221214T165754Z
LAST-MODIFIED:20221214T165754Z
UID:10001196-1696809600-1696895999@machiasme.gov
SUMMARY:Machias Town Office will be closed for Columbus Day
DESCRIPTION:
URL:https://machiasme.gov/event/machias-town-office-will-be-closed-for-columbus-day/
LOCATION:ME
END:VEVENT
BEGIN:VEVENT
DTSTART;TZID=UTC:20231011T180000
DTEND;TZID=UTC:20231011T210000
DTSTAMP:20260425T160430
CREATED:20221214T142137Z
LAST-MODIFIED:20230921T160437Z
UID:10001185-1697047200-1697058000@machiasme.gov
SUMMARY:Board of Select-People's Meeting
DESCRIPTION:
URL:https://machiasme.gov/event/board-of-select-peoples-meeting-3-2023-10-11/2023-10-11/
LOCATION:Machias Tele-Business Center and via Zoom\, 17 stackpole Dr\, Machias\, ME\, 04654\, United States
END:VEVENT
BEGIN:VEVENT
DTSTART;TZID=UTC:20231025T180000
DTEND;TZID=UTC:20231025T210000
DTSTAMP:20260425T160430
CREATED:20221214T142137Z
LAST-MODIFIED:20230921T160437Z
UID:10001186-1698256800-1698267600@machiasme.gov
SUMMARY:Board of Select-People's Meeting
DESCRIPTION:
URL:https://machiasme.gov/event/board-of-select-peoples-meeting-3-2023-10-11/2023-10-25/
LOCATION:Machias Tele-Business Center and via Zoom\, 17 stackpole Dr\, Machias\, ME\, 04654\, United States
END:VEVENT
BEGIN:VEVENT
DTSTART;TZID=UTC:20231027T150000
DTEND;TZID=UTC:20231027T170000
DTSTAMP:20260425T160430
CREATED:20230926T165446Z
LAST-MODIFIED:20230926T165537Z
UID:10001240-1698418800-1698426000@machiasme.gov
SUMMARY:Trick or Treat Downtown Machias by The Machias Bay Area Chamber of Commerce
DESCRIPTION:It’s happening! Trick or Treat Downtown Machias!\nFriday\, Oct 27th\, 2023 from 3-5 p.m. \nVolunteers will be distributing posters to participating businesses starting October 6th or they can pick up a poster at the Chamber building (2 Kilton Lane\, Machias). \nHave participating businesses CALL or EMAIL the Machias Bay Chamber of Commerce to sign up. (Do NOT Message our FB Page to sign up) \n207.255.4402 or info@machiaschamber.org
URL:https://machiasme.gov/event/trick-or-treat-downtown-machias-by-the-machias-bay-area-chamber-of-commerce/
LOCATION:ME
END:VEVENT
BEGIN:VEVENT
DTSTART;TZID=UTC:20231030T170000
DTEND;TZID=UTC:20231030T203000
DTSTAMP:20260425T160430
CREATED:20231030T145952Z
LAST-MODIFIED:20231030T145952Z
UID:10001242-1698685200-1698697800@machiasme.gov
SUMMARY:Training workshop for Planning\, Appeals & Select Board Training
DESCRIPTION:
URL:https://machiasme.gov/event/training-workshop-for-planning-appeals-select-board-training/
LOCATION:Machias Tele-Business Center and via Zoom\, 17 stackpole Dr\, Machias\, ME\, 04654\, United States
END:VEVENT
END:VCALENDAR