BEGIN:VCALENDAR
VERSION:2.0
PRODID:-//Town of Machias - ECPv6.15.20//NONSGML v1.0//EN
CALSCALE:GREGORIAN
METHOD:PUBLISH
X-WR-CALNAME:Town of Machias
X-ORIGINAL-URL:https://machiasme.gov
X-WR-CALDESC:Events for Town of Machias
REFRESH-INTERVAL;VALUE=DURATION:PT1H
X-Robots-Tag:noindex
X-PUBLISHED-TTL:PT1H
BEGIN:VTIMEZONE
TZID:UTC
BEGIN:STANDARD
TZOFFSETFROM:+0000
TZOFFSETTO:+0000
TZNAME:UTC
DTSTART:20240101T000000
END:STANDARD
END:VTIMEZONE
BEGIN:VEVENT
DTSTART;VALUE=DATE:20250101
DTEND;VALUE=DATE:20250102
DTSTAMP:20260424T102947
CREATED:20241227T184707Z
LAST-MODIFIED:20241227T184707Z
UID:10001334-1735689600-1735775999@machiasme.gov
SUMMARY:Machias Town Office closed for New Years
DESCRIPTION:
URL:https://machiasme.gov/event/machias-town-office-closed-for-new-years/
LOCATION:ME
END:VEVENT
BEGIN:VEVENT
DTSTART;TZID=UTC:20250101T180000
DTEND;TZID=UTC:20250101T200000
DTSTAMP:20260424T102947
CREATED:20160219T151457Z
LAST-MODIFIED:20241227T174020Z
UID:10000026-1735754400-1735761600@machiasme.gov
SUMMARY:Planning Board Meeting Rescheduled
DESCRIPTION:The Planning Board meets the first Wednesday of the month at 6 p.m.
URL:https://machiasme.gov/event/planning-board-meeting-2025-01-02/
LOCATION:Machias Town Hall\, 7 Court Street\, Suite 1\, Machias\, ME\, 04654\, United States
CATEGORIES:Town Meetings
GEO:44.7184924;-67.4532582
X-APPLE-STRUCTURED-LOCATION;VALUE=URI;X-ADDRESS=Machias Town Hall 7 Court Street Suite 1 Machias ME 04654 United States;X-APPLE-RADIUS=500;X-TITLE=7 Court Street\, Suite 1:geo:-67.4532582,44.7184924
END:VEVENT
BEGIN:VEVENT
DTSTART;TZID=UTC:20250108T160000
DTEND;TZID=UTC:20250108T170000
DTSTAMP:20260424T102947
CREATED:20250102T151414Z
LAST-MODIFIED:20250102T151414Z
UID:10001336-1736352000-1736355600@machiasme.gov
SUMMARY:Machias School Board Committee Meeting
DESCRIPTION:
URL:https://machiasme.gov/event/machias-school-board-committee-meeting-2/
LOCATION:Machias Memorial High School – Room 6
END:VEVENT
BEGIN:VEVENT
DTSTART;TZID=UTC:20250108T180000
DTEND;TZID=UTC:20250108T200000
DTSTAMP:20260424T102947
CREATED:20241206T182142Z
LAST-MODIFIED:20241206T182142Z
UID:10000807-1736359200-1736366400@machiasme.gov
SUMMARY:Machias Select Board Meeting
DESCRIPTION:
URL:https://machiasme.gov/event/machias-select-board-meeting-2/2025-01-08/
LOCATION:The Machias Tele-Business Center & Google Meet Link\, 17 Stackpole Dr\, Machias\, ME\, 04654\, United States
END:VEVENT
BEGIN:VEVENT
DTSTART;TZID=UTC:20250109T180000
DTEND;TZID=UTC:20250109T190000
DTSTAMP:20260424T102947
CREATED:20241227T175945Z
LAST-MODIFIED:20241227T175945Z
UID:10000838-1736445600-1736449200@machiasme.gov
SUMMARY:Machias Planning Board Meeting
DESCRIPTION:
URL:https://machiasme.gov/event/machias-planning-board-meeting/
LOCATION:The Machias Tele-Business Center\, 17 Stackpole Dr\, Machias\, ME\, 04654\, United States
END:VEVENT
BEGIN:VEVENT
DTSTART;TZID=UTC:20250113T180000
DTEND;TZID=UTC:20250113T200000
DTSTAMP:20260424T102947
CREATED:20241227T180129Z
LAST-MODIFIED:20241227T180129Z
UID:10001333-1736791200-1736798400@machiasme.gov
SUMMARY:Machias Comprehensive Planning Committee Meeting
DESCRIPTION:
URL:https://machiasme.gov/event/machias-comprehensive-planning-committee-meeting-2/
LOCATION:The Machias Tele-Business Center & Google Meet Link\, 17 Stackpole Dr\, Machias\, ME\, 04654\, United States
END:VEVENT
BEGIN:VEVENT
DTSTART;TZID=UTC:20250115T160000
DTEND;TZID=UTC:20250115T170000
DTSTAMP:20260424T102947
CREATED:20250110T170657Z
LAST-MODIFIED:20250110T170657Z
UID:10001350-1736956800-1736960400@machiasme.gov
SUMMARY:AOS 96 Board of Directors Meeting
DESCRIPTION:
URL:https://machiasme.gov/event/aos-96-board-of-directors-meeting-2/
LOCATION:Machias Memorial High School – Room 6
END:VEVENT
BEGIN:VEVENT
DTSTART;VALUE=DATE:20250120
DTEND;VALUE=DATE:20250121
DTSTAMP:20260424T102947
CREATED:20250106T185201Z
LAST-MODIFIED:20250106T185201Z
UID:10001339-1737331200-1737417599@machiasme.gov
SUMMARY:Machias Town Office will be closed for Martin Luther King
DESCRIPTION:
URL:https://machiasme.gov/event/machias-town-office-will-be-closed-for-martin-luther-king/
LOCATION:ME
END:VEVENT
BEGIN:VEVENT
DTSTART;TZID=UTC:20250122T180000
DTEND;TZID=UTC:20250122T200000
DTSTAMP:20260424T102947
CREATED:20241206T182142Z
LAST-MODIFIED:20241206T182142Z
UID:10000808-1737568800-1737576000@machiasme.gov
SUMMARY:Machias Select Board Meeting
DESCRIPTION:
URL:https://machiasme.gov/event/machias-select-board-meeting-2/2025-01-22/
LOCATION:The Machias Tele-Business Center & Google Meet Link\, 17 Stackpole Dr\, Machias\, ME\, 04654\, United States
END:VEVENT
BEGIN:VEVENT
DTSTART;TZID=UTC:20250128T120000
DTEND;TZID=UTC:20250128T160000
DTSTAMP:20260424T102947
CREATED:20250124T171623Z
LAST-MODIFIED:20250124T173505Z
UID:10001351-1738065600-1738080000@machiasme.gov
SUMMARY:The Machias Town Office will be closed
DESCRIPTION:
URL:https://machiasme.gov/event/the-machias-town-office-will-be-closed-14/
LOCATION:ME
END:VEVENT
END:VCALENDAR