BEGIN:VCALENDAR
VERSION:2.0
PRODID:-//Town of Machias - ECPv6.15.20//NONSGML v1.0//EN
CALSCALE:GREGORIAN
METHOD:PUBLISH
X-ORIGINAL-URL:https://machiasme.gov
X-WR-CALDESC:Events for Town of Machias
REFRESH-INTERVAL;VALUE=DURATION:PT1H
X-Robots-Tag:noindex
X-PUBLISHED-TTL:PT1H
BEGIN:VTIMEZONE
TZID:UTC
BEGIN:STANDARD
TZOFFSETFROM:+0000
TZOFFSETTO:+0000
TZNAME:UTC
DTSTART:20220101T000000
END:STANDARD
END:VTIMEZONE
BEGIN:VEVENT
DTSTART;VALUE=DATE:20230529
DTEND;VALUE=DATE:20230530
DTSTAMP:20260426T011122
CREATED:20221214T164517Z
LAST-MODIFIED:20221214T164517Z
UID:10001193-1685318400-1685404799@machiasme.gov
SUMMARY:Machias Town Office will be closed for Memorial Day
DESCRIPTION:
URL:https://machiasme.gov/event/machias-town-office-will-be-closed-for-memorial-day/
LOCATION:ME
ATTACH;FMTTYPE=image/jpeg:https://machiasme.gov/wp-content/uploads/MemorialDay.jpg
END:VEVENT
BEGIN:VEVENT
DTSTART;TZID=UTC:20230530T180000
DTEND;TZID=UTC:20230530T200000
DTSTAMP:20260426T011122
CREATED:20230223T172201Z
LAST-MODIFIED:20230223T172201Z
UID:10001204-1685469600-1685476800@machiasme.gov
SUMMARY:School Budget Referendum
DESCRIPTION:
URL:https://machiasme.gov/event/school-budget-referendum-3/
LOCATION:ME
END:VEVENT
BEGIN:VEVENT
DTSTART;TZID=UTC:20230531T153000
DTEND;TZID=UTC:20230531T160000
DTSTAMP:20260426T011122
CREATED:20230531T173858Z
LAST-MODIFIED:20230531T173858Z
UID:10000709-1685547000-1685548800@machiasme.gov
SUMMARY:The Machias Town Office will be closing at 3:30 pm
DESCRIPTION:
URL:https://machiasme.gov/event/the-machias-town-office-will-be-closing-at-330-pm/
LOCATION:ME
END:VEVENT
BEGIN:VEVENT
DTSTART;TZID=UTC:20230531T160000
DTEND;TZID=UTC:20230531T210000
DTSTAMP:20260426T011122
CREATED:20230522T150942Z
LAST-MODIFIED:20230522T150942Z
UID:10001224-1685548800-1685566800@machiasme.gov
SUMMARY:Machias Budget Committee Meeting
DESCRIPTION:Topic: Machias Budget Committee Meeting\nTime: May 31\, 2023 04:00 PM Eastern Time (US and Canada) \nJoin Zoom Meeting\nhttps://us02web.zoom.us/j/86493751508?pwd=VG11VC9FYlpuMzdaMVhONHNkQzludz09 \nMeeting ID: 864 9375 1508\nPasscode: 641553\nOne tap mobile\n+16465588656\,\,86493751508#\,\,\,\,*641553# US (New York)\n+16469313860\,\,86493751508#\,\,\,\,*641553# US \nDial by your location\n+1 646 558 8656 US (New York)\n+1 646 931 3860 US\n+1 301 715 8592 US (Washington DC)\n+1 305 224 1968 US\n+1 309 205 3325 US\n+1 312 626 6799 US (Chicago)\n+1 253 215 8782 US (Tacoma)\n+1 346 248 7799 US (Houston)\n+1 360 209 5623 US\n+1 386 347 5053 US\n+1 507 473 4847 US\n+1 564 217 2000 US\n+1 669 444 9171 US\n+1 669 900 9128 US (San Jose)\n+1 689 278 1000 US\n+1 719 359 4580 US\n+1 253 205 0468 US\nMeeting ID: 864 9375 1508\nPasscode: 641553\nFind your local number: https://us02web.zoom.us/u/kbtHQqkTQC \n 
URL:https://machiasme.gov/event/machias-budget-committee-meeting-2/
LOCATION:Machias Tele-Business Center and via Zoom\, 17 stackpole Dr\, Machias\, ME\, 04654\, United States
END:VEVENT
BEGIN:VEVENT
DTSTART;TZID=UTC:20230602T180000
DTEND;TZID=UTC:20230602T200000
DTSTAMP:20260426T011122
CREATED:20160219T151457Z
LAST-MODIFIED:20241205T143320Z
UID:10000140-1685728800-1685736000@machiasme.gov
SUMMARY:Planning Board Meeting
DESCRIPTION:The Planning Board meets the first Wednesday of the month at 6 p.m.
URL:https://machiasme.gov/event/planning-board-meeting/2023-06-02/
LOCATION:Machias Town Hall\, 7 Court Street\, Suite 1\, Machias\, ME\, 04654\, United States
CATEGORIES:Town Meetings
GEO:44.7184924;-67.4532582
X-APPLE-STRUCTURED-LOCATION;VALUE=URI;X-ADDRESS=Machias Town Hall 7 Court Street Suite 1 Machias ME 04654 United States;X-APPLE-RADIUS=500;X-TITLE=7 Court Street\, Suite 1:geo:-67.4532582,44.7184924
END:VEVENT
BEGIN:VEVENT
DTSTART;VALUE=DATE:20230603
DTEND;VALUE=DATE:20230605
DTSTAMP:20260426T011122
CREATED:20230522T133633Z
LAST-MODIFIED:20230524T134328Z
UID:10001223-1685750400-1685923199@machiasme.gov
SUMMARY:Free Fishing Weekend
DESCRIPTION:Click here for more information
URL:https://machiasme.gov/event/free-fishing-weekend/
LOCATION:ME
END:VEVENT
END:VCALENDAR