BEGIN:VCALENDAR
VERSION:2.0
PRODID:-//Town of Machias - ECPv6.15.20//NONSGML v1.0//EN
CALSCALE:GREGORIAN
METHOD:PUBLISH
X-ORIGINAL-URL:https://machiasme.gov
X-WR-CALDESC:Events for Town of Machias
REFRESH-INTERVAL;VALUE=DURATION:PT1H
X-Robots-Tag:noindex
X-PUBLISHED-TTL:PT1H
BEGIN:VTIMEZONE
TZID:UTC
BEGIN:STANDARD
TZOFFSETFROM:+0000
TZOFFSETTO:+0000
TZNAME:UTC
DTSTART:20220101T000000
END:STANDARD
END:VTIMEZONE
BEGIN:VEVENT
DTSTART;TZID=UTC:20230702T180000
DTEND;TZID=UTC:20230702T200000
DTSTAMP:20260426T011122
CREATED:20160219T151457Z
LAST-MODIFIED:20241205T143320Z
UID:10000141-1688320800-1688328000@machiasme.gov
SUMMARY:Planning Board Meeting
DESCRIPTION:The Planning Board meets the first Wednesday of the month at 6 p.m.
URL:https://machiasme.gov/event/planning-board-meeting/2023-07-02/
LOCATION:Machias Town Hall\, 7 Court Street\, Suite 1\, Machias\, ME\, 04654\, United States
CATEGORIES:Town Meetings
GEO:44.7184924;-67.4532582
X-APPLE-STRUCTURED-LOCATION;VALUE=URI;X-ADDRESS=Machias Town Hall 7 Court Street Suite 1 Machias ME 04654 United States;X-APPLE-RADIUS=500;X-TITLE=7 Court Street\, Suite 1:geo:-67.4532582,44.7184924
END:VEVENT
BEGIN:VEVENT
DTSTART;VALUE=DATE:20230703
DTEND;VALUE=DATE:20230704
DTSTAMP:20260426T011122
CREATED:20230630T132031Z
LAST-MODIFIED:20230630T132208Z
UID:10001228-1688342400-1688428799@machiasme.gov
SUMMARY:Town of Machias closed for year end
DESCRIPTION:
URL:https://machiasme.gov/event/town-of-machias-closed-for-year-end/
LOCATION:ME
END:VEVENT
BEGIN:VEVENT
DTSTART;VALUE=DATE:20230704
DTEND;VALUE=DATE:20230705
DTSTAMP:20260426T011122
CREATED:20221214T164634Z
LAST-MODIFIED:20221214T164654Z
UID:10001194-1688428800-1688515199@machiasme.gov
SUMMARY:Machias Town Office will be closed Independence Day
DESCRIPTION:
URL:https://machiasme.gov/event/machias-town-office-will-be-closed-independence-day/
LOCATION:ME
ATTACH;FMTTYPE=image/jpeg:https://machiasme.gov/wp-content/uploads/4thofJuly.jpg
END:VEVENT
BEGIN:VEVENT
DTSTART;TZID=UTC:20230706T173000
DTEND;TZID=UTC:20230706T193000
DTSTAMP:20260426T011122
CREATED:20230629T174011Z
LAST-MODIFIED:20230629T174011Z
UID:10000721-1688664600-1688671800@machiasme.gov
SUMMARY:Summer Concert Series - Bad Little Falls Park "Sounds Like This"
DESCRIPTION:Click here for full calendar – https://machiasme.gov/wp-content/uploads/SummerConcerts2023-06292023135931.pdf
URL:https://machiasme.gov/event/summer-concert-series-bad-little-falls-park-sounds-like-this/2023-07-06/
LOCATION:ME
END:VEVENT
END:VCALENDAR