BEGIN:VCALENDAR
VERSION:2.0
PRODID:-//Town of Machias - ECPv6.15.20//NONSGML v1.0//EN
CALSCALE:GREGORIAN
METHOD:PUBLISH
X-WR-CALNAME:Town of Machias
X-ORIGINAL-URL:https://machiasme.gov
X-WR-CALDESC:Events for Town of Machias
REFRESH-INTERVAL;VALUE=DURATION:PT1H
X-Robots-Tag:noindex
X-PUBLISHED-TTL:PT1H
BEGIN:VTIMEZONE
TZID:UTC
BEGIN:STANDARD
TZOFFSETFROM:+0000
TZOFFSETTO:+0000
TZNAME:UTC
DTSTART:20230101T000000
END:STANDARD
END:VTIMEZONE
BEGIN:VEVENT
DTSTART;TZID=UTC:20240214T180000
DTEND;TZID=UTC:20240214T183000
DTSTAMP:20260425T141841
CREATED:20240126T182405Z
LAST-MODIFIED:20240202T144012Z
UID:10001286-1707933600-1707935400@machiasme.gov
SUMMARY:Public Hearings - Town of Machias
DESCRIPTION:
URL:https://machiasme.gov/event/public-hearing-town-of-machias-3/
LOCATION:The Machias Tele-Business Center\, 17 Stackpole Dr\, Machias\, ME\, 04654\, United States
END:VEVENT
BEGIN:VEVENT
DTSTART;TZID=UTC:20240214T180000
DTEND;TZID=UTC:20240214T200000
DTSTAMP:20260425T141841
CREATED:20231214T150854Z
LAST-MODIFIED:20240126T190725Z
UID:10000745-1707933600-1707940800@machiasme.gov
SUMMARY:Board of Select-People's Meeting following the public hearing
DESCRIPTION:Machias Board of Select-People is inviting you to a scheduled Zoom meeting. \nTopic: Board of Select-People’s Meeting\nTime: Feb 14\, 2024 06:00 PM Eastern Time (US and Canada) \nJoin Zoom Meeting\nhttps://us02web.zoom.us/j/82612451626?pwd=VVBzTUUvUTRJQURCYnRJMnhLWGJxZz09 \nMeeting ID: 826 1245 1626\nPasscode: 459659 \n— \nOne tap mobile\n+13092053325\,\,82612451626#\,\,\,\,*459659# US\n+13126266799\,\,82612451626#\,\,\,\,*459659# US (Chicago) \n— \nDial by your location\n• +1 309 205 3325 US\n• +1 312 626 6799 US (Chicago)\n• +1 646 558 8656 US (New York)\n• +1 646 931 3860 US\n• +1 301 715 8592 US (Washington DC)\n• +1 305 224 1968 US\n• +1 719 359 4580 US\n• +1 253 205 0468 US\n• +1 253 215 8782 US (Tacoma)\n• +1 346 248 7799 US (Houston)\n• +1 360 209 5623 US\n• +1 386 347 5053 US\n• +1 507 473 4847 US\n• +1 564 217 2000 US\n• +1 669 444 9171 US\n• +1 669 900 9128 US (San Jose)\n• +1 689 278 1000 US \nMeeting ID: 826 1245 1626\nPasscode: 459659 \nFind your local number: https://us02web.zoom.us/u/kyVCYAjjU \n 
URL:https://machiasme.gov/event/board-of-select-peoples-meeting-4-2024-02-14/
LOCATION:Machias Tele-Business Center and via Zoom\, 17 stackpole Dr\, Machias\, ME\, 04654\, United States
END:VEVENT
BEGIN:VEVENT
DTSTART;TZID=UTC:20240214T180000
DTEND;TZID=UTC:20240214T200000
DTSTAMP:20260425T141841
CREATED:20231214T150854Z
LAST-MODIFIED:20240909T160342Z
UID:10001259-1707933600-1707940800@machiasme.gov
SUMMARY:Machias Select Board Meeting
DESCRIPTION:
URL:https://machiasme.gov/event/board-of-select-peoples-meeting-4-2024-04-24-2024-10-09/2024-02-14/
LOCATION:Machias Tele-Business Center and via Zoom\, 17 stackpole Dr\, Machias\, ME\, 04654\, United States
END:VEVENT
END:VCALENDAR