BEGIN:VCALENDAR
VERSION:2.0
PRODID:-//Town of Machias - ECPv6.15.20//NONSGML v1.0//EN
CALSCALE:GREGORIAN
METHOD:PUBLISH
X-ORIGINAL-URL:https://machiasme.gov
X-WR-CALDESC:Events for Town of Machias
REFRESH-INTERVAL;VALUE=DURATION:PT1H
X-Robots-Tag:noindex
X-PUBLISHED-TTL:PT1H
BEGIN:VTIMEZONE
TZID:UTC
BEGIN:STANDARD
TZOFFSETFROM:+0000
TZOFFSETTO:+0000
TZNAME:UTC
DTSTART:20230101T000000
END:STANDARD
END:VTIMEZONE
BEGIN:VEVENT
DTSTART;VALUE=DATE:20240305
DTEND;VALUE=DATE:20240306
DTSTAMP:20260425T160439
CREATED:20240229T135756Z
LAST-MODIFIED:20240229T135756Z
UID:10000760-1709596800-1709683199@machiasme.gov
SUMMARY:The Machias Town Office will be closed Election Day
DESCRIPTION:
URL:https://machiasme.gov/event/the-machias-town-office-will-be-closed-election-day/
LOCATION:ME
END:VEVENT
BEGIN:VEVENT
DTSTART;TZID=UTC:20240305T080000
DTEND;TZID=UTC:20240305T200000
DTSTAMP:20260425T160439
CREATED:20240216T144657Z
LAST-MODIFIED:20240223T144342Z
UID:10000757-1709625600-1709668800@machiasme.gov
SUMMARY:ELECTION DAY - AT THE MACHIAS HIGH SCHOOL GYMNASIUM
DESCRIPTION:ELECTION DAY – MARCH 5\, 2024\nThe voting for the Primary Election on March 5\, 2024 will be held at the Machias High School Gymnasium from 8:00 am to 8:00 pm.  Please go around the back of the High School and not through the Rose M. Gaffney School Parking lot to arrive at the Polling Place.
URL:https://machiasme.gov/event/election-day-at-the-machias-high-school-gymnasium/
LOCATION:Machias Memorial High School Gym\, 30 Bulldog Lane\, Machias ME\, 04654\, United States
END:VEVENT
END:VCALENDAR