BEGIN:VCALENDAR
VERSION:2.0
PRODID:-//Town of Machias - ECPv6.15.20//NONSGML v1.0//EN
CALSCALE:GREGORIAN
METHOD:PUBLISH
X-WR-CALNAME:Town of Machias
X-ORIGINAL-URL:https://machiasme.gov
X-WR-CALDESC:Events for Town of Machias
REFRESH-INTERVAL;VALUE=DURATION:PT1H
X-Robots-Tag:noindex
X-PUBLISHED-TTL:PT1H
BEGIN:VTIMEZONE
TZID:UTC
BEGIN:STANDARD
TZOFFSETFROM:+0000
TZOFFSETTO:+0000
TZNAME:UTC
DTSTART:20230101T000000
END:STANDARD
END:VTIMEZONE
BEGIN:VEVENT
DTSTART;TZID=UTC:20240318T173000
DTEND;TZID=UTC:20240318T193000
DTSTAMP:20260425T122648
CREATED:20240314T144802Z
LAST-MODIFIED:20240314T144802Z
UID:10000764-1710783000-1710790200@machiasme.gov
SUMMARY:Machias School Committee Meeting
DESCRIPTION:
URL:https://machiasme.gov/event/machias-school-committee-meeting-24/
LOCATION:Machias Memorial High School
END:VEVENT
BEGIN:VEVENT
DTSTART;TZID=UTC:20240318T180000
DTEND;TZID=UTC:20240318T200000
DTSTAMP:20260425T122648
CREATED:20240312T185746Z
LAST-MODIFIED:20240312T185746Z
UID:10000762-1710784800-1710792000@machiasme.gov
SUMMARY:AOS 96 Budget Meeting
DESCRIPTION:Click here for warrant
URL:https://machiasme.gov/event/aos-96-budget-meeting/
LOCATION:Machias Memorial High School Cafeteria – 1 Bulldog Lane\, Machias ME
END:VEVENT
END:VCALENDAR