BEGIN:VCALENDAR
VERSION:2.0
PRODID:-//Town of Machias - ECPv6.15.20//NONSGML v1.0//EN
CALSCALE:GREGORIAN
METHOD:PUBLISH
X-WR-CALNAME:Town of Machias
X-ORIGINAL-URL:https://machiasme.gov
X-WR-CALDESC:Events for Town of Machias
REFRESH-INTERVAL;VALUE=DURATION:PT1H
X-Robots-Tag:noindex
X-PUBLISHED-TTL:PT1H
BEGIN:VTIMEZONE
TZID:UTC
BEGIN:STANDARD
TZOFFSETFROM:+0000
TZOFFSETTO:+0000
TZNAME:UTC
DTSTART:20230101T000000
END:STANDARD
END:VTIMEZONE
BEGIN:VEVENT
DTSTART;TZID=UTC:20240828T160000
DTEND;TZID=UTC:20240828T170000
DTSTAMP:20260424T232201
CREATED:20240826T161313Z
LAST-MODIFIED:20240826T161313Z
UID:10001319-1724860800-1724864400@machiasme.gov
SUMMARY:Machias School Committee Meeting
DESCRIPTION:
URL:https://machiasme.gov/event/machias-school-committee-meeting-26/
LOCATION:Machias Memorial High School
END:VEVENT
BEGIN:VEVENT
DTSTART;TZID=UTC:20240828T180000
DTEND;TZID=UTC:20240828T183000
DTSTAMP:20260424T232201
CREATED:20240821T190355Z
LAST-MODIFIED:20240821T190355Z
UID:10001318-1724868000-1724869800@machiasme.gov
SUMMARY:Special Town Meeting 08/28/2024
DESCRIPTION:click here for warrant
URL:https://machiasme.gov/event/special-town-meeting-08-28-2024/
LOCATION:The Machias Tele-Business Center & Google Meet Link\, 17 Stackpole Dr\, Machias\, ME\, 04654\, United States
END:VEVENT
BEGIN:VEVENT
DTSTART;TZID=UTC:20240828T180000
DTEND;TZID=UTC:20240828T200000
DTSTAMP:20260424T232201
CREATED:20231214T150854Z
LAST-MODIFIED:20240909T160342Z
UID:10001272-1724868000-1724875200@machiasme.gov
SUMMARY:Machias Select Board Meeting
DESCRIPTION:
URL:https://machiasme.gov/event/board-of-select-peoples-meeting-4-2024-04-24-2024-10-09/2024-08-28/
LOCATION:Machias Tele-Business Center and via Zoom\, 17 stackpole Dr\, Machias\, ME\, 04654\, United States
END:VEVENT
BEGIN:VEVENT
DTSTART;TZID=UTC:20240828T183000
DTEND;TZID=UTC:20240828T200000
DTSTAMP:20260424T232201
CREATED:20231214T150854Z
LAST-MODIFIED:20240821T190829Z
UID:10001255-1724869800-1724875200@machiasme.gov
SUMMARY:Machias Select Board Meeting Immediately following Special Town Meeting
DESCRIPTION:Machias Select Board is inviting you to a scheduled Zoom meeting. \nTopic: Machias Select Board Meeting Immediately following Special Town Meeting\nTime: Aug 28\, 2024 06:30 PM Eastern Time (US and Canada) \nJoin Zoom Meeting\nhttps://us02web.zoom.us/j/85962474549?pwd=010cGiR7zJK20wF1VpOjaZJzONu1f5.1 \nMeeting ID: 859 6247 4549\nPasscode: 410161 \n— \nOne tap mobile\n+13126266799\,\,85962474549#\,\,\,\,*410161# US (Chicago)\n+16465588656\,\,85962474549#\,\,\,\,*410161# US (New York) \n— \nDial by your location\n• +1 312 626 6799 US (Chicago)\n• +1 646 558 8656 US (New York)\n• +1 646 931 3860 US\n• +1 301 715 8592 US (Washington DC)\n• +1 305 224 1968 US\n• +1 309 205 3325 US\n• +1 507 473 4847 US\n• +1 564 217 2000 US\n• +1 669 444 9171 US\n• +1 669 900 9128 US (San Jose)\n• +1 689 278 1000 US\n• +1 719 359 4580 US\n• +1 253 205 0468 US\n• +1 253 215 8782 US (Tacoma)\n• +1 346 248 7799 US (Houston)\n• +1 360 209 5623 US\n• +1 386 347 5053 US \nMeeting ID: 859 6247 4549\nPasscode: 410161 \nFind your local number: https://us02web.zoom.us/u/kd5GxzoBUM \n 
URL:https://machiasme.gov/event/board-of-select-peoples-meeting-4-2024-04-24-2024-08-28/
LOCATION:Machias Tele-Business Center and via Zoom\, 17 stackpole Dr\, Machias\, ME\, 04654\, United States
END:VEVENT
BEGIN:VEVENT
DTSTART;TZID=UTC:20240829T173000
DTEND;TZID=UTC:20240829T193000
DTSTAMP:20260424T232201
CREATED:20240806T161941Z
LAST-MODIFIED:20240806T161941Z
UID:10000787-1724952600-1724959800@machiasme.gov
SUMMARY:BAD LITTLE FALLS PARK SUMMER CONCERT SERIES - PITCH BLACK RIBBONS
DESCRIPTION:
URL:https://machiasme.gov/event/bad-little-falls-park-summer-concert-series-pitch-black-ribbons/
LOCATION:Bad Little Falls Park\, Machias\, Maine
END:VEVENT
END:VCALENDAR