BEGIN:VCALENDAR
VERSION:2.0
PRODID:-//Town of Machias - ECPv6.15.20//NONSGML v1.0//EN
CALSCALE:GREGORIAN
METHOD:PUBLISH
X-WR-CALNAME:Town of Machias
X-ORIGINAL-URL:https://machiasme.gov
X-WR-CALDESC:Events for Town of Machias
REFRESH-INTERVAL;VALUE=DURATION:PT1H
X-Robots-Tag:noindex
X-PUBLISHED-TTL:PT1H
BEGIN:VTIMEZONE
TZID:UTC
BEGIN:STANDARD
TZOFFSETFROM:+0000
TZOFFSETTO:+0000
TZNAME:UTC
DTSTART:20230101T000000
END:STANDARD
END:VTIMEZONE
BEGIN:VEVENT
DTSTART;VALUE=DATE:20240910
DTEND;VALUE=DATE:20240911
DTSTAMP:20260424T213732
CREATED:20240910T124606Z
LAST-MODIFIED:20240910T124606Z
UID:10001321-1725926400-1726012799@machiasme.gov
SUMMARY:THE MACHIAS TOWN OFFICE WILL BE CLOSED
DESCRIPTION:
URL:https://machiasme.gov/event/the-machias-town-office-will-be-closed-13/
LOCATION:ME
END:VEVENT
BEGIN:VEVENT
DTSTART;TZID=UTC:20240911T180000
DTEND;TZID=UTC:20240911T200000
DTSTAMP:20260424T213732
CREATED:20231214T150854Z
LAST-MODIFIED:20240911T125943Z
UID:10001257-1726077600-1726084800@machiasme.gov
SUMMARY:Machias Select Board Emergency Meeting
DESCRIPTION:
URL:https://machiasme.gov/event/board-of-select-peoples-meeting-4-2024-04-24-2024-09-11/
LOCATION:Machias Tele-Business Center and via Zoom\, 17 stackpole Dr\, Machias\, ME\, 04654\, United States
END:VEVENT
BEGIN:VEVENT
DTSTART;TZID=UTC:20240911T180000
DTEND;TZID=UTC:20240911T200000
DTSTAMP:20260424T213732
CREATED:20231214T150854Z
LAST-MODIFIED:20240909T160342Z
UID:10001273-1726077600-1726084800@machiasme.gov
SUMMARY:Machias Select Board Meeting
DESCRIPTION:
URL:https://machiasme.gov/event/board-of-select-peoples-meeting-4-2024-04-24-2024-10-09/2024-09-11/
LOCATION:Machias Tele-Business Center and via Zoom\, 17 stackpole Dr\, Machias\, ME\, 04654\, United States
END:VEVENT
BEGIN:VEVENT
DTSTART;VALUE=DATE:20240914
DTEND;VALUE=DATE:20240915
DTSTAMP:20260424T213732
CREATED:20240911T185845Z
LAST-MODIFIED:20240912T150052Z
UID:10001322-1726272000-1726358399@machiasme.gov
SUMMARY:The Machias Bay Area Transfer Station will be closed for Memorial Service
DESCRIPTION:
URL:https://machiasme.gov/event/the-machias-bay-area-transfer-station-will-be-closed-for-funeral-services/
LOCATION:ME
END:VEVENT
BEGIN:VEVENT
DTSTART;TZID=UTC:20240914T120000
DTEND;TZID=UTC:20240914T143000
DTSTAMP:20260424T213732
CREATED:20240912T145021Z
LAST-MODIFIED:20240913T182438Z
UID:10001324-1726315200-1726324200@machiasme.gov
SUMMARY:Memorial Service for Bill Kitchen -  Machias Town Manager
DESCRIPTION:We invite the community to join us in honoring the life and legacy of Bill Kitchen this Saturday\, September 14th\, at 12:00 PM at the Machias Memorial High School Gymnasium (30 Bulldog Lane\, Machias\, ME 04654). \nIn celebration of Bill’s vibrant spirit\, we ask that all attendees wear their brightest colored outfits to the service. Following the memorial\, there will be a parade led by our emergency responders\, passing by some of Bill’s favorite places in town. The parade will conclude at the memorial reception at West Branch Farms (180 W Kennebec Road\, Machias\, ME 04654)\, where everyone is welcome to gather for music\, light snacks\, and refreshments. \nPlease join us to celebrate the life of Bill. \n\n\n\nLive stream link click here https://www.youtube.com/@mmhsbulldogs?app=desktop
URL:https://machiasme.gov/event/memorial-service-for-bill-kitchen-machias-town-manager/
LOCATION:Machias Memorial High School Gym\, 30 Bulldog Lane\, Machias ME\, 04654\, United States
END:VEVENT
END:VCALENDAR