BEGIN:VCALENDAR
VERSION:2.0
PRODID:-//Town of Machias - ECPv6.15.20//NONSGML v1.0//EN
CALSCALE:GREGORIAN
METHOD:PUBLISH
X-WR-CALNAME:Town of Machias
X-ORIGINAL-URL:https://machiasme.gov
X-WR-CALDESC:Events for Town of Machias
REFRESH-INTERVAL;VALUE=DURATION:PT1H
X-Robots-Tag:noindex
X-PUBLISHED-TTL:PT1H
BEGIN:VTIMEZONE
TZID:UTC
BEGIN:STANDARD
TZOFFSETFROM:+0000
TZOFFSETTO:+0000
TZNAME:UTC
DTSTART:20240101T000000
END:STANDARD
END:VTIMEZONE
BEGIN:VEVENT
DTSTART;TZID=UTC:20250407T180000
DTEND;TZID=UTC:20250407T190000
DTSTAMP:20260424T140424
CREATED:20250331T152812Z
LAST-MODIFIED:20250331T152919Z
UID:10001392-1744048800-1744052400@machiasme.gov
SUMMARY:AOS96 Budget Meeting
DESCRIPTION:Click here for AOS96 warrant
URL:https://machiasme.gov/event/aos96-budget-meeting/
LOCATION:Elm Street School\, 38 Jacksonville Rd\, East Machias\, 04630\, United States
END:VEVENT
BEGIN:VEVENT
DTSTART;TZID=UTC:20250407T180000
DTEND;TZID=UTC:20250407T200000
DTSTAMP:20260424T140424
CREATED:20250402T132645Z
LAST-MODIFIED:20250402T132645Z
UID:10001393-1744048800-1744056000@machiasme.gov
SUMMARY:Machias Comprehensive Planning Committee Meeting
DESCRIPTION:Click here for Comprehensive Agenda
URL:https://machiasme.gov/event/machias-comprehensive-planning-committee-meeting-5/
LOCATION:The Machias Tele-Business Center\, 17 Stackpole Dr\, Machias\, ME\, 04654\, United States
END:VEVENT
BEGIN:VEVENT
DTSTART;TZID=UTC:20250408T173000
DTEND;TZID=UTC:20250408T193000
DTSTAMP:20260424T140424
CREATED:20250317T143421Z
LAST-MODIFIED:20250408T132209Z
UID:10001385-1744133400-1744140600@machiasme.gov
SUMMARY:Machias Airport Committee Meeting
DESCRIPTION:Click here for Airport Agenda
URL:https://machiasme.gov/event/machias-airport-committee-meeting-4/
LOCATION:Machias Valley Airport\, Airport Rd\, Machias\, ME\, 04654\, United States
END:VEVENT
BEGIN:VEVENT
DTSTART;TZID=UTC:20250409T170000
DTEND;TZID=UTC:20250409T200000
DTSTAMP:20260424T140424
CREATED:20250307T154357Z
LAST-MODIFIED:20250403T184351Z
UID:10000813-1744218000-1744228800@machiasme.gov
SUMMARY:Machias Select Board Meeting
DESCRIPTION:Click here for BOS Agenda
URL:https://machiasme.gov/event/machias-select-board-meeting-5/
LOCATION:The Machias Tele-Business Center & Google Meet Link\, 17 Stackpole Dr\, Machias\, ME\, 04654\, United States
END:VEVENT
BEGIN:VEVENT
DTSTART;TZID=UTC:20250409T180000
DTEND;TZID=UTC:20250409T210000
DTSTAMP:20260424T140424
CREATED:20250317T191641Z
LAST-MODIFIED:20250403T184135Z
UID:10001388-1744221600-1744232400@machiasme.gov
SUMMARY:Machias Budget Committee Meeting
DESCRIPTION:click here for Budget Meeting Agenda
URL:https://machiasme.gov/event/machias-budget-committee-meeting-4/
LOCATION:The Machias Tele-Business Center & Google Meet Link\, 17 Stackpole Dr\, Machias\, ME\, 04654\, United States
END:VEVENT
END:VCALENDAR