BEGIN:VCALENDAR
VERSION:2.0
PRODID:-//Town of Machias - ECPv6.15.20//NONSGML v1.0//EN
CALSCALE:GREGORIAN
METHOD:PUBLISH
X-WR-CALNAME:Town of Machias
X-ORIGINAL-URL:https://machiasme.gov
X-WR-CALDESC:Events for Town of Machias
REFRESH-INTERVAL;VALUE=DURATION:PT1H
X-Robots-Tag:noindex
X-PUBLISHED-TTL:PT1H
BEGIN:VTIMEZONE
TZID:UTC
BEGIN:STANDARD
TZOFFSETFROM:+0000
TZOFFSETTO:+0000
TZNAME:UTC
DTSTART:20240101T000000
END:STANDARD
END:VTIMEZONE
BEGIN:VEVENT
DTSTART;TZID=UTC:20250708T173000
DTEND;TZID=UTC:20250708T190000
DTSTAMP:20260424T051652
CREATED:20250707T173538Z
LAST-MODIFIED:20250707T173647Z
UID:10001423-1751995800-1752001200@machiasme.gov
SUMMARY:Machias Airport Committee Meeting
DESCRIPTION:Airport Meeting Agenda 07/08/2025
URL:https://machiasme.gov/event/machias-airport-committee-meeting-5/
LOCATION:Machias Valley Airport\, Airport Rd\, Machias\, ME\, 04654\, United States
END:VEVENT
BEGIN:VEVENT
DTSTART;TZID=UTC:20250709T170000
DTEND;TZID=UTC:20250709T200000
DTSTAMP:20260424T051652
CREATED:20250307T160134Z
LAST-MODIFIED:20250307T160145Z
UID:10000819-1752080400-1752091200@machiasme.gov
SUMMARY:Machias Select Board Meeting
DESCRIPTION:
URL:https://machiasme.gov/event/machias-select-board-meeting-14/
LOCATION:The Machias Tele-Business Center & Google Meet Link\, 17 Stackpole Dr\, Machias\, ME\, 04654\, United States
END:VEVENT
BEGIN:VEVENT
DTSTART;TZID=UTC:20250710T180000
DTEND;TZID=UTC:20250710T200000
DTSTAMP:20260424T051652
CREATED:20250613T124559Z
LAST-MODIFIED:20250613T124559Z
UID:10001415-1752170400-1752177600@machiasme.gov
SUMMARY:Kitchen concert Series @ Bad Little Falls Park - Steele Hill
DESCRIPTION:
URL:https://machiasme.gov/event/kitchen-concert-series-bad-little-falls-park-steele-hill/
LOCATION:Bad Little Falls Park\, Machias\, Maine
END:VEVENT
END:VCALENDAR