BEGIN:VCALENDAR
VERSION:2.0
PRODID:-//Town of Machias - ECPv6.15.20//NONSGML v1.0//EN
CALSCALE:GREGORIAN
METHOD:PUBLISH
X-WR-CALNAME:Town of Machias
X-ORIGINAL-URL:https://machiasme.gov
X-WR-CALDESC:Events for Town of Machias
REFRESH-INTERVAL;VALUE=DURATION:PT1H
X-Robots-Tag:noindex
X-PUBLISHED-TTL:PT1H
BEGIN:VTIMEZONE
TZID:UTC
BEGIN:STANDARD
TZOFFSETFROM:+0000
TZOFFSETTO:+0000
TZNAME:UTC
DTSTART:20210101T000000
END:STANDARD
END:VTIMEZONE
BEGIN:VEVENT
DTSTART;TZID=UTC:20220216T153000
DTEND;TZID=UTC:20220216T170000
DTSTAMP:20260424T124458
CREATED:20220209T184859Z
LAST-MODIFIED:20220209T184859Z
UID:10000619-1645025400-1645030800@machiasme.gov
SUMMARY:AOS 96 Board of Directors Meeting
DESCRIPTION:
URL:https://machiasme.gov/event/aos-96-board-of-directors-meeting/
END:VEVENT
END:VCALENDAR