BEGIN:VCALENDAR
VERSION:2.0
PRODID:-//Town of Machias - ECPv6.15.20//NONSGML v1.0//EN
CALSCALE:GREGORIAN
METHOD:PUBLISH
X-ORIGINAL-URL:https://machiasme.gov
X-WR-CALDESC:Events for Town of Machias
REFRESH-INTERVAL;VALUE=DURATION:PT1H
X-Robots-Tag:noindex
X-PUBLISHED-TTL:PT1H
BEGIN:VTIMEZONE
TZID:UTC
BEGIN:STANDARD
TZOFFSETFROM:+0000
TZOFFSETTO:+0000
TZNAME:UTC
DTSTART:20180101T000000
END:STANDARD
END:VTIMEZONE
BEGIN:VEVENT
DTSTART;TZID=UTC:20190413T083000
DTEND;TZID=UTC:20190413T130000
DTSTAMP:20260424T105017
CREATED:20190226T184803Z
LAST-MODIFIED:20190226T184803Z
UID:10000267-1555144200-1555160400@machiasme.gov
SUMMARY:DENTAL OUTREACH PROGRAM @ LEE PELLONS EVENT CENTER MACHIAS
DESCRIPTION:DENTAL CLINIC TIMES AND BROCHURE CLICK HERE
URL:https://machiasme.gov/event/dental-outreach-program-lee-pellons-event-center-machias/2019-04-13/
LOCATION:Lee Pellon Center\, 90 Main Street\, Machias\, 04654\, United States
ORGANIZER;CN="Washington County Children's Program":MAILTO:talley@sun-rise.tv
END:VEVENT
BEGIN:VEVENT
DTSTART;TZID=UTC:20190412T083000
DTEND;TZID=UTC:20190412T170000
DTSTAMP:20260424T105017
CREATED:20190226T184803Z
LAST-MODIFIED:20190226T184803Z
UID:10000266-1555057800-1555088400@machiasme.gov
SUMMARY:DENTAL OUTREACH PROGRAM @ LEE PELLONS EVENT CENTER MACHIAS
DESCRIPTION:DENTAL CLINIC TIMES AND BROCHURE CLICK HERE
URL:https://machiasme.gov/event/dental-outreach-program-lee-pellons-event-center-machias/2019-04-12/
LOCATION:Lee Pellon Center\, 90 Main Street\, Machias\, 04654\, United States
ORGANIZER;CN="Washington County Children's Program":MAILTO:talley@sun-rise.tv
END:VEVENT
BEGIN:VEVENT
DTSTART;TZID=UTC:20190410T083000
DTEND;TZID=UTC:20190410T183000
DTSTAMP:20260424T105017
CREATED:20190226T184803Z
LAST-MODIFIED:20190226T184803Z
UID:10000265-1554885000-1554921000@machiasme.gov
SUMMARY:DENTAL OUTREACH PROGRAM @ LEE PELLONS EVENT CENTER MACHIAS
DESCRIPTION:DENTAL CLINIC TIMES AND BROCHURE CLICK HERE
URL:https://machiasme.gov/event/dental-outreach-program-lee-pellons-event-center-machias/2019-04-10/
LOCATION:Lee Pellon Center\, 90 Main Street\, Machias\, 04654\, United States
ORGANIZER;CN="Washington County Children's Program":MAILTO:talley@sun-rise.tv
END:VEVENT
BEGIN:VEVENT
DTSTART;TZID=UTC:20190409T083000
DTEND;TZID=UTC:20190409T170000
DTSTAMP:20260424T105017
CREATED:20190226T184803Z
LAST-MODIFIED:20190226T184803Z
UID:10000264-1554798600-1554829200@machiasme.gov
SUMMARY:DENTAL OUTREACH PROGRAM @ LEE PELLONS EVENT CENTER MACHIAS
DESCRIPTION:DENTAL CLINIC TIMES AND BROCHURE CLICK HERE
URL:https://machiasme.gov/event/dental-outreach-program-lee-pellons-event-center-machias/2019-04-09/
LOCATION:Lee Pellon Center\, 90 Main Street\, Machias\, 04654\, United States
ORGANIZER;CN="Washington County Children's Program":MAILTO:talley@sun-rise.tv
END:VEVENT
BEGIN:VEVENT
DTSTART;TZID=UTC:20190408T083000
DTEND;TZID=UTC:20190408T170000
DTSTAMP:20260424T105017
CREATED:20190226T184803Z
LAST-MODIFIED:20190226T184803Z
UID:10000263-1554712200-1554742800@machiasme.gov
SUMMARY:DENTAL OUTREACH PROGRAM @ LEE PELLONS EVENT CENTER MACHIAS
DESCRIPTION:DENTAL CLINIC TIMES AND BROCHURE CLICK HERE
URL:https://machiasme.gov/event/dental-outreach-program-lee-pellons-event-center-machias/2019-04-08/
LOCATION:Lee Pellon Center\, 90 Main Street\, Machias\, 04654\, United States
ORGANIZER;CN="Washington County Children's Program":MAILTO:talley@sun-rise.tv
END:VEVENT
END:VCALENDAR