BEGIN:VCALENDAR
VERSION:2.0
PRODID:-//Town of Machias - ECPv6.15.20//NONSGML v1.0//EN
CALSCALE:GREGORIAN
METHOD:PUBLISH
X-WR-CALNAME:Town of Machias
X-ORIGINAL-URL:https://machiasme.gov
X-WR-CALDESC:Events for Town of Machias
REFRESH-INTERVAL;VALUE=DURATION:PT1H
X-Robots-Tag:noindex
X-PUBLISHED-TTL:PT1H
BEGIN:VTIMEZONE
TZID:UTC
BEGIN:STANDARD
TZOFFSETFROM:+0000
TZOFFSETTO:+0000
TZNAME:UTC
DTSTART:20180101T000000
END:STANDARD
END:VTIMEZONE
BEGIN:VEVENT
DTSTART;TZID=UTC:20191026T140000
DTEND;TZID=UTC:20191026T170000
DTSTAMP:20260423T232501
CREATED:20190919T184714Z
LAST-MODIFIED:20190926T173249Z
UID:10000309-1572098400-1572109200@machiasme.gov
SUMMARY:Machias Beer and Wine Tasting - THIS EVENT HAS BEEN CANCELLED
DESCRIPTION:
URL:https://machiasme.gov/event/machias-beer-and-wine-tasting/
LOCATION:ME\, United States
END:VEVENT
BEGIN:VEVENT
DTSTART;VALUE=DATE:20191010
DTEND;VALUE=DATE:20191011
DTSTAMP:20260423T232501
CREATED:20190926T180445Z
LAST-MODIFIED:20191007T193416Z
UID:10000311-1570665600-1570751999@machiasme.gov
SUMMARY:Town of Machias - Public Hearing Notice - HAS BEEN CANCELLED
DESCRIPTION:The Town of Machias will hold a public hearing to review and develop rules and regulations for an Adult Use Marijuana Ordinance.  Questions will include fees\, locations\, and number of businesses allowed.  All interested parties should attend and provide ideas\, suggestions\, and to address any concerns. – CANCELLED
URL:https://machiasme.gov/event/town-of-machias-public-hearing-notice-4/
LOCATION:ME\, United States
END:VEVENT
BEGIN:VEVENT
DTSTART;TZID=UTC:20190111T090000
DTEND;TZID=UTC:20190111T103000
DTSTAMP:20260423T232501
CREATED:20160219T154539Z
LAST-MODIFIED:20190108T194014Z
UID:10000014-1547197200-1547202600@machiasme.gov
SUMMARY:Downtown Revitalization Committee Meeting
DESCRIPTION:The Downtown revitalization committee will meet at SCEC/CCC Conference Room\, 7 Ames Way\, Machias ME 04654.
URL:https://machiasme.gov/event/downtown-revitalization-committee-meeting-2019-01-11/
LOCATION:ME\, United States
CATEGORIES:Town Meetings
END:VEVENT
END:VCALENDAR