BEGIN:VCALENDAR
VERSION:2.0
PRODID:-//Town of Machias - ECPv6.15.20//NONSGML v1.0//EN
CALSCALE:GREGORIAN
METHOD:PUBLISH
X-ORIGINAL-URL:https://machiasme.gov
X-WR-CALDESC:Events for Town of Machias
REFRESH-INTERVAL;VALUE=DURATION:PT1H
X-Robots-Tag:noindex
X-PUBLISHED-TTL:PT1H
BEGIN:VTIMEZONE
TZID:UTC
BEGIN:STANDARD
TZOFFSETFROM:+0000
TZOFFSETTO:+0000
TZNAME:UTC
DTSTART:20190101T000000
END:STANDARD
END:VTIMEZONE
BEGIN:VEVENT
DTSTART;TZID=UTC:20200717T080000
DTEND;TZID=UTC:20200717T090000
DTSTAMP:20260424T085345
CREATED:20191217T180831Z
LAST-MODIFIED:20200717T175019Z
UID:10000929-1594972800-1594976400@machiasme.gov
SUMMARY:Machias Revitalization Committee Meeting - Cancelled
DESCRIPTION:
URL:https://machiasme.gov/event/machias-revitalization-committee-meeting-4-2020-07-17/
LOCATION:ME\, United States
END:VEVENT
END:VCALENDAR