BEGIN:VCALENDAR
VERSION:2.0
PRODID:-//Town of Machias - ECPv6.15.20//NONSGML v1.0//EN
CALSCALE:GREGORIAN
METHOD:PUBLISH
X-ORIGINAL-URL:https://machiasme.gov
X-WR-CALDESC:Events for Town of Machias
REFRESH-INTERVAL;VALUE=DURATION:PT1H
X-Robots-Tag:noindex
X-PUBLISHED-TTL:PT1H
BEGIN:VTIMEZONE
TZID:UTC
BEGIN:STANDARD
TZOFFSETFROM:+0000
TZOFFSETTO:+0000
TZNAME:UTC
DTSTART:20180101T000000
END:STANDARD
END:VTIMEZONE
BEGIN:VEVENT
DTSTART;TZID=UTC:20260323T180000
DTEND;TZID=UTC:20260323T190000
DTSTAMP:20260424T032103
CREATED:20260317T185945Z
LAST-MODIFIED:20260317T185945Z
UID:10001508-1774288800-1774292400@machiasme.gov
SUMMARY:AOS96 Budget Meeting
DESCRIPTION:Click here for warrant
URL:https://machiasme.gov/event/aos96-budget-meeting-2/
LOCATION:Elm Street School\, 38 Jacksonville Rd\, East Machias\, 04630\, United States
END:VEVENT
BEGIN:VEVENT
DTSTART;TZID=UTC:20250407T180000
DTEND;TZID=UTC:20250407T190000
DTSTAMP:20260424T032103
CREATED:20250331T152812Z
LAST-MODIFIED:20250331T152919Z
UID:10001392-1744048800-1744052400@machiasme.gov
SUMMARY:AOS96 Budget Meeting
DESCRIPTION:Click here for AOS96 warrant
URL:https://machiasme.gov/event/aos96-budget-meeting/
LOCATION:Elm Street School\, 38 Jacksonville Rd\, East Machias\, 04630\, United States
END:VEVENT
BEGIN:VEVENT
DTSTART;TZID=UTC:20230320T180000
DTEND;TZID=UTC:20230320T190000
DTSTAMP:20260424T032103
CREATED:20230315T181527Z
LAST-MODIFIED:20230315T181527Z
UID:10001210-1679335200-1679338800@machiasme.gov
SUMMARY:AOS Budget Meeting
DESCRIPTION:Click here for Warrant
URL:https://machiasme.gov/event/aos-budget-meeting/
LOCATION:Elm Street School\, 38 Jacksonville Rd\, East Machias\, 04630\, United States
END:VEVENT
BEGIN:VEVENT
DTSTART;TZID=UTC:20220315T180000
DTEND;TZID=UTC:20220315T190000
DTSTAMP:20260424T032103
CREATED:20220301T180721Z
LAST-MODIFIED:20220301T180721Z
UID:10001113-1647367200-1647370800@machiasme.gov
SUMMARY:Machias Bay Area School System AOS Budget Meeting
DESCRIPTION:
URL:https://machiasme.gov/event/machias-bay-area-school-system-aos-budget-meeting/
LOCATION:Elm Street School\, 38 Jacksonville Rd\, East Machias\, 04630\, United States
END:VEVENT
BEGIN:VEVENT
DTSTART;TZID=UTC:20190319T180000
DTEND;TZID=UTC:20190319T190000
DTSTAMP:20260424T032103
CREATED:20190306T151741Z
LAST-MODIFIED:20190306T151741Z
UID:10000269-1553018400-1553022000@machiasme.gov
SUMMARY:AOS96 - ALTERNATIVE ORGANIZATIONAL STRUCTURE BUDGET MTG
DESCRIPTION:AOS96 Warrant – click here
URL:https://machiasme.gov/event/aos96-alternative-organizational-structure-budget-mtg/
LOCATION:Elm Street School\, 38 Jacksonville Rd\, East Machias\, 04630\, United States
END:VEVENT
BEGIN:VEVENT
DTSTART;TZID=UTC:20190304T180000
DTEND;TZID=UTC:20190304T190000
DTSTAMP:20260424T032103
CREATED:20190219T203022Z
LAST-MODIFIED:20190301T180547Z
UID:10000763-1551722400-1551726000@machiasme.gov
SUMMARY:AOS96 - Alternative Organizational Structure Budget Meeting
DESCRIPTION:AOS 96 Warrants – click here \nIF SCHOOL IS CANCELLED DUE TO WEATHER THAN THE AOS96 BUDGET MEETING WILL ALSO BE CANCELLED.
URL:https://machiasme.gov/event/aos96-alternative-organizational-structure-budget-meeting/
LOCATION:Elm Street School\, 38 Jacksonville Rd\, East Machias\, 04630\, United States
END:VEVENT
END:VCALENDAR