BEGIN:VCALENDAR
VERSION:2.0
PRODID:-//Town of Machias - ECPv6.15.20//NONSGML v1.0//EN
CALSCALE:GREGORIAN
METHOD:PUBLISH
X-ORIGINAL-URL:https://machiasme.gov
X-WR-CALDESC:Events for Town of Machias
REFRESH-INTERVAL;VALUE=DURATION:PT1H
X-Robots-Tag:noindex
X-PUBLISHED-TTL:PT1H
BEGIN:VTIMEZONE
TZID:UTC
BEGIN:STANDARD
TZOFFSETFROM:+0000
TZOFFSETTO:+0000
TZNAME:UTC
DTSTART:20180101T000000
END:STANDARD
END:VTIMEZONE
BEGIN:VEVENT
DTSTART;TZID=UTC:20190427T090000
DTEND;TZID=UTC:20190427T130000
DTSTAMP:20260424T114555
CREATED:20190425T141809Z
LAST-MODIFIED:20190425T141809Z
UID:10000287-1556355600-1556370000@machiasme.gov
SUMMARY:National Prescription Drug Take Back Day
DESCRIPTION:The Machias Police Department in collaboration with Healthy Acadia will host a collection event at Hannaford in Machias.   Community members are encouraged to drop off any unused\, unwanted or expired prescription drugs through this free\, anonymous service. \nIf unable to attend the take-back event on Saturday\, prescription drug drop boxes are available at the following locations in Washington County:  Calais Police Dept\, Eastport Police Dept\, Machias Family Pharmacy\, Milbridge Pharmacy\, Passamaquoddy Tribe of Indian Township Police Dept\, Passamaquoddy Tribe of Pleasant Point Police Department and the Washington County Sheriff’s Office. \nPrescription drop boxes offer free\, anonymous and safe disposal of prescription medication that my be expired or no longer needed.  Drop boxes are generally accessible during regular business hours of the host site.  Contact your nearest drop box location for hours of operation.  Drop boxes CANNOT take needles\, epinephrine pens\, or liquid medications. \nFor more information about safe prescription drug disposal or Healthy Acadia’s substance prevention efforts in Washington County\, visit www.healthyacadia.org. \n  \n 
URL:https://machiasme.gov/event/national-prescription-drug-take-back-day/
LOCATION:Hannaford\, 149 Dublin Street\, Machias\, Maine\, 04654\, United States
END:VEVENT
END:VCALENDAR