BEGIN:VCALENDAR
VERSION:2.0
PRODID:-//Town of Machias - ECPv6.15.20//NONSGML v1.0//EN
CALSCALE:GREGORIAN
METHOD:PUBLISH
X-WR-CALNAME:Town of Machias
X-ORIGINAL-URL:https://machiasme.gov
X-WR-CALDESC:Events for Town of Machias
REFRESH-INTERVAL;VALUE=DURATION:PT1H
X-Robots-Tag:noindex
X-PUBLISHED-TTL:PT1H
BEGIN:VTIMEZONE
TZID:UTC
BEGIN:STANDARD
TZOFFSETFROM:+0000
TZOFFSETTO:+0000
TZNAME:UTC
DTSTART:20190101T000000
END:STANDARD
END:VTIMEZONE
BEGIN:VEVENT
DTSTART;TZID=UTC:20250722T173000
DTEND;TZID=UTC:20250722T200000
DTSTAMP:20260423T235119
CREATED:20250710T151902Z
LAST-MODIFIED:20250710T153319Z
UID:10001424-1753205400-1753214400@machiasme.gov
SUMMARY:Upper Machias Bay Master Plan Public Meeting
DESCRIPTION:Click here for more info
URL:https://machiasme.gov/event/upper-machias-bay-master-plan-public-meeting/
LOCATION:Lee Pellon Center\, 90 Main Street\, Machias\, 04654\, United States
END:VEVENT
BEGIN:VEVENT
DTSTART;TZID=UTC:20210911T090000
DTEND;TZID=UTC:20210911T170000
DTSTAMP:20260423T235119
CREATED:20210712T141629Z
LAST-MODIFIED:20210712T160632Z
UID:10001054-1631350800-1631379600@machiasme.gov
SUMMARY:Machias Fiber Festival 2021
DESCRIPTION:https://www.facebook.com/machiasfiberfestival
URL:https://machiasme.gov/event/machias-fiber-festival-2021/
LOCATION:Lee Pellon Center\, 90 Main Street\, Machias\, 04654\, United States
END:VEVENT
BEGIN:VEVENT
DTSTART;TZID=UTC:20200502T083000
DTEND;TZID=UTC:20200502T130000
DTSTAMP:20260423T235119
CREATED:20200212T163621Z
LAST-MODIFIED:20200323T175614Z
UID:10000454-1588408200-1588424400@machiasme.gov
SUMMARY:Dental Outreach Program - Machias ME - CANCELLED
DESCRIPTION:Dear partners\, \nIt is with a heavy heart that NYU Dentistry and Washington County Children’s Program have decided to postpone the Machias dental outreach program that was scheduled for April 26 – May 2\, 2020. We feel it is our duty to keep community members\, patients\, and dental staff safe and healthy during this very challenging and uncertain time.  As you may know\, the coronavirus pandemic has led to widespread restrictions on travel\, and health authorities advise against group gatherings in order to protect community members who are most at risk for contracting the virus. We take these warnings very seriously and will do our part to limit the spread of COVID-19. \nWe will reschedule the community dental program once the public health situation is more clearly understood and it is deemed safe.  While we hope to find the earliest possible time to return\, it is likely to be several months from now. In the meantime\, we encourage anyone experiencing dental pain or infection to find a local dental provider as soon as possible.  \nThank you in advance for your patience and understanding as we try to keep our community\, and the communities we serve\, safe and healthy in this unprecedented situation. \nFor now\, please follow the CDC’s guidelines for handwashing\, social distancing\, and other preventive practices that will help curb the spread of the virus. \nRegards\, \nRachel M. Laureyns\, MPH \nSenior Director\, Global Outreach & International Initiatives \nNew York University College of Dentistry \n  \nTeresa Alley\, RDH \nOral Health Coordinator \nWashington County Children’s Program \na program of Sunrise Opportunities \n 
URL:https://machiasme.gov/event/dental-outreach-program-machias-me/2020-05-02/
LOCATION:Lee Pellon Center\, 90 Main Street\, Machias\, 04654\, United States
END:VEVENT
BEGIN:VEVENT
DTSTART;TZID=UTC:20200501T083000
DTEND;TZID=UTC:20200501T170000
DTSTAMP:20260423T235119
CREATED:20200212T163621Z
LAST-MODIFIED:20200323T175614Z
UID:10000453-1588321800-1588352400@machiasme.gov
SUMMARY:Dental Outreach Program - Machias ME - CANCELLED
DESCRIPTION:Dear partners\, \nIt is with a heavy heart that NYU Dentistry and Washington County Children’s Program have decided to postpone the Machias dental outreach program that was scheduled for April 26 – May 2\, 2020. We feel it is our duty to keep community members\, patients\, and dental staff safe and healthy during this very challenging and uncertain time.  As you may know\, the coronavirus pandemic has led to widespread restrictions on travel\, and health authorities advise against group gatherings in order to protect community members who are most at risk for contracting the virus. We take these warnings very seriously and will do our part to limit the spread of COVID-19. \nWe will reschedule the community dental program once the public health situation is more clearly understood and it is deemed safe.  While we hope to find the earliest possible time to return\, it is likely to be several months from now. In the meantime\, we encourage anyone experiencing dental pain or infection to find a local dental provider as soon as possible.  \nThank you in advance for your patience and understanding as we try to keep our community\, and the communities we serve\, safe and healthy in this unprecedented situation. \nFor now\, please follow the CDC’s guidelines for handwashing\, social distancing\, and other preventive practices that will help curb the spread of the virus. \nRegards\, \nRachel M. Laureyns\, MPH \nSenior Director\, Global Outreach & International Initiatives \nNew York University College of Dentistry \n  \nTeresa Alley\, RDH \nOral Health Coordinator \nWashington County Children’s Program \na program of Sunrise Opportunities \n 
URL:https://machiasme.gov/event/dental-outreach-program-machias-me/2020-05-01/
LOCATION:Lee Pellon Center\, 90 Main Street\, Machias\, 04654\, United States
END:VEVENT
BEGIN:VEVENT
DTSTART;VALUE=DATE:20200430
DTEND;VALUE=DATE:20200501
DTSTAMP:20260423T235119
CREATED:20200212T163621Z
LAST-MODIFIED:20200212T164703Z
UID:10000457-1588204800-1588291199@machiasme.gov
SUMMARY:Dental Outreach Program - Machias ME - CLOSED
DESCRIPTION:
URL:https://machiasme.gov/event/dental-outreach-program-machias-me-2020-04-30/
LOCATION:Lee Pellon Center\, 90 Main Street\, Machias\, 04654\, United States
END:VEVENT
BEGIN:VEVENT
DTSTART;TZID=UTC:20200429T083000
DTEND;TZID=UTC:20200429T183000
DTSTAMP:20260423T235119
CREATED:20200212T163621Z
LAST-MODIFIED:20200323T175614Z
UID:10000452-1588149000-1588185000@machiasme.gov
SUMMARY:Dental Outreach Program - Machias ME - CANCELLED
DESCRIPTION:Dear partners\, \nIt is with a heavy heart that NYU Dentistry and Washington County Children’s Program have decided to postpone the Machias dental outreach program that was scheduled for April 26 – May 2\, 2020. We feel it is our duty to keep community members\, patients\, and dental staff safe and healthy during this very challenging and uncertain time.  As you may know\, the coronavirus pandemic has led to widespread restrictions on travel\, and health authorities advise against group gatherings in order to protect community members who are most at risk for contracting the virus. We take these warnings very seriously and will do our part to limit the spread of COVID-19. \nWe will reschedule the community dental program once the public health situation is more clearly understood and it is deemed safe.  While we hope to find the earliest possible time to return\, it is likely to be several months from now. In the meantime\, we encourage anyone experiencing dental pain or infection to find a local dental provider as soon as possible.  \nThank you in advance for your patience and understanding as we try to keep our community\, and the communities we serve\, safe and healthy in this unprecedented situation. \nFor now\, please follow the CDC’s guidelines for handwashing\, social distancing\, and other preventive practices that will help curb the spread of the virus. \nRegards\, \nRachel M. Laureyns\, MPH \nSenior Director\, Global Outreach & International Initiatives \nNew York University College of Dentistry \n  \nTeresa Alley\, RDH \nOral Health Coordinator \nWashington County Children’s Program \na program of Sunrise Opportunities \n 
URL:https://machiasme.gov/event/dental-outreach-program-machias-me/2020-04-29/
LOCATION:Lee Pellon Center\, 90 Main Street\, Machias\, 04654\, United States
END:VEVENT
BEGIN:VEVENT
DTSTART;TZID=UTC:20200428T083000
DTEND;TZID=UTC:20200428T170000
DTSTAMP:20260423T235119
CREATED:20200212T163621Z
LAST-MODIFIED:20200323T175614Z
UID:10000451-1588062600-1588093200@machiasme.gov
SUMMARY:Dental Outreach Program - Machias ME - CANCELLED
DESCRIPTION:Dear partners\, \nIt is with a heavy heart that NYU Dentistry and Washington County Children’s Program have decided to postpone the Machias dental outreach program that was scheduled for April 26 – May 2\, 2020. We feel it is our duty to keep community members\, patients\, and dental staff safe and healthy during this very challenging and uncertain time.  As you may know\, the coronavirus pandemic has led to widespread restrictions on travel\, and health authorities advise against group gatherings in order to protect community members who are most at risk for contracting the virus. We take these warnings very seriously and will do our part to limit the spread of COVID-19. \nWe will reschedule the community dental program once the public health situation is more clearly understood and it is deemed safe.  While we hope to find the earliest possible time to return\, it is likely to be several months from now. In the meantime\, we encourage anyone experiencing dental pain or infection to find a local dental provider as soon as possible.  \nThank you in advance for your patience and understanding as we try to keep our community\, and the communities we serve\, safe and healthy in this unprecedented situation. \nFor now\, please follow the CDC’s guidelines for handwashing\, social distancing\, and other preventive practices that will help curb the spread of the virus. \nRegards\, \nRachel M. Laureyns\, MPH \nSenior Director\, Global Outreach & International Initiatives \nNew York University College of Dentistry \n  \nTeresa Alley\, RDH \nOral Health Coordinator \nWashington County Children’s Program \na program of Sunrise Opportunities \n 
URL:https://machiasme.gov/event/dental-outreach-program-machias-me/2020-04-28/
LOCATION:Lee Pellon Center\, 90 Main Street\, Machias\, 04654\, United States
END:VEVENT
BEGIN:VEVENT
DTSTART;TZID=UTC:20200427T083000
DTEND;TZID=UTC:20200427T170000
DTSTAMP:20260423T235119
CREATED:20200212T163621Z
LAST-MODIFIED:20200323T175614Z
UID:10000450-1587976200-1588006800@machiasme.gov
SUMMARY:Dental Outreach Program - Machias ME - CANCELLED
DESCRIPTION:Dear partners\, \nIt is with a heavy heart that NYU Dentistry and Washington County Children’s Program have decided to postpone the Machias dental outreach program that was scheduled for April 26 – May 2\, 2020. We feel it is our duty to keep community members\, patients\, and dental staff safe and healthy during this very challenging and uncertain time.  As you may know\, the coronavirus pandemic has led to widespread restrictions on travel\, and health authorities advise against group gatherings in order to protect community members who are most at risk for contracting the virus. We take these warnings very seriously and will do our part to limit the spread of COVID-19. \nWe will reschedule the community dental program once the public health situation is more clearly understood and it is deemed safe.  While we hope to find the earliest possible time to return\, it is likely to be several months from now. In the meantime\, we encourage anyone experiencing dental pain or infection to find a local dental provider as soon as possible.  \nThank you in advance for your patience and understanding as we try to keep our community\, and the communities we serve\, safe and healthy in this unprecedented situation. \nFor now\, please follow the CDC’s guidelines for handwashing\, social distancing\, and other preventive practices that will help curb the spread of the virus. \nRegards\, \nRachel M. Laureyns\, MPH \nSenior Director\, Global Outreach & International Initiatives \nNew York University College of Dentistry \n  \nTeresa Alley\, RDH \nOral Health Coordinator \nWashington County Children’s Program \na program of Sunrise Opportunities \n 
URL:https://machiasme.gov/event/dental-outreach-program-machias-me/2020-04-27/
LOCATION:Lee Pellon Center\, 90 Main Street\, Machias\, 04654\, United States
END:VEVENT
BEGIN:VEVENT
DTSTART;TZID=UTC:20200212T190000
DTEND;TZID=UTC:20200212T200000
DTSTAMP:20260423T235119
CREATED:20200210T152009Z
LAST-MODIFIED:20200210T153312Z
UID:10000431-1581534000-1581537600@machiasme.gov
SUMMARY:Special Town Meeting
DESCRIPTION:Click here for Special Town Meeting warrant
URL:https://machiasme.gov/event/special-town-meeting-2/
LOCATION:Lee Pellon Center\, 90 Main Street\, Machias\, 04654\, United States
END:VEVENT
BEGIN:VEVENT
DTSTART;TZID=UTC:20200212T180000
DTEND;TZID=UTC:20200212T190000
DTSTAMP:20260423T235119
CREATED:20191114T192734Z
LAST-MODIFIED:20200210T150851Z
UID:10000907-1581530400-1581534000@machiasme.gov
SUMMARY:Board of Select-People's Meeting
DESCRIPTION:Board of Select-people’s meetings are the 2nd and 4th Wednesday of the month at 6 p.m. at the Tele-Business Center on Stackpole Drive.
URL:https://machiasme.gov/event/board-of-select-peoples-meeting-2020-02-12/
LOCATION:Lee Pellon Center\, 90 Main Street\, Machias\, 04654\, United States
END:VEVENT
END:VCALENDAR