BEGIN:VCALENDAR
VERSION:2.0
PRODID:-//Town of Machias - ECPv6.15.20//NONSGML v1.0//EN
CALSCALE:GREGORIAN
METHOD:PUBLISH
X-ORIGINAL-URL:https://machiasme.gov
X-WR-CALDESC:Events for Town of Machias
REFRESH-INTERVAL;VALUE=DURATION:PT1H
X-Robots-Tag:noindex
X-PUBLISHED-TTL:PT1H
BEGIN:VTIMEZONE
TZID:UTC
BEGIN:STANDARD
TZOFFSETFROM:+0000
TZOFFSETTO:+0000
TZNAME:UTC
DTSTART:20180101T000000
END:STANDARD
END:VTIMEZONE
BEGIN:VEVENT
DTSTART;TZID=UTC:20200708T180000
DTEND;TZID=UTC:20200708T190000
DTSTAMP:20260424T124500
CREATED:20200629T132922Z
LAST-MODIFIED:20200629T172743Z
UID:10000486-1594231200-1594234800@machiasme.gov
SUMMARY:Special Town Meeting
DESCRIPTION:click here for warrant
URL:https://machiasme.gov/event/special-town-meeting-3/
LOCATION:Lee Pellon Center\, 90 Main Street\, Machias\, 04654\, United States
END:VEVENT
BEGIN:VEVENT
DTSTART;TZID=UTC:20190207T190000
DTEND;TZID=UTC:20190207T200000
DTSTAMP:20260424T124500
CREATED:20190201T192850Z
LAST-MODIFIED:20190201T192909Z
UID:10000259-1549566000-1549569600@machiasme.gov
SUMMARY:Special Town Meeting Warrant 2019 - Town of Machias
DESCRIPTION:Warrant – click here
URL:https://machiasme.gov/event/special-town-meeting-warrant-2019-town-of-machias/
LOCATION:Lee Pellon Center\, 90 Main Street\, Machias\, 04654\, United States
END:VEVENT
END:VCALENDAR