BEGIN:VCALENDAR
VERSION:2.0
PRODID:-//Town of Machias - ECPv6.15.20//NONSGML v1.0//EN
CALSCALE:GREGORIAN
METHOD:PUBLISH
X-WR-CALNAME:Town of Machias
X-ORIGINAL-URL:https://machiasme.gov
X-WR-CALDESC:Events for Town of Machias
REFRESH-INTERVAL;VALUE=DURATION:PT1H
X-Robots-Tag:noindex
X-PUBLISHED-TTL:PT1H
BEGIN:VTIMEZONE
TZID:UTC
BEGIN:STANDARD
TZOFFSETFROM:+0000
TZOFFSETTO:+0000
TZNAME:UTC
DTSTART:20200101T000000
END:STANDARD
END:VTIMEZONE
BEGIN:VEVENT
DTSTART;TZID=UTC:20221203T120000
DTEND;TZID=UTC:20221203T150000
DTSTAMP:20260424T061107
CREATED:20221202T143340Z
LAST-MODIFIED:20221202T143645Z
UID:10001157-1670068800-1670079600@machiasme.gov
SUMMARY:SANTA IS COMING
DESCRIPTION:TO THE MACHIAS BAY AREA CHAMBER OF COMMERCE ON KILTON LANE
URL:https://machiasme.gov/event/santa-is-coming/
LOCATION:Machias Chamber of Commerce\, 2 Kilton Lane\, Machias\, ME\, 04654\, United States
END:VEVENT
BEGIN:VEVENT
DTSTART;TZID=UTC:20211204T100000
DTEND;TZID=UTC:20211204T140000
DTSTAMP:20260424T061107
CREATED:20211112T143632Z
LAST-MODIFIED:20211112T143632Z
UID:10001078-1638612000-1638626400@machiasme.gov
SUMMARY:Machias Community Christmas with Santa
DESCRIPTION:
URL:https://machiasme.gov/event/machias-community-christmas-with-santa/
LOCATION:Machias Chamber of Commerce\, 2 Kilton Lane\, Machias\, ME\, 04654\, United States
END:VEVENT
BEGIN:VEVENT
DTSTART;TZID=UTC:20211118T180000
DTEND;TZID=UTC:20211118T190000
DTSTAMP:20260424T061107
CREATED:20211116T135051Z
LAST-MODIFIED:20211116T140003Z
UID:10001080-1637258400-1637262000@machiasme.gov
SUMMARY:The Machias Historical Society Meeting
DESCRIPTION:The guest speaker for the Historical Society meeting will be Jarod Farn-Guillette who will speak about the history chapter of the 10 year comprehensive plan.  This will allow the Historical Society to have input into that important chapter of the plan.  The public is welcome and should be encouraged to participate also\, so we can get their input as well.  Part of the discussion will lend itself to the Downtown Revitalization plan.
URL:https://machiasme.gov/event/the-machias-historical-society-meeting/
LOCATION:Machias Chamber of Commerce\, 2 Kilton Lane\, Machias\, ME\, 04654\, United States
END:VEVENT
BEGIN:VEVENT
DTSTART;TZID=UTC:20210916T140000
DTEND;TZID=UTC:20210916T150000
DTSTAMP:20260424T061107
CREATED:20210914T182448Z
LAST-MODIFIED:20210914T182910Z
UID:10001064-1631800800-1631804400@machiasme.gov
SUMMARY:Machias Comprehensive Plan and Downtown Committee Meeting
DESCRIPTION:
URL:https://machiasme.gov/event/machias-comprehensive-plan-and-downtown-committee-meeting/
LOCATION:Machias Chamber of Commerce\, 2 Kilton Lane\, Machias\, ME\, 04654\, United States
END:VEVENT
BEGIN:VEVENT
DTSTART;TZID=UTC:20210819T140000
DTEND;TZID=UTC:20210819T160000
DTSTAMP:20260424T061107
CREATED:20210806T180947Z
LAST-MODIFIED:20210806T182322Z
UID:10000556-1629381600-1629388800@machiasme.gov
SUMMARY:Machias Comprehensive Plan Committee Meeting
DESCRIPTION:
URL:https://machiasme.gov/event/machias-comprehensive-plan-committee-meeting-3/
LOCATION:Machias Chamber of Commerce\, 2 Kilton Lane\, Machias\, ME\, 04654\, United States
END:VEVENT
END:VCALENDAR