BEGIN:VCALENDAR
VERSION:2.0
PRODID:-//Town of Machias - ECPv6.15.20//NONSGML v1.0//EN
CALSCALE:GREGORIAN
METHOD:PUBLISH
X-ORIGINAL-URL:https://machiasme.gov
X-WR-CALDESC:Events for Town of Machias
REFRESH-INTERVAL;VALUE=DURATION:PT1H
X-Robots-Tag:noindex
X-PUBLISHED-TTL:PT1H
BEGIN:VTIMEZONE
TZID:UTC
BEGIN:STANDARD
TZOFFSETFROM:+0000
TZOFFSETTO:+0000
TZNAME:UTC
DTSTART:20200101T000000
END:STANDARD
END:VTIMEZONE
BEGIN:VEVENT
DTSTART;TZID=UTC:20210914T160000
DTEND;TZID=UTC:20210914T190000
DTSTAMP:20260424T073834
CREATED:20210902T143158Z
LAST-MODIFIED:20210902T161110Z
UID:10000560-1631635200-1631646000@machiasme.gov
SUMMARY:MDOT - Machias Dike Bridge Feasibility Study - OPEN HOUSE
DESCRIPTION:Click here for more info
URL:https://machiasme.gov/event/mdot-machias-dike-bridge-feasibility-study-open-house/
LOCATION:Machias Dike\, Rte 1\, Machias ME\, NY\, 04654\, United States
END:VEVENT
END:VCALENDAR