BEGIN:VCALENDAR
VERSION:2.0
PRODID:-//Town of Machias - ECPv6.15.20//NONSGML v1.0//EN
CALSCALE:GREGORIAN
METHOD:PUBLISH
X-ORIGINAL-URL:https://machiasme.gov
X-WR-CALDESC:Events for Town of Machias
REFRESH-INTERVAL;VALUE=DURATION:PT1H
X-Robots-Tag:noindex
X-PUBLISHED-TTL:PT1H
BEGIN:VTIMEZONE
TZID:UTC
BEGIN:STANDARD
TZOFFSETFROM:+0000
TZOFFSETTO:+0000
TZNAME:UTC
DTSTART:20190101T000000
END:STANDARD
END:VTIMEZONE
BEGIN:VEVENT
DTSTART;TZID=UTC:20220615T190000
DTEND;TZID=UTC:20220615T210000
DTSTAMP:20260423T221224
CREATED:20220317T163036Z
LAST-MODIFIED:20220317T163152Z
UID:10001115-1655319600-1655326800@machiasme.gov
SUMMARY:Annual Town Meeting
DESCRIPTION:
URL:https://machiasme.gov/event/annual-town-meeting-2/
LOCATION:Machias Memorial High School Gym\, 30 Bulldog Lane\, Machias ME\, 04654\, United States
END:VEVENT
BEGIN:VEVENT
DTSTART;TZID=UTC:20220329T180000
DTEND;TZID=UTC:20220329T190000
DTSTAMP:20260423T221224
CREATED:20220323T140546Z
LAST-MODIFIED:20220323T141836Z
UID:10001116-1648576800-1648580400@machiasme.gov
SUMMARY:Special Town Meeting - RMG Roof
DESCRIPTION:Click here for Warrant
URL:https://machiasme.gov/event/special-town-meeting-rmg-roof/
LOCATION:Machias Memorial High School Gym\, 30 Bulldog Lane\, Machias ME\, 04654\, United States
END:VEVENT
BEGIN:VEVENT
DTSTART;TZID=UTC:20210609T190000
DTEND;TZID=UTC:20210609T200000
DTSTAMP:20260423T221224
CREATED:20210506T131856Z
LAST-MODIFIED:20210506T131856Z
UID:10001032-1623265200-1623268800@machiasme.gov
SUMMARY:Annual Town Meeting
DESCRIPTION:
URL:https://machiasme.gov/event/annual-town-meeting/
LOCATION:Machias Memorial High School Gym\, 30 Bulldog Lane\, Machias ME\, 04654\, United States
END:VEVENT
BEGIN:VEVENT
DTSTART;TZID=UTC:20210525T183000
DTEND;TZID=UTC:20210525T200000
DTSTAMP:20260423T221224
CREATED:20210520T161307Z
LAST-MODIFIED:20210525T143517Z
UID:10001039-1621967400-1621972800@machiasme.gov
SUMMARY:Machias School Committee Meeting (following the School Budget Referendum) in person at MMHS Gym
DESCRIPTION:
URL:https://machiasme.gov/event/machias-school-committee-meeting-following-the-school-budget-referendum-via-zoom-call-superintendents-office-for-link/
LOCATION:Machias Memorial High School Gym\, 30 Bulldog Lane\, Machias ME\, 04654\, United States
END:VEVENT
BEGIN:VEVENT
DTSTART;TZID=UTC:20210525T180000
DTEND;TZID=UTC:20210525T200000
DTSTAMP:20260423T221224
CREATED:20210506T131623Z
LAST-MODIFIED:20210506T131623Z
UID:10001030-1621965600-1621972800@machiasme.gov
SUMMARY:School Budget Referendum
DESCRIPTION:
URL:https://machiasme.gov/event/school-budget-referendum-2/
LOCATION:Machias Memorial High School Gym\, 30 Bulldog Lane\, Machias ME\, 04654\, United States
END:VEVENT
BEGIN:VEVENT
DTSTART;TZID=UTC:20210414T180000
DTEND;TZID=UTC:20210414T183000
DTSTAMP:20260423T221224
CREATED:20210331T165314Z
LAST-MODIFIED:20210408T182050Z
UID:10001023-1618423200-1618425000@machiasme.gov
SUMMARY:Public Hearing - RESCHEDULED
DESCRIPTION:Click here for more information \n\n\n\n\n\nIf you can’t be there in person then can watch via Zoom:
URL:https://machiasme.gov/event/public-hearing/
LOCATION:Machias Memorial High School Gym\, 30 Bulldog Lane\, Machias ME\, 04654\, United States
END:VEVENT
BEGIN:VEVENT
DTSTART;TZID=UTC:20200902T190000
DTEND;TZID=UTC:20200902T200000
DTSTAMP:20260423T221224
CREATED:20200729T145130Z
LAST-MODIFIED:20200804T150603Z
UID:10000971-1599073200-1599076800@machiasme.gov
SUMMARY:2020 Annual Town Meeting
DESCRIPTION:Click here for Annual Town Warrant
URL:https://machiasme.gov/event/2020-annual-town-meeting-warrant-to-follow/
LOCATION:Machias Memorial High School Gym\, 30 Bulldog Lane\, Machias ME\, 04654\, United States
END:VEVENT
END:VCALENDAR