BEGIN:VCALENDAR
VERSION:2.0
PRODID:-//Town of Machias - ECPv6.15.20//NONSGML v1.0//EN
CALSCALE:GREGORIAN
METHOD:PUBLISH
X-ORIGINAL-URL:https://machiasme.gov
X-WR-CALDESC:Events for Town of Machias
REFRESH-INTERVAL;VALUE=DURATION:PT1H
X-Robots-Tag:noindex
X-PUBLISHED-TTL:PT1H
BEGIN:VTIMEZONE
TZID:UTC
BEGIN:STANDARD
TZOFFSETFROM:+0000
TZOFFSETTO:+0000
TZNAME:UTC
DTSTART:20210101T000000
END:STANDARD
END:VTIMEZONE
BEGIN:VEVENT
DTSTART;TZID=UTC:20230111T160000
DTEND;TZID=UTC:20230111T180000
DTSTAMP:20260424T015920
CREATED:20230110T195334Z
LAST-MODIFIED:20230110T195334Z
UID:10000692-1673452800-1673460000@machiasme.gov
SUMMARY:School Committee Meeting
DESCRIPTION:
URL:https://machiasme.gov/event/school-committee-meeting/
LOCATION:Machias Memorial High School
END:VEVENT
BEGIN:VEVENT
DTSTART;TZID=UTC:20220628T170000
DTEND;TZID=UTC:20220628T190000
DTSTAMP:20260424T015920
CREATED:20220613T163340Z
LAST-MODIFIED:20220628T182221Z
UID:10001124-1656435600-1656442800@machiasme.gov
SUMMARY:MDOT Dike Public Hearing
DESCRIPTION:Click here for a letter from MDOT for dike public hearing
URL:https://machiasme.gov/event/mdot-dike-public-hearing/
LOCATION:Machias Memorial High School
END:VEVENT
BEGIN:VEVENT
DTSTART;TZID=UTC:20220406T160000
DTEND;TZID=UTC:20220406T170000
DTSTAMP:20260424T015920
CREATED:20220330T185428Z
LAST-MODIFIED:20220330T185428Z
UID:10001120-1649260800-1649264400@machiasme.gov
SUMMARY:Machias School Committee Meeting
DESCRIPTION:
URL:https://machiasme.gov/event/machias-school-committee-meeting-11/
LOCATION:Machias Memorial High School
END:VEVENT
BEGIN:VEVENT
DTSTART;TZID=UTC:20220302T160000
DTEND;TZID=UTC:20220302T170000
DTSTAMP:20260424T015920
CREATED:20220223T134739Z
LAST-MODIFIED:20220223T135123Z
UID:10000618-1646236800-1646240400@machiasme.gov
SUMMARY:Machias School Committee Meeting
DESCRIPTION:
URL:https://machiasme.gov/event/machias-school-committee-meeting-10/
LOCATION:Machias Memorial High School
END:VEVENT
END:VCALENDAR