BEGIN:VCALENDAR
VERSION:2.0
PRODID:-//Town of Machias - ECPv6.15.20//NONSGML v1.0//EN
CALSCALE:GREGORIAN
METHOD:PUBLISH
X-WR-CALNAME:Town of Machias
X-ORIGINAL-URL:https://machiasme.gov
X-WR-CALDESC:Events for Town of Machias
REFRESH-INTERVAL;VALUE=DURATION:PT1H
X-Robots-Tag:noindex
X-PUBLISHED-TTL:PT1H
BEGIN:VTIMEZONE
TZID:UTC
BEGIN:STANDARD
TZOFFSETFROM:+0000
TZOFFSETTO:+0000
TZNAME:UTC
DTSTART:20180101T000000
END:STANDARD
END:VTIMEZONE
BEGIN:VEVENT
DTSTART;TZID=UTC:20191025T120000
DTEND;TZID=UTC:20191025T140000
DTSTAMP:20260424T111006
CREATED:20191016T185341Z
LAST-MODIFIED:20191016T185341Z
UID:10000903-1572004800-1572012000@machiasme.gov
SUMMARY:Town of Machias Meet and Greet the new police chief\, Todd Hand
DESCRIPTION:At the Machias Savings Bank Community Room. \nPlease stop by to say hello and make the new chief feel welcome.  Light refreshments will be served. \nParking is limited – parking available behind the Machias River Hardware\, at the Center Street Church and the Court Street Parking Lot
URL:https://machiasme.gov/event/town-of-machias-meet-and-greet-the-new-police-chief-todd-hand/
LOCATION:Machias Savings Bank Community Room\, 4 Center Street\, Machias\, ME\, 04654\, United States
END:VEVENT
END:VCALENDAR