BEGIN:VCALENDAR
VERSION:2.0
PRODID:-//Town of Machias - ECPv6.15.20//NONSGML v1.0//EN
CALSCALE:GREGORIAN
METHOD:PUBLISH
X-WR-CALNAME:Town of Machias
X-ORIGINAL-URL:https://machiasme.gov
X-WR-CALDESC:Events for Town of Machias
REFRESH-INTERVAL;VALUE=DURATION:PT1H
X-Robots-Tag:noindex
X-PUBLISHED-TTL:PT1H
BEGIN:VTIMEZONE
TZID:UTC
BEGIN:STANDARD
TZOFFSETFROM:+0000
TZOFFSETTO:+0000
TZNAME:UTC
DTSTART:20230101T000000
END:STANDARD
END:VTIMEZONE
BEGIN:VEVENT
DTSTART;TZID=UTC:20241211T180000
DTEND;TZID=UTC:20241211T200000
DTSTAMP:20260423T223619
CREATED:20231214T150854Z
LAST-MODIFIED:20240909T160342Z
UID:10001278-1733940000-1733947200@machiasme.gov
SUMMARY:Machias Select Board Meeting
DESCRIPTION:
URL:https://machiasme.gov/event/board-of-select-peoples-meeting-4-2024-04-24-2024-10-09/2024-12-11/
LOCATION:Machias Tele-Business Center and via Zoom\, 17 stackpole Dr\, Machias\, ME\, 04654\, United States
END:VEVENT
BEGIN:VEVENT
DTSTART;TZID=UTC:20241113T180000
DTEND;TZID=UTC:20241113T200000
DTSTAMP:20260423T223619
CREATED:20231214T150854Z
LAST-MODIFIED:20240909T160342Z
UID:10001277-1731520800-1731528000@machiasme.gov
SUMMARY:Machias Select Board Meeting
DESCRIPTION:
URL:https://machiasme.gov/event/board-of-select-peoples-meeting-4-2024-04-24-2024-10-09/2024-11-13/
LOCATION:Machias Tele-Business Center and via Zoom\, 17 stackpole Dr\, Machias\, ME\, 04654\, United States
END:VEVENT
BEGIN:VEVENT
DTSTART;TZID=UTC:20241023T180000
DTEND;TZID=UTC:20241023T200000
DTSTAMP:20260423T223619
CREATED:20231214T150854Z
LAST-MODIFIED:20240909T160342Z
UID:10001276-1729706400-1729713600@machiasme.gov
SUMMARY:Machias Select Board Meeting
DESCRIPTION:
URL:https://machiasme.gov/event/board-of-select-peoples-meeting-4-2024-04-24-2024-10-09/2024-10-23/
LOCATION:Machias Tele-Business Center and via Zoom\, 17 stackpole Dr\, Machias\, ME\, 04654\, United States
END:VEVENT
BEGIN:VEVENT
DTSTART;TZID=UTC:20241009T180000
DTEND;TZID=UTC:20241009T200000
DTSTAMP:20260423T223619
CREATED:20231214T150854Z
LAST-MODIFIED:20240909T160342Z
UID:10001275-1728496800-1728504000@machiasme.gov
SUMMARY:Machias Select Board Meeting
DESCRIPTION:
URL:https://machiasme.gov/event/board-of-select-peoples-meeting-4-2024-04-24-2024-10-09/2024-10-09/
LOCATION:Machias Tele-Business Center and via Zoom\, 17 stackpole Dr\, Machias\, ME\, 04654\, United States
END:VEVENT
BEGIN:VEVENT
DTSTART;TZID=UTC:20240925T193000
DTEND;TZID=UTC:20240925T200000
DTSTAMP:20260423T223619
CREATED:20231214T150854Z
LAST-MODIFIED:20240920T182757Z
UID:10001256-1727292600-1727294400@machiasme.gov
SUMMARY:Machias Select Board  Meeting Immediately following Public Hearing
DESCRIPTION:
URL:https://machiasme.gov/event/board-of-select-peoples-meeting-4-2024-04-24-2024-09-25/
LOCATION:Machias Tele-Business Center and via Zoom\, 17 stackpole Dr\, Machias\, ME\, 04654\, United States
END:VEVENT
BEGIN:VEVENT
DTSTART;TZID=UTC:20240925T180000
DTEND;TZID=UTC:20240925T200000
DTSTAMP:20260423T223619
CREATED:20231214T150854Z
LAST-MODIFIED:20240909T160342Z
UID:10001274-1727287200-1727294400@machiasme.gov
SUMMARY:Machias Select Board Meeting
DESCRIPTION:
URL:https://machiasme.gov/event/board-of-select-peoples-meeting-4-2024-04-24-2024-10-09/2024-09-25/
LOCATION:Machias Tele-Business Center and via Zoom\, 17 stackpole Dr\, Machias\, ME\, 04654\, United States
END:VEVENT
BEGIN:VEVENT
DTSTART;TZID=UTC:20240911T180000
DTEND;TZID=UTC:20240911T200000
DTSTAMP:20260423T223619
CREATED:20231214T150854Z
LAST-MODIFIED:20240909T160342Z
UID:10001273-1726077600-1726084800@machiasme.gov
SUMMARY:Machias Select Board Meeting
DESCRIPTION:
URL:https://machiasme.gov/event/board-of-select-peoples-meeting-4-2024-04-24-2024-10-09/2024-09-11/
LOCATION:Machias Tele-Business Center and via Zoom\, 17 stackpole Dr\, Machias\, ME\, 04654\, United States
END:VEVENT
BEGIN:VEVENT
DTSTART;TZID=UTC:20240911T180000
DTEND;TZID=UTC:20240911T200000
DTSTAMP:20260423T223619
CREATED:20231214T150854Z
LAST-MODIFIED:20240911T125943Z
UID:10001257-1726077600-1726084800@machiasme.gov
SUMMARY:Machias Select Board Emergency Meeting
DESCRIPTION:
URL:https://machiasme.gov/event/board-of-select-peoples-meeting-4-2024-04-24-2024-09-11/
LOCATION:Machias Tele-Business Center and via Zoom\, 17 stackpole Dr\, Machias\, ME\, 04654\, United States
END:VEVENT
BEGIN:VEVENT
DTSTART;TZID=UTC:20240828T183000
DTEND;TZID=UTC:20240828T200000
DTSTAMP:20260423T223619
CREATED:20231214T150854Z
LAST-MODIFIED:20240821T190829Z
UID:10001255-1724869800-1724875200@machiasme.gov
SUMMARY:Machias Select Board Meeting Immediately following Special Town Meeting
DESCRIPTION:Machias Select Board is inviting you to a scheduled Zoom meeting. \nTopic: Machias Select Board Meeting Immediately following Special Town Meeting\nTime: Aug 28\, 2024 06:30 PM Eastern Time (US and Canada) \nJoin Zoom Meeting\nhttps://us02web.zoom.us/j/85962474549?pwd=010cGiR7zJK20wF1VpOjaZJzONu1f5.1 \nMeeting ID: 859 6247 4549\nPasscode: 410161 \n— \nOne tap mobile\n+13126266799\,\,85962474549#\,\,\,\,*410161# US (Chicago)\n+16465588656\,\,85962474549#\,\,\,\,*410161# US (New York) \n— \nDial by your location\n• +1 312 626 6799 US (Chicago)\n• +1 646 558 8656 US (New York)\n• +1 646 931 3860 US\n• +1 301 715 8592 US (Washington DC)\n• +1 305 224 1968 US\n• +1 309 205 3325 US\n• +1 507 473 4847 US\n• +1 564 217 2000 US\n• +1 669 444 9171 US\n• +1 669 900 9128 US (San Jose)\n• +1 689 278 1000 US\n• +1 719 359 4580 US\n• +1 253 205 0468 US\n• +1 253 215 8782 US (Tacoma)\n• +1 346 248 7799 US (Houston)\n• +1 360 209 5623 US\n• +1 386 347 5053 US \nMeeting ID: 859 6247 4549\nPasscode: 410161 \nFind your local number: https://us02web.zoom.us/u/kd5GxzoBUM \n 
URL:https://machiasme.gov/event/board-of-select-peoples-meeting-4-2024-04-24-2024-08-28/
LOCATION:Machias Tele-Business Center and via Zoom\, 17 stackpole Dr\, Machias\, ME\, 04654\, United States
END:VEVENT
BEGIN:VEVENT
DTSTART;TZID=UTC:20240828T180000
DTEND;TZID=UTC:20240828T200000
DTSTAMP:20260423T223619
CREATED:20231214T150854Z
LAST-MODIFIED:20240909T160342Z
UID:10001272-1724868000-1724875200@machiasme.gov
SUMMARY:Machias Select Board Meeting
DESCRIPTION:
URL:https://machiasme.gov/event/board-of-select-peoples-meeting-4-2024-04-24-2024-10-09/2024-08-28/
LOCATION:Machias Tele-Business Center and via Zoom\, 17 stackpole Dr\, Machias\, ME\, 04654\, United States
END:VEVENT
BEGIN:VEVENT
DTSTART;TZID=UTC:20240814T183000
DTEND;TZID=UTC:20240814T200000
DTSTAMP:20260423T223619
CREATED:20231214T150854Z
LAST-MODIFIED:20240807T135100Z
UID:10001254-1723660200-1723665600@machiasme.gov
SUMMARY:Machias Select Board Meeting Immediately following Public Hearing
DESCRIPTION:Machias Select Board is inviting you to a scheduled Zoom meeting. \nTopic: Machias Select Board Meeting Immediately following Public Hearing\nTime: Aug 14\, 2024 06:00 PM Eastern Time (US and Canada) \nJoin Zoom Meeting\nhttps://us02web.zoom.us/j/83893302800?pwd=DkER3LfWaS4YAaoUhIxvSs9VGyBbPP.1 \nMeeting ID: 838 9330 2800\nPasscode: 522187 \n— \nOne tap mobile\n+16465588656\,\,83893302800#\,\,\,\,*522187# US (New York)\n+16469313860\,\,83893302800#\,\,\,\,*522187# US \n— \nDial by your location\n• +1 646 558 8656 US (New York)\n• +1 646 931 3860 US\n• +1 301 715 8592 US (Washington DC)\n• +1 305 224 1968 US\n• +1 309 205 3325 US\n• +1 312 626 6799 US (Chicago)\n• +1 253 215 8782 US (Tacoma)\n• +1 346 248 7799 US (Houston)\n• +1 360 209 5623 US\n• +1 386 347 5053 US\n• +1 507 473 4847 US\n• +1 564 217 2000 US\n• +1 669 444 9171 US\n• +1 669 900 9128 US (San Jose)\n• +1 689 278 1000 US\n• +1 719 359 4580 US\n• +1 253 205 0468 US \nMeeting ID: 838 9330 2800\nPasscode: 522187 \nFind your local number: https://us02web.zoom.us/u/kcbZXDeAwJ \n 
URL:https://machiasme.gov/event/board-of-select-peoples-meeting-4-2024-04-24-2024-08-14/
LOCATION:Machias Tele-Business Center and via Zoom\, 17 stackpole Dr\, Machias\, ME\, 04654\, United States
END:VEVENT
BEGIN:VEVENT
DTSTART;TZID=UTC:20240814T180000
DTEND;TZID=UTC:20240814T200000
DTSTAMP:20260423T223619
CREATED:20231214T150854Z
LAST-MODIFIED:20240909T160342Z
UID:10001271-1723658400-1723665600@machiasme.gov
SUMMARY:Machias Select Board Meeting
DESCRIPTION:
URL:https://machiasme.gov/event/board-of-select-peoples-meeting-4-2024-04-24-2024-10-09/2024-08-14/
LOCATION:Machias Tele-Business Center and via Zoom\, 17 stackpole Dr\, Machias\, ME\, 04654\, United States
END:VEVENT
BEGIN:VEVENT
DTSTART;TZID=UTC:20240813T170000
DTEND;TZID=UTC:20240813T190000
DTSTAMP:20260423T223619
CREATED:20240808T132020Z
LAST-MODIFIED:20240808T133029Z
UID:10001316-1723568400-1723575600@machiasme.gov
SUMMARY:Machias Select Board and Budget Committee Meeting
DESCRIPTION:Machias Select Board is inviting you to a scheduled Zoom meeting. \nTopic: Machias Select Board and Budget Committee Meeting\nTime: Aug 13\, 2024 05:00 PM Eastern Time (US and Canada) \nJoin Zoom Meeting\nhttps://us02web.zoom.us/j/87927776139?pwd=eAVpgoIaM3EZteL07xtpuIZvJPpfnt.1 \nMeeting ID: 879 2777 6139\nPasscode: 002587 \n— \nOne tap mobile\n+13126266799\,\,87927776139#\,\,\,\,*002587# US (Chicago)\n+16465588656\,\,87927776139#\,\,\,\,*002587# US (New York) \n— \nDial by your location\n• +1 312 626 6799 US (Chicago)\n• +1 646 558 8656 US (New York)\n• +1 646 931 3860 US\n• +1 301 715 8592 US (Washington DC)\n• +1 305 224 1968 US\n• +1 309 205 3325 US\n• +1 564 217 2000 US\n• +1 669 444 9171 US\n• +1 669 900 9128 US (San Jose)\n• +1 689 278 1000 US\n• +1 719 359 4580 US\n• +1 253 205 0468 US\n• +1 253 215 8782 US (Tacoma)\n• +1 346 248 7799 US (Houston)\n• +1 360 209 5623 US\n• +1 386 347 5053 US\n• +1 507 473 4847 US \nMeeting ID: 879 2777 6139\nPasscode: 002587 \nFind your local number: https://us02web.zoom.us/u/kbpQqkKifQ \n 
URL:https://machiasme.gov/event/machias-select-board-and-budget-committee-meeting-4/
LOCATION:Machias Tele-Business Center and via Zoom\, 17 stackpole Dr\, Machias\, ME\, 04654\, United States
END:VEVENT
BEGIN:VEVENT
DTSTART;TZID=UTC:20240807T170000
DTEND;TZID=UTC:20240807T183000
DTSTAMP:20260423T223619
CREATED:20240807T134854Z
LAST-MODIFIED:20240807T134854Z
UID:10001314-1723050000-1723055400@machiasme.gov
SUMMARY:The Machias Select Board and Budget Committee Meeting
DESCRIPTION:Topic: The Machias Select Board and Budget Committee Meeting\nTime: Aug 7\, 2024 05:00 PM Eastern Time (US and Canada) \nJoin Zoom Meeting\nhttps://us02web.zoom.us/j/82709378610?pwd=cxv8ouV86su6FM5vC3yThLBmxMB0li.1 \nMeeting ID: 827 0937 8610\nPasscode: 794334 \n— \nOne tap mobile\n+13017158592\,\,82709378610#\,\,\,\,*794334# US (Washington DC)\n+13052241968\,\,82709378610#\,\,\,\,*794334# US \n— \nDial by your location\n• +1 301 715 8592 US (Washington DC)\n• +1 305 224 1968 US\n• +1 309 205 3325 US\n• +1 312 626 6799 US (Chicago)\n• +1 646 558 8656 US (New York)\n• +1 646 931 3860 US\n• +1 719 359 4580 US\n• +1 253 205 0468 US\n• +1 253 215 8782 US (Tacoma)\n• +1 346 248 7799 US (Houston)\n• +1 360 209 5623 US\n• +1 386 347 5053 US\n• +1 507 473 4847 US\n• +1 564 217 2000 US\n• +1 669 444 9171 US\n• +1 669 900 9128 US (San Jose)\n• +1 689 278 1000 US \nMeeting ID: 827 0937 8610\nPasscode: 794334 \nFind your local number: https://us02web.zoom.us/u/kddpYuatkU \n 
URL:https://machiasme.gov/event/the-machias-select-board-and-budget-committee-meeting-2/
LOCATION:Machias Tele-Business Center and via Zoom\, 17 stackpole Dr\, Machias\, ME\, 04654\, United States
END:VEVENT
BEGIN:VEVENT
DTSTART;TZID=UTC:20240731T170000
DTEND;TZID=UTC:20240731T200000
DTSTAMP:20260423T223619
CREATED:20240725T134506Z
LAST-MODIFIED:20240725T182130Z
UID:10000777-1722445200-1722456000@machiasme.gov
SUMMARY:Machias Select Board and Budget Committee Meeting
DESCRIPTION:Machias Select Board is inviting you to a scheduled Zoom meeting. \nTopic: Machias Select Board and Budget Committee Meeting\nTime: Jul 31\, 2024 05:00 PM Eastern Time (US and Canada) \nJoin Zoom Meeting\nhttps://us02web.zoom.us/j/81714884083?pwd=Cn89SRfb7bSn4vfwHnrjlHabFAvUs2.1 \nMeeting ID: 817 1488 4083\nPasscode: 559701 \n— \nOne tap mobile\n+16469313860\,\,81714884083#\,\,\,\,*559701# US\n+13017158592\,\,81714884083#\,\,\,\,*559701# US (Washington DC) \n— \nDial by your location\n• +1 646 931 3860 US\n• +1 301 715 8592 US (Washington DC)\n• +1 305 224 1968 US\n• +1 309 205 3325 US\n• +1 312 626 6799 US (Chicago)\n• +1 646 558 8656 US (New York)\n• +1 360 209 5623 US\n• +1 386 347 5053 US\n• +1 507 473 4847 US\n• +1 564 217 2000 US\n• +1 669 444 9171 US\n• +1 669 900 9128 US (San Jose)\n• +1 689 278 1000 US\n• +1 719 359 4580 US\n• +1 253 205 0468 US\n• +1 253 215 8782 US (Tacoma)\n• +1 346 248 7799 US (Houston) \nMeeting ID: 817 1488 4083\nPasscode: 559701 \nFind your local number: https://us02web.zoom.us/u/kee6nZESYA \n 
URL:https://machiasme.gov/event/machias-select-board-and-budget-committee-meeting-2/
LOCATION:Machias Tele-Business Center and via Zoom\, 17 stackpole Dr\, Machias\, ME\, 04654\, United States
END:VEVENT
BEGIN:VEVENT
DTSTART;TZID=UTC:20240724T180000
DTEND;TZID=UTC:20240724T200000
DTSTAMP:20260423T223619
CREATED:20231214T150854Z
LAST-MODIFIED:20240722T124649Z
UID:10001253-1721844000-1721851200@machiasme.gov
SUMMARY:Machias Select Board Meeting Immediately following Public Hearing
DESCRIPTION:Machias Select Board is inviting you to a scheduled Zoom meeting. \nTopic: Machias Select Board Meeting Immediately following public hearing\nTime: Jul 24\, 2024 06:00 PM Eastern Time (US and Canada) \nJoin Zoom Meeting\nhttps://us02web.zoom.us/j/85157952774?pwd=FmsEe8ZvfDvsVH2SaNfmAFvvbQYqKU.1 \nMeeting ID: 851 5795 2774\nPasscode: 649852 \n— \nOne tap mobile\n+13017158592\,\,85157952774#\,\,\,\,*649852# US (Washington DC)\n+13052241968\,\,85157952774#\,\,\,\,*649852# US \n— \nDial by your location\n• +1 301 715 8592 US (Washington DC)\n• +1 305 224 1968 US\n• +1 309 205 3325 US\n• +1 312 626 6799 US (Chicago)\n• +1 646 558 8656 US (New York)\n• +1 646 931 3860 US\n• +1 669 444 9171 US\n• +1 669 900 9128 US (San Jose)\n• +1 689 278 1000 US\n• +1 719 359 4580 US\n• +1 253 205 0468 US\n• +1 253 215 8782 US (Tacoma)\n• +1 346 248 7799 US (Houston)\n• +1 360 209 5623 US\n• +1 386 347 5053 US\n• +1 507 473 4847 US\n• +1 564 217 2000 US \nMeeting ID: 851 5795 2774\nPasscode: 649852 \nFind your local number: https://us02web.zoom.us/u/kYXZVoE4 \n 
URL:https://machiasme.gov/event/board-of-select-peoples-meeting-4-2024-04-24-2024-07-24/
LOCATION:Machias Tele-Business Center and via Zoom\, 17 stackpole Dr\, Machias\, ME\, 04654\, United States
END:VEVENT
BEGIN:VEVENT
DTSTART;TZID=UTC:20240724T180000
DTEND;TZID=UTC:20240724T200000
DTSTAMP:20260423T223619
CREATED:20231214T150854Z
LAST-MODIFIED:20240909T160342Z
UID:10001270-1721844000-1721851200@machiasme.gov
SUMMARY:Machias Select Board Meeting
DESCRIPTION:
URL:https://machiasme.gov/event/board-of-select-peoples-meeting-4-2024-04-24-2024-10-09/2024-07-24/
LOCATION:Machias Tele-Business Center and via Zoom\, 17 stackpole Dr\, Machias\, ME\, 04654\, United States
END:VEVENT
BEGIN:VEVENT
DTSTART;TZID=UTC:20240724T170000
DTEND;TZID=UTC:20240724T180000
DTSTAMP:20260423T223620
CREATED:20240718T173646Z
LAST-MODIFIED:20240718T173740Z
UID:10000775-1721840400-1721844000@machiasme.gov
SUMMARY:The Machias Select Board and Budget Committee Meeting
DESCRIPTION:Machias Select Board is inviting you to a scheduled Zoom meeting. \nTopic: Select Board and Budget Committee Meeting\nTime: Jul 24\, 2024 05:00 PM Eastern Time (US and Canada) \nJoin Zoom Meeting\nhttps://us02web.zoom.us/j/82322343732?pwd=5bctLCk63s3hXr2ui4nX7mKaEnwexU.1 \nMeeting ID: 823 2234 3732\nPasscode: 193053 \n— \nOne tap mobile\n+13017158592\,\,82322343732#\,\,\,\,*193053# US (Washington DC)\n+13052241968\,\,82322343732#\,\,\,\,*193053# US \n— \nDial by your location\n• +1 301 715 8592 US (Washington DC)\n• +1 305 224 1968 US\n• +1 309 205 3325 US\n• +1 312 626 6799 US (Chicago)\n• +1 646 558 8656 US (New York)\n• +1 646 931 3860 US\n• +1 689 278 1000 US\n• +1 719 359 4580 US\n• +1 253 205 0468 US\n• +1 253 215 8782 US (Tacoma)\n• +1 346 248 7799 US (Houston)\n• +1 360 209 5623 US\n• +1 386 347 5053 US\n• +1 507 473 4847 US\n• +1 564 217 2000 US\n• +1 669 444 9171 US\n• +1 669 900 9128 US (San Jose) \nMeeting ID: 823 2234 3732\nPasscode: 193053 \nFind your local number: https://us02web.zoom.us/u/kcrYQngnl \n 
URL:https://machiasme.gov/event/the-machias-select-board-and-budget-committee-meeting/
LOCATION:Machias Tele-Business Center and via Zoom\, 17 stackpole Dr\, Machias\, ME\, 04654\, United States
END:VEVENT
BEGIN:VEVENT
DTSTART;TZID=UTC:20240717T170000
DTEND;TZID=UTC:20240717T210000
DTSTAMP:20260423T223620
CREATED:20240710T195128Z
LAST-MODIFIED:20240710T195128Z
UID:10000773-1721235600-1721250000@machiasme.gov
SUMMARY:The Machias Select Board/Budget Committee Meeting
DESCRIPTION:Machias Select Board is inviting you to a scheduled Zoom meeting. \nTopic: Machias Select Board/Budget Committee Meeting\nTime: Jul 17\, 2024 05:00 PM Eastern Time (US and Canada) \nJoin Zoom Meeting\nhttps://us02web.zoom.us/j/85324064067?pwd=dwNzqDXTavgh4supoCwIwFhjMuWNhN.1 \nMeeting ID: 853 2406 4067\nPasscode: 928037 \n— \nOne tap mobile\n+13126266799\,\,85324064067#\,\,\,\,*928037# US (Chicago)\n+16465588656\,\,85324064067#\,\,\,\,*928037# US (New York) \n— \nDial by your location\n• +1 312 626 6799 US (Chicago)\n• +1 646 558 8656 US (New York)\n• +1 646 931 3860 US\n• +1 301 715 8592 US (Washington DC)\n• +1 305 224 1968 US\n• +1 309 205 3325 US\n• +1 253 205 0468 US\n• +1 253 215 8782 US (Tacoma)\n• +1 346 248 7799 US (Houston)\n• +1 360 209 5623 US\n• +1 386 347 5053 US\n• +1 507 473 4847 US\n• +1 564 217 2000 US\n• +1 669 444 9171 US\n• +1 669 900 9128 US (San Jose)\n• +1 689 278 1000 US\n• +1 719 359 4580 US \nMeeting ID: 853 2406 4067\nPasscode: 928037 \nFind your local number: https://us02web.zoom.us/u/kdZ7TwqYU7 \n 
URL:https://machiasme.gov/event/the-machias-select-board-budget-committee-meeting/
LOCATION:Machias Tele-Business Center and via Zoom\, 17 stackpole Dr\, Machias\, ME\, 04654\, United States
END:VEVENT
BEGIN:VEVENT
DTSTART;TZID=UTC:20240710T180000
DTEND;TZID=UTC:20240710T200000
DTSTAMP:20260423T223620
CREATED:20231214T150854Z
LAST-MODIFIED:20240702T192853Z
UID:10001252-1720634400-1720641600@machiasme.gov
SUMMARY:Machias Select Board Meeting
DESCRIPTION:Machias Select Board is inviting you to a scheduled Zoom meeting. \nTopic: Select Board Meeting\nTime: Jul 10\, 2024 06:00 PM Eastern Time (US and Canada) \nJoin Zoom Meeting\nhttps://us02web.zoom.us/j/89572176353?pwd=aceboggBzXeyLbiIGLOaGLZ7Etdl1x.1 \nMeeting ID: 895 7217 6353\nPasscode: 097043 \n— \nOne tap mobile\n+13052241968\,\,89572176353#\,\,\,\,*097043# US\n+13092053325\,\,89572176353#\,\,\,\,*097043# US \n— \nDial by your location\n• +1 305 224 1968 US\n• +1 309 205 3325 US\n• +1 312 626 6799 US (Chicago)\n• +1 646 558 8656 US (New York)\n• +1 646 931 3860 US\n• +1 301 715 8592 US (Washington DC)\n• +1 253 205 0468 US\n• +1 253 215 8782 US (Tacoma)\n• +1 346 248 7799 US (Houston)\n• +1 360 209 5623 US\n• +1 386 347 5053 US\n• +1 507 473 4847 US\n• +1 564 217 2000 US\n• +1 669 444 9171 US\n• +1 669 900 9128 US (San Jose)\n• +1 689 278 1000 US\n• +1 719 359 4580 US \nMeeting ID: 895 7217 6353\nPasscode: 097043 \nFind your local number: https://us02web.zoom.us/u/kbdXYwowCV \n 
URL:https://machiasme.gov/event/board-of-select-peoples-meeting-4-2024-04-24-2024-07-10/
LOCATION:Machias Tele-Business Center and via Zoom\, 17 stackpole Dr\, Machias\, ME\, 04654\, United States
END:VEVENT
BEGIN:VEVENT
DTSTART;TZID=UTC:20240710T180000
DTEND;TZID=UTC:20240710T200000
DTSTAMP:20260423T223620
CREATED:20231214T150854Z
LAST-MODIFIED:20240909T160342Z
UID:10001269-1720634400-1720641600@machiasme.gov
SUMMARY:Machias Select Board Meeting
DESCRIPTION:
URL:https://machiasme.gov/event/board-of-select-peoples-meeting-4-2024-04-24-2024-10-09/2024-07-10/
LOCATION:Machias Tele-Business Center and via Zoom\, 17 stackpole Dr\, Machias\, ME\, 04654\, United States
END:VEVENT
BEGIN:VEVENT
DTSTART;TZID=UTC:20240626T180000
DTEND;TZID=UTC:20240626T200000
DTSTAMP:20260423T223620
CREATED:20231214T150854Z
LAST-MODIFIED:20240613T160036Z
UID:10001251-1719424800-1719432000@machiasme.gov
SUMMARY:Machias Select Board Meeting has been cancelled
DESCRIPTION:
URL:https://machiasme.gov/event/board-of-select-peoples-meeting-4-2024-04-24-2024-06-26/
LOCATION:Machias Tele-Business Center and via Zoom\, 17 stackpole Dr\, Machias\, ME\, 04654\, United States
END:VEVENT
BEGIN:VEVENT
DTSTART;TZID=UTC:20240626T180000
DTEND;TZID=UTC:20240626T200000
DTSTAMP:20260423T223620
CREATED:20231214T150854Z
LAST-MODIFIED:20240909T160342Z
UID:10001268-1719424800-1719432000@machiasme.gov
SUMMARY:Machias Select Board Meeting
DESCRIPTION:
URL:https://machiasme.gov/event/board-of-select-peoples-meeting-4-2024-04-24-2024-10-09/2024-06-26/
LOCATION:Machias Tele-Business Center and via Zoom\, 17 stackpole Dr\, Machias\, ME\, 04654\, United States
END:VEVENT
BEGIN:VEVENT
DTSTART;TZID=UTC:20240612T180000
DTEND;TZID=UTC:20240612T200000
DTSTAMP:20260423T223620
CREATED:20231214T150854Z
LAST-MODIFIED:20240909T160342Z
UID:10001267-1718215200-1718222400@machiasme.gov
SUMMARY:Machias Select Board Meeting
DESCRIPTION:
URL:https://machiasme.gov/event/board-of-select-peoples-meeting-4-2024-04-24-2024-10-09/2024-06-12/
LOCATION:Machias Tele-Business Center and via Zoom\, 17 stackpole Dr\, Machias\, ME\, 04654\, United States
END:VEVENT
BEGIN:VEVENT
DTSTART;TZID=UTC:20240612T180000
DTEND;TZID=UTC:20240612T200000
DTSTAMP:20260423T223620
CREATED:20231214T150854Z
LAST-MODIFIED:20240605T124406Z
UID:10001250-1718215200-1718222400@machiasme.gov
SUMMARY:Machias Select Board Meeting
DESCRIPTION:Topic: MACHIAS SELECT BOARD MEETING\nTime: Jun 26\, 2024 06:00 PM Eastern Time (US and Canada) \nJoin Zoom Meeting\nhttps://us02web.zoom.us/j/87959611407?pwd=yaCepo7PSQx14ZbLyGhdu14GMETyvF.1 \nMeeting ID: 879 5961 1407\nPasscode: 902096 \n— \nOne tap mobile\n+13126266799\,\,87959611407#\,\,\,\,*902096# US (Chicago)\n+16465588656\,\,87959611407#\,\,\,\,*902096# US (New York) \n— \nDial by your location\n• +1 312 626 6799 US (Chicago)\n• +1 646 558 8656 US (New York)\n• +1 646 931 3860 US\n• +1 301 715 8592 US (Washington DC)\n• +1 305 224 1968 US\n• +1 309 205 3325 US\n• +1 360 209 5623 US\n• +1 386 347 5053 US\n• +1 507 473 4847 US\n• +1 564 217 2000 US\n• +1 669 444 9171 US\n• +1 669 900 9128 US (San Jose)\n• +1 689 278 1000 US\n• +1 719 359 4580 US\n• +1 253 205 0468 US\n• +1 253 215 8782 US (Tacoma)\n• +1 346 248 7799 US (Houston) \nMeeting ID: 879 5961 1407\nPasscode: 902096 \nFind your local number: https://us02web.zoom.us/u/kdMxkfgB2b \n 
URL:https://machiasme.gov/event/board-of-select-peoples-meeting-4-2024-04-24-2024-06-12/
LOCATION:Machias Tele-Business Center and via Zoom\, 17 stackpole Dr\, Machias\, ME\, 04654\, United States
END:VEVENT
BEGIN:VEVENT
DTSTART;TZID=UTC:20240522T180000
DTEND;TZID=UTC:20240522T200000
DTSTAMP:20260423T223620
CREATED:20231214T150854Z
LAST-MODIFIED:20240909T160342Z
UID:10001266-1716400800-1716408000@machiasme.gov
SUMMARY:Machias Select Board Meeting
DESCRIPTION:
URL:https://machiasme.gov/event/board-of-select-peoples-meeting-4-2024-04-24-2024-10-09/2024-05-22/
LOCATION:Machias Tele-Business Center and via Zoom\, 17 stackpole Dr\, Machias\, ME\, 04654\, United States
END:VEVENT
BEGIN:VEVENT
DTSTART;TZID=UTC:20240522T180000
DTEND;TZID=UTC:20240522T200000
DTSTAMP:20260423T223620
CREATED:20231214T150854Z
LAST-MODIFIED:20240517T182737Z
UID:10001249-1716400800-1716408000@machiasme.gov
SUMMARY:Machias Select Board Meeting
DESCRIPTION:Machias Selectboard is inviting you to a scheduled Zoom meeting. \nTopic: Select Board Meeting\nTime: May 22\, 2024 06:00 PM Eastern Time (US and Canada) \nJoin Zoom Meeting\nhttps://us02web.zoom.us/j/88672661915?pwd=aEJuT3VlSmNTMWJvNFJYMmxUODB4UT09 \nMeeting ID: 886 7266 1915\nPasscode: 302876 \n— \nOne tap mobile\n+13052241968\,\,88672661915#\,\,\,\,*302876# US\n+13092053325\,\,88672661915#\,\,\,\,*302876# US \n— \nDial by your location\n• +1 305 224 1968 US\n• +1 309 205 3325 US\n• +1 312 626 6799 US (Chicago)\n• +1 646 558 8656 US (New York)\n• +1 646 931 3860 US\n• +1 301 715 8592 US (Washington DC)\n• +1 689 278 1000 US\n• +1 719 359 4580 US\n• +1 253 205 0468 US\n• +1 253 215 8782 US (Tacoma)\n• +1 346 248 7799 US (Houston)\n• +1 360 209 5623 US\n• +1 386 347 5053 US\n• +1 507 473 4847 US\n• +1 564 217 2000 US\n• +1 669 444 9171 US\n• +1 669 900 9128 US (San Jose) \nMeeting ID: 886 7266 1915\nPasscode: 302876 \nFind your local number: https://us02web.zoom.us/u/kdE90Ihkfm \n 
URL:https://machiasme.gov/event/board-of-select-peoples-meeting-4-2024-04-24-2024-05-22/
LOCATION:Machias Tele-Business Center and via Zoom\, 17 stackpole Dr\, Machias\, ME\, 04654\, United States
END:VEVENT
BEGIN:VEVENT
DTSTART;TZID=UTC:20240515T180000
DTEND;TZID=UTC:20240515T200000
DTSTAMP:20260423T223620
CREATED:20240502T153355Z
LAST-MODIFIED:20240503T151206Z
UID:10001292-1715796000-1715803200@machiasme.gov
SUMMARY:Planning Board Workshop
DESCRIPTION:Topic: Planning Board Workshop\nTime: May 15\, 2024 06:00 PM Eastern Time (US and Canada) \nJoin Zoom Meeting\nhttps://us02web.zoom.us/j/83324656758?pwd=NXI0Q2g4VWthdkdCT2JxaFM1SDhDUT09 \nMeeting ID: 833 2465 6758\nPasscode: 964948 \n— \nOne tap mobile\n+13017158592\,\,83324656758#\,\,\,\,*964948# US (Washington DC)\n+13052241968\,\,83324656758#\,\,\,\,*964948# US \n— \nDial by your location\n• +1 301 715 8592 US (Washington DC)\n• +1 305 224 1968 US\n• +1 309 205 3325 US\n• +1 312 626 6799 US (Chicago)\n• +1 646 558 8656 US (New York)\n• +1 646 931 3860 US\n• +1 689 278 1000 US\n• +1 719 359 4580 US\n• +1 253 205 0468 US\n• +1 253 215 8782 US (Tacoma)\n• +1 346 248 7799 US (Houston)\n• +1 360 209 5623 US\n• +1 386 347 5053 US\n• +1 507 473 4847 US\n• +1 564 217 2000 US\n• +1 669 444 9171 US\n• +1 669 900 9128 US (San Jose) \nMeeting ID: 833 2465 6758\nPasscode: 964948 \nFind your local number: https://us02web.zoom.us/u/kepKOnbR85 \n 
URL:https://machiasme.gov/event/planning-board-workshop/
LOCATION:Machias Tele-Business Center and via Zoom\, 17 stackpole Dr\, Machias\, ME\, 04654\, United States
END:VEVENT
BEGIN:VEVENT
DTSTART;TZID=UTC:20240508T180000
DTEND;TZID=UTC:20240508T200000
DTSTAMP:20260423T223620
CREATED:20231214T150854Z
LAST-MODIFIED:20240909T160342Z
UID:10001265-1715191200-1715198400@machiasme.gov
SUMMARY:Machias Select Board Meeting
DESCRIPTION:
URL:https://machiasme.gov/event/board-of-select-peoples-meeting-4-2024-04-24-2024-10-09/2024-05-08/
LOCATION:Machias Tele-Business Center and via Zoom\, 17 stackpole Dr\, Machias\, ME\, 04654\, United States
END:VEVENT
BEGIN:VEVENT
DTSTART;TZID=UTC:20240508T180000
DTEND;TZID=UTC:20240508T200000
DTSTAMP:20260423T223620
CREATED:20231214T150854Z
LAST-MODIFIED:20240429T175519Z
UID:10001248-1715191200-1715198400@machiasme.gov
SUMMARY:Machias Select Board Meeting
DESCRIPTION:Machias Selectboard is inviting you to a scheduled Zoom meeting. \nTopic: Machias Select Board Meeting\nTime: May 8\, 2024 06:00 PM Eastern Time (US and Canada) \nJoin Zoom Meeting\nhttps://us02web.zoom.us/j/86785370849?pwd=dXFueHpRYTBrL3gveTlCSTVFa3dJZz09 \nMeeting ID: 867 8537 0849\nPasscode: 023520 \n— \nOne tap mobile\n+13052241968\,\,86785370849#\,\,\,\,*023520# US\n+13092053325\,\,86785370849#\,\,\,\,*023520# US \n— \nDial by your location\n• +1 305 224 1968 US\n• +1 309 205 3325 US\n• +1 312 626 6799 US (Chicago)\n• +1 646 558 8656 US (New York)\n• +1 646 931 3860 US\n• +1 301 715 8592 US (Washington DC)\n• +1 719 359 4580 US\n• +1 253 205 0468 US\n• +1 253 215 8782 US (Tacoma)\n• +1 346 248 7799 US (Houston)\n• +1 360 209 5623 US\n• +1 386 347 5053 US\n• +1 507 473 4847 US\n• +1 564 217 2000 US\n• +1 669 444 9171 US\n• +1 669 900 9128 US (San Jose)\n• +1 689 278 1000 US \nMeeting ID: 867 8537 0849\nPasscode: 023520 \nFind your local number: https://us02web.zoom.us/u/kxIZo2dR \n 
URL:https://machiasme.gov/event/board-of-select-peoples-meeting-4-2024-04-24-2024-05-08/
LOCATION:Machias Tele-Business Center and via Zoom\, 17 stackpole Dr\, Machias\, ME\, 04654\, United States
END:VEVENT
END:VCALENDAR