BEGIN:VCALENDAR
VERSION:2.0
PRODID:-//Town of Machias - ECPv6.15.20//NONSGML v1.0//EN
CALSCALE:GREGORIAN
METHOD:PUBLISH
X-WR-CALNAME:Town of Machias
X-ORIGINAL-URL:https://machiasme.gov
X-WR-CALDESC:Events for Town of Machias
REFRESH-INTERVAL;VALUE=DURATION:PT1H
X-Robots-Tag:noindex
X-PUBLISHED-TTL:PT1H
BEGIN:VTIMEZONE
TZID:UTC
BEGIN:STANDARD
TZOFFSETFROM:+0000
TZOFFSETTO:+0000
TZNAME:UTC
DTSTART:20210101T000000
END:STANDARD
END:VTIMEZONE
BEGIN:VEVENT
DTSTART;TZID=UTC:20230712T180000
DTEND;TZID=UTC:20230712T210000
DTSTAMP:20260424T121233
CREATED:20221214T142137Z
LAST-MODIFIED:20230921T160437Z
UID:10001179-1689184800-1689195600@machiasme.gov
SUMMARY:Board of Select-People's Meeting
DESCRIPTION:
URL:https://machiasme.gov/event/board-of-select-peoples-meeting-3-2023-10-11/2023-07-12/
LOCATION:Machias Tele-Business Center and via Zoom\, 17 stackpole Dr\, Machias\, ME\, 04654\, United States
END:VEVENT
BEGIN:VEVENT
DTSTART;TZID=UTC:20230628T180000
DTEND;TZID=UTC:20230628T210000
DTSTAMP:20260424T121233
CREATED:20221214T142137Z
LAST-MODIFIED:20230623T141846Z
UID:10001161-1687975200-1687986000@machiasme.gov
SUMMARY:Board of Select-People's Meeting
DESCRIPTION:Machias Board of Select-People is inviting you to a scheduled Zoom meeting. \nTopic: Board of Select-People Meeting\nTime: Jun 28\, 2023 06:00 PM Eastern Time (US and Canada) \nJoin Zoom Meeting\nhttps://us02web.zoom.us/j/88090068740?pwd=cmlxcWhsTlF6ZmNKMjdxRC8raWJCUT09 \nMeeting ID: 880 9006 8740\nPasscode: 805309 \n— \nOne tap mobile\n+16465588656\,\,88090068740#\,\,\,\,*805309# US (New York)\n+16469313860\,\,88090068740#\,\,\,\,*805309# US \n— \nDial by your location\n• +1 646 558 8656 US (New York)\n• +1 646 931 3860 US\n• +1 301 715 8592 US (Washington DC)\n• +1 305 224 1968 US\n• +1 309 205 3325 US\n• +1 312 626 6799 US (Chicago)\n• +1 669 900 9128 US (San Jose)\n• +1 689 278 1000 US\n• +1 719 359 4580 US\n• +1 253 205 0468 US\n• +1 253 215 8782 US (Tacoma)\n• +1 346 248 7799 US (Houston)\n• +1 360 209 5623 US\n• +1 386 347 5053 US\n• +1 507 473 4847 US\n• +1 564 217 2000 US\n• +1 669 444 9171 US \nMeeting ID: 880 9006 8740\nPasscode: 805309 \nFind your local number: https://us02web.zoom.us/u/k9X3xe2O \n 
URL:https://machiasme.gov/event/board-of-select-peoples-meeting-3-2023-06-28/
LOCATION:Machias Tele-Business Center and via Zoom\, 17 stackpole Dr\, Machias\, ME\, 04654\, United States
END:VEVENT
BEGIN:VEVENT
DTSTART;TZID=UTC:20230628T180000
DTEND;TZID=UTC:20230628T210000
DTSTAMP:20260424T121233
CREATED:20221214T142137Z
LAST-MODIFIED:20230921T160437Z
UID:10001178-1687975200-1687986000@machiasme.gov
SUMMARY:Board of Select-People's Meeting
DESCRIPTION:
URL:https://machiasme.gov/event/board-of-select-peoples-meeting-3-2023-10-11/2023-06-28/
LOCATION:Machias Tele-Business Center and via Zoom\, 17 stackpole Dr\, Machias\, ME\, 04654\, United States
END:VEVENT
BEGIN:VEVENT
DTSTART;TZID=UTC:20230614T180000
DTEND;TZID=UTC:20230614T210000
DTSTAMP:20260424T121233
CREATED:20221214T142137Z
LAST-MODIFIED:20230921T160437Z
UID:10001177-1686765600-1686776400@machiasme.gov
SUMMARY:Board of Select-People's Meeting
DESCRIPTION:
URL:https://machiasme.gov/event/board-of-select-peoples-meeting-3-2023-10-11/2023-06-14/
LOCATION:Machias Tele-Business Center and via Zoom\, 17 stackpole Dr\, Machias\, ME\, 04654\, United States
END:VEVENT
BEGIN:VEVENT
DTSTART;TZID=UTC:20230614T180000
DTEND;TZID=UTC:20230614T210000
DTSTAMP:20260424T121233
CREATED:20221214T142137Z
LAST-MODIFIED:20230608T122209Z
UID:10000683-1686765600-1686776400@machiasme.gov
SUMMARY:Board of Select-People's Meeting
DESCRIPTION:Machias Board of Select-People is inviting you to a scheduled Zoom meeting. \nTopic: Board of Select-People Meeting\nTime: Jun 14\, 2023 06:00 PM Eastern Time (US and Canada) \nJoin Zoom Meeting\nhttps://us02web.zoom.us/j/87109338314?pwd=UTBNaGk1dm80bmFXTzZuNFk0ZEV5UT09 \nMeeting ID: 871 0933 8314\nPasscode: 780165 \n— \nOne tap mobile\n+16465588656\,\,87109338314#\,\,\,\,*780165# US (New York)\n+16469313860\,\,87109338314#\,\,\,\,*780165# US \n— \nDial by your location\n• +1 646 558 8656 US (New York)\n• +1 646 931 3860 US\n• +1 301 715 8592 US (Washington DC)\n• +1 305 224 1968 US\n• +1 309 205 3325 US\n• +1 312 626 6799 US (Chicago)\n• +1 346 248 7799 US (Houston)\n• +1 360 209 5623 US\n• +1 386 347 5053 US\n• +1 507 473 4847 US\n• +1 564 217 2000 US\n• +1 669 444 9171 US\n• +1 669 900 9128 US (San Jose)\n• +1 689 278 1000 US\n• +1 719 359 4580 US\n• +1 253 205 0468 US\n• +1 253 215 8782 US (Tacoma) \nMeeting ID: 871 0933 8314\nPasscode: 780165 \nFind your local number: https://us02web.zoom.us/u/kcnjerxQKn \n 
URL:https://machiasme.gov/event/board-of-select-peoples-meeting-3-2023-06-14/
LOCATION:Machias Tele-Business Center and via Zoom\, 17 stackpole Dr\, Machias\, ME\, 04654\, United States
END:VEVENT
BEGIN:VEVENT
DTSTART;TZID=UTC:20230531T160000
DTEND;TZID=UTC:20230531T210000
DTSTAMP:20260424T121233
CREATED:20230522T150942Z
LAST-MODIFIED:20230522T150942Z
UID:10001224-1685548800-1685566800@machiasme.gov
SUMMARY:Machias Budget Committee Meeting
DESCRIPTION:Topic: Machias Budget Committee Meeting\nTime: May 31\, 2023 04:00 PM Eastern Time (US and Canada) \nJoin Zoom Meeting\nhttps://us02web.zoom.us/j/86493751508?pwd=VG11VC9FYlpuMzdaMVhONHNkQzludz09 \nMeeting ID: 864 9375 1508\nPasscode: 641553\nOne tap mobile\n+16465588656\,\,86493751508#\,\,\,\,*641553# US (New York)\n+16469313860\,\,86493751508#\,\,\,\,*641553# US \nDial by your location\n+1 646 558 8656 US (New York)\n+1 646 931 3860 US\n+1 301 715 8592 US (Washington DC)\n+1 305 224 1968 US\n+1 309 205 3325 US\n+1 312 626 6799 US (Chicago)\n+1 253 215 8782 US (Tacoma)\n+1 346 248 7799 US (Houston)\n+1 360 209 5623 US\n+1 386 347 5053 US\n+1 507 473 4847 US\n+1 564 217 2000 US\n+1 669 444 9171 US\n+1 669 900 9128 US (San Jose)\n+1 689 278 1000 US\n+1 719 359 4580 US\n+1 253 205 0468 US\nMeeting ID: 864 9375 1508\nPasscode: 641553\nFind your local number: https://us02web.zoom.us/u/kbtHQqkTQC \n 
URL:https://machiasme.gov/event/machias-budget-committee-meeting-2/
LOCATION:Machias Tele-Business Center and via Zoom\, 17 stackpole Dr\, Machias\, ME\, 04654\, United States
END:VEVENT
BEGIN:VEVENT
DTSTART;TZID=UTC:20230525T170000
DTEND;TZID=UTC:20230525T210000
DTSTAMP:20260424T121233
CREATED:20230515T174340Z
LAST-MODIFIED:20230515T174340Z
UID:10001222-1685034000-1685048400@machiasme.gov
SUMMARY:Board of Appeals Meeting
DESCRIPTION:Topic: Board of Appeals Meeting\nTime: May 25\, 2023 05:00 PM Eastern Time (US and Canada) \nJoin Zoom Meeting\nhttps://us02web.zoom.us/j/89966592018?pwd=anFvQy9KSFlNQVBGWHh3YUZsclRkZz09 \nMeeting ID: 899 6659 2018\nPasscode: 829572\nOne tap mobile\n+13017158592\,\,89966592018#\,\,\,\,*829572# US (Washington DC)\n+13052241968\,\,89966592018#\,\,\,\,*829572# US \nDial by your location\n+1 301 715 8592 US (Washington DC)\n+1 305 224 1968 US\n+1 309 205 3325 US\n+1 312 626 6799 US (Chicago)\n+1 646 558 8656 US (New York)\n+1 646 931 3860 US\n+1 507 473 4847 US\n+1 564 217 2000 US\n+1 669 444 9171 US\n+1 669 900 9128 US (San Jose)\n+1 689 278 1000 US\n+1 719 359 4580 US\n+1 253 205 0468 US\n+1 253 215 8782 US (Tacoma)\n+1 346 248 7799 US (Houston)\n+1 360 209 5623 US\n+1 386 347 5053 US\nMeeting ID: 899 6659 2018\nPasscode: 829572\nFind your local number: https://us02web.zoom.us/u/kcZFevdw22 \n 
URL:https://machiasme.gov/event/board-of-appeals-meeting/
LOCATION:Machias Tele-Business Center and via Zoom\, 17 stackpole Dr\, Machias\, ME\, 04654\, United States
END:VEVENT
BEGIN:VEVENT
DTSTART;TZID=UTC:20230524T180000
DTEND;TZID=UTC:20230524T210000
DTSTAMP:20260424T121233
CREATED:20221214T142137Z
LAST-MODIFIED:20230517T163917Z
UID:10000680-1684951200-1684962000@machiasme.gov
SUMMARY:Board of Select-People's Meeting
DESCRIPTION:Paula Johnson-Rolfe is inviting you to a scheduled Zoom meeting. \nTopic: Board of Select-People Meeting\nTime: May 24\, 2023 06:00 PM Eastern Time (US and Canada) \nJoin Zoom Meeting\nhttps://us02web.zoom.us/j/87140732468?pwd=NFpSOGxYM21Xb1cvUDJQVEVjVVZCZz09 \nMeeting ID: 871 4073 2468\nPasscode: 321664\nOne tap mobile\n+16465588656\,\,87140732468#\,\,\,\,*321664# US (New York)\n+16469313860\,\,87140732468#\,\,\,\,*321664# US \nDial by your location\n+1 646 558 8656 US (New York)\n+1 646 931 3860 US\n+1 301 715 8592 US (Washington DC)\n+1 305 224 1968 US\n+1 309 205 3325 US\n+1 312 626 6799 US (Chicago)\n+1 346 248 7799 US (Houston)\n+1 360 209 5623 US\n+1 386 347 5053 US\n+1 507 473 4847 US\n+1 564 217 2000 US\n+1 669 444 9171 US\n+1 669 900 9128 US (San Jose)\n+1 689 278 1000 US\n+1 719 359 4580 US\n+1 253 205 0468 US\n+1 253 215 8782 US (Tacoma)\nMeeting ID: 871 4073 2468\nPasscode: 321664\nFind your local number: https://us02web.zoom.us/u/kb3PZqkaf3 \n 
URL:https://machiasme.gov/event/board-of-select-peoples-meeting-3-2023-05-24/
LOCATION:Machias Tele-Business Center and via Zoom\, 17 stackpole Dr\, Machias\, ME\, 04654\, United States
END:VEVENT
BEGIN:VEVENT
DTSTART;TZID=UTC:20230524T180000
DTEND;TZID=UTC:20230524T210000
DTSTAMP:20260424T121233
CREATED:20221214T142137Z
LAST-MODIFIED:20230921T160437Z
UID:10001176-1684951200-1684962000@machiasme.gov
SUMMARY:Board of Select-People's Meeting
DESCRIPTION:
URL:https://machiasme.gov/event/board-of-select-peoples-meeting-3-2023-10-11/2023-05-24/
LOCATION:Machias Tele-Business Center and via Zoom\, 17 stackpole Dr\, Machias\, ME\, 04654\, United States
END:VEVENT
BEGIN:VEVENT
DTSTART;TZID=UTC:20230510T180000
DTEND;TZID=UTC:20230510T210000
DTSTAMP:20260424T121233
CREATED:20221214T142137Z
LAST-MODIFIED:20230427T142937Z
UID:10000678-1683741600-1683752400@machiasme.gov
SUMMARY:Board of Select-People's Meeting
DESCRIPTION:Paula Johnson-Rolfe is inviting you to a scheduled Zoom meeting. \nTopic: Board of Select-People Meeting\nTime: May 10\, 2023 06:00 PM Eastern Time (US and Canada) \nJoin Zoom Meeting\nhttps://us02web.zoom.us/j/85002261970?pwd=K3A0RHFZYkhTTVRmSkdWbnFvTUt5Zz09 \nMeeting ID: 850 0226 1970\nPasscode: 439509\nOne tap mobile\n+13092053325\,\,85002261970#\,\,\,\,*439509# US\n+13126266799\,\,85002261970#\,\,\,\,*439509# US (Chicago) \nDial by your location\n+1 309 205 3325 US\n+1 312 626 6799 US (Chicago)\n+1 646 558 8656 US (New York)\n+1 646 931 3860 US\n+1 301 715 8592 US (Washington DC)\n+1 305 224 1968 US\n+1 253 215 8782 US (Tacoma)\n+1 346 248 7799 US (Houston)\n+1 360 209 5623 US\n+1 386 347 5053 US\n+1 507 473 4847 US\n+1 564 217 2000 US\n+1 669 444 9171 US\n+1 669 900 9128 US (San Jose)\n+1 689 278 1000 US\n+1 719 359 4580 US\n+1 253 205 0468 US\nMeeting ID: 850 0226 1970\nPasscode: 439509\nFind your local number: https://us02web.zoom.us/u/keekg7QDkS \n 
URL:https://machiasme.gov/event/board-of-select-peoples-meeting-3-2023-05-10/
LOCATION:Machias Tele-Business Center and via Zoom\, 17 stackpole Dr\, Machias\, ME\, 04654\, United States
END:VEVENT
BEGIN:VEVENT
DTSTART;TZID=UTC:20230510T180000
DTEND;TZID=UTC:20230510T210000
DTSTAMP:20260424T121233
CREATED:20221214T142137Z
LAST-MODIFIED:20230921T160437Z
UID:10001175-1683741600-1683752400@machiasme.gov
SUMMARY:Board of Select-People's Meeting
DESCRIPTION:
URL:https://machiasme.gov/event/board-of-select-peoples-meeting-3-2023-10-11/2023-05-10/
LOCATION:Machias Tele-Business Center and via Zoom\, 17 stackpole Dr\, Machias\, ME\, 04654\, United States
END:VEVENT
BEGIN:VEVENT
DTSTART;TZID=UTC:20230504T160000
DTEND;TZID=UTC:20230504T200000
DTSTAMP:20260424T121233
CREATED:20230503T184012Z
LAST-MODIFIED:20230503T184012Z
UID:10001220-1683216000-1683230400@machiasme.gov
SUMMARY:Machias Budget Meeting
DESCRIPTION:Paula Johnson-Rolfe is inviting you to a scheduled Zoom meeting. \nTopic: Machias Budget Meeting\nTime: May 4\, 2023 04:00 PM Eastern Time (US and Canada) \nJoin Zoom Meeting\nhttps://us02web.zoom.us/j/81717287703?pwd=cXZKZDUzMFpabmJPWDNSTENqc091Zz09 \nMeeting ID: 817 1728 7703\nPasscode: 142630\nOne tap mobile\n+13126266799\,\,81717287703#\,\,\,\,*142630# US (Chicago)\n+16465588656\,\,81717287703#\,\,\,\,*142630# US (New York) \nDial by your location\n+1 312 626 6799 US (Chicago)\n+1 646 558 8656 US (New York)\n+1 646 931 3860 US\n+1 301 715 8592 US (Washington DC)\n+1 305 224 1968 US\n+1 309 205 3325 US\n+1 386 347 5053 US\n+1 507 473 4847 US\n+1 564 217 2000 US\n+1 669 444 9171 US\n+1 669 900 9128 US (San Jose)\n+1 689 278 1000 US\n+1 719 359 4580 US\n+1 253 205 0468 US\n+1 253 215 8782 US (Tacoma)\n+1 346 248 7799 US (Houston)\n+1 360 209 5623 US\nMeeting ID: 817 1728 7703\nPasscode: 142630\nFind your local number: https://us02web.zoom.us/u/kdHWA0csHx \n 
URL:https://machiasme.gov/event/machias-budget-meeting/
LOCATION:Machias Tele-Business Center and via Zoom\, 17 stackpole Dr\, Machias\, ME\, 04654\, United States
END:VEVENT
BEGIN:VEVENT
DTSTART;TZID=UTC:20230426T180000
DTEND;TZID=UTC:20230426T210000
DTSTAMP:20260424T121233
CREATED:20221214T142137Z
LAST-MODIFIED:20230921T160437Z
UID:10001174-1682532000-1682542800@machiasme.gov
SUMMARY:Board of Select-People's Meeting
DESCRIPTION:
URL:https://machiasme.gov/event/board-of-select-peoples-meeting-3-2023-10-11/2023-04-26/
LOCATION:Machias Tele-Business Center and via Zoom\, 17 stackpole Dr\, Machias\, ME\, 04654\, United States
END:VEVENT
BEGIN:VEVENT
DTSTART;VALUE=DATE:20230426
DTEND;VALUE=DATE:20230427
DTSTAMP:20260424T121233
CREATED:20221214T142137Z
LAST-MODIFIED:20230414T160602Z
UID:10000676-1682467200-1682553599@machiasme.gov
SUMMARY:Board of Select-People's Meeting is cancelled
DESCRIPTION:
URL:https://machiasme.gov/event/board-of-select-peoples-meeting-3-2023-04-26/
LOCATION:Machias Tele-Business Center and via Zoom\, 17 stackpole Dr\, Machias\, ME\, 04654\, United States
END:VEVENT
BEGIN:VEVENT
DTSTART;TZID=UTC:20230413T170000
DTEND;TZID=UTC:20230413T210000
DTSTAMP:20260424T121233
CREATED:20230406T173959Z
LAST-MODIFIED:20230406T195551Z
UID:10001218-1681405200-1681419600@machiasme.gov
SUMMARY:Board of Appeals
DESCRIPTION:Board of Appeals is inviting you to a scheduled Zoom meeting. \nTopic: Board of Appeals\nTime: Apr 13\, 2023 05:00 PM Eastern Time (US and Canada) \nJoin Zoom Meeting\nhttps://us02web.zoom.us/j/82670937414?pwd=U091M09kdDRGWUsxZWRNWndzNDVLZz09 \nMeeting ID: 826 7093 7414\nPasscode: 552791\nOne tap mobile\n+13017158592\,\,82670937414#\,\,\,\,*552791# US (Washington DC)\n+13052241968\,\,82670937414#\,\,\,\,*552791# US \nDial by your location\n+1 301 715 8592 US (Washington DC)\n+1 305 224 1968 US\n+1 309 205 3325 US\n+1 312 626 6799 US (Chicago)\n+1 646 558 8656 US (New York)\n+1 646 931 3860 US\n+1 253 215 8782 US (Tacoma)\n+1 346 248 7799 US (Houston)\n+1 360 209 5623 US\n+1 386 347 5053 US\n+1 507 473 4847 US\n+1 564 217 2000 US\n+1 669 444 9171 US\n+1 669 900 9128 US (San Jose)\n+1 689 278 1000 US\n+1 719 359 4580 US\n+1 253 205 0468 US\nMeeting ID: 826 7093 7414\nPasscode: 552791\nFind your local number: https://us02web.zoom.us/u/kx49IjTuK \n 
URL:https://machiasme.gov/event/board-of-appeals/
LOCATION:Machias Tele-Business Center and via Zoom\, 17 stackpole Dr\, Machias\, ME\, 04654\, United States
END:VEVENT
BEGIN:VEVENT
DTSTART;TZID=UTC:20230412T183000
DTEND;TZID=UTC:20230412T210000
DTSTAMP:20260424T121233
CREATED:20221214T142137Z
LAST-MODIFIED:20230407T162031Z
UID:10000673-1681324200-1681333200@machiasme.gov
SUMMARY:Board of Select-People's Meeting Immediately following the Public Hearings
DESCRIPTION:Paula Johnson-Rolfe is inviting you to a scheduled Zoom meeting. \nTopic: Board of Select-People Meeting\nTime: Apr 12\, 2023 06:00 PM Eastern Time (US and Canada) \nJoin Zoom Meeting\nhttps://us02web.zoom.us/j/88510290558?pwd=clVJc3Jmc1lyRmltcVppM2JwcVNMdz09 \nMeeting ID: 885 1029 0558\nPasscode: 710009\nOne tap mobile\n+13017158592\,\,88510290558#\,\,\,\,*710009# US (Washington DC)\n+13052241968\,\,88510290558#\,\,\,\,*710009# US \nDial by your location\n+1 301 715 8592 US (Washington DC)\n+1 305 224 1968 US\n+1 309 205 3325 US\n+1 312 626 6799 US (Chicago)\n+1 646 558 8656 US (New York)\n+1 646 931 3860 US\n+1 360 209 5623 US\n+1 386 347 5053 US\n+1 507 473 4847 US\n+1 564 217 2000 US\n+1 669 444 9171 US\n+1 669 900 9128 US (San Jose)\n+1 689 278 1000 US\n+1 719 359 4580 US\n+1 253 205 0468 US\n+1 253 215 8782 US (Tacoma)\n+1 346 248 7799 US (Houston)\nMeeting ID: 885 1029 0558\nPasscode: 710009\nFind your local number: https://us02web.zoom.us/u/kdVwGFtdbY \n 
URL:https://machiasme.gov/event/board-of-select-peoples-meeting-3-2023-04-12/
LOCATION:Machias Tele-Business Center and via Zoom\, 17 stackpole Dr\, Machias\, ME\, 04654\, United States
END:VEVENT
BEGIN:VEVENT
DTSTART;TZID=UTC:20230412T180000
DTEND;TZID=UTC:20230412T210000
DTSTAMP:20260424T121233
CREATED:20221214T142137Z
LAST-MODIFIED:20230921T160437Z
UID:10001173-1681322400-1681333200@machiasme.gov
SUMMARY:Board of Select-People's Meeting
DESCRIPTION:
URL:https://machiasme.gov/event/board-of-select-peoples-meeting-3-2023-10-11/2023-04-12/
LOCATION:Machias Tele-Business Center and via Zoom\, 17 stackpole Dr\, Machias\, ME\, 04654\, United States
END:VEVENT
BEGIN:VEVENT
DTSTART;TZID=UTC:20230412T180000
DTEND;TZID=UTC:20230412T183000
DTSTAMP:20260424T121233
CREATED:20230403T132648Z
LAST-MODIFIED:20230403T132648Z
UID:10001217-1681322400-1681324200@machiasme.gov
SUMMARY:Town of Machias - Public Hearings
DESCRIPTION:Notice is hereby given that the Municipal Officers of the Town of Machias will hold a public hearing on April 12\, 2023 at 6:00 p.m. at the Tele-Business Center for the consideration of a new liquor license application and Special Entertainment Permit for KDLD LLC/The Anchor LLC located at 36 Main Street in Machias. \nCitizens are encouraged to attend or provide written comments.
URL:https://machiasme.gov/event/town-of-machias-public-hearings/
LOCATION:Machias Tele-Business Center and via Zoom\, 17 stackpole Dr\, Machias\, ME\, 04654\, United States
END:VEVENT
BEGIN:VEVENT
DTSTART;TZID=UTC:20230322T180000
DTEND;TZID=UTC:20230322T210000
DTSTAMP:20260424T121233
CREATED:20221214T142137Z
LAST-MODIFIED:20230316T191402Z
UID:10000671-1679508000-1679518800@machiasme.gov
SUMMARY:Board of Select-People's Meeting
DESCRIPTION:Paula Johnson-Rolfe is inviting you to a scheduled Zoom meeting. \nTopic: Board of Select-People Meeting\nTime: Mar 22\, 2023 06:00 PM Eastern Time (US and Canada) \nJoin Zoom Meeting\nhttps://us02web.zoom.us/j/83161126787?pwd=bWRLK0puV0EvakZ5bU9wbGRUUVk4Zz09 \nMeeting ID: 831 6112 6787\nPasscode: 689933\nOne tap mobile\n+13052241968\,\,83161126787#\,\,\,\,*689933# US\n+13092053325\,\,83161126787#\,\,\,\,*689933# US \nDial by your location\n+1 305 224 1968 US\n+1 309 205 3325 US\n+1 312 626 6799 US (Chicago)\n+1 646 558 8656 US (New York)\n+1 646 931 3860 US\n+1 301 715 8592 US (Washington DC)\n+1 689 278 1000 US\n+1 719 359 4580 US\n+1 253 205 0468 US\n+1 253 215 8782 US (Tacoma)\n+1 346 248 7799 US (Houston)\n+1 360 209 5623 US\n+1 386 347 5053 US\n+1 507 473 4847 US\n+1 564 217 2000 US\n+1 669 444 9171 US\n+1 669 900 9128 US (San Jose)\nMeeting ID: 831 6112 6787\nPasscode: 689933\nFind your local number: https://us02web.zoom.us/u/kcWd9BmpwD \n 
URL:https://machiasme.gov/event/board-of-select-peoples-meeting-3-2023-03-22/
LOCATION:Machias Tele-Business Center and via Zoom\, 17 stackpole Dr\, Machias\, ME\, 04654\, United States
END:VEVENT
BEGIN:VEVENT
DTSTART;TZID=UTC:20230322T180000
DTEND;TZID=UTC:20230322T210000
DTSTAMP:20260424T121233
CREATED:20221214T142137Z
LAST-MODIFIED:20230921T160437Z
UID:10001172-1679508000-1679518800@machiasme.gov
SUMMARY:Board of Select-People's Meeting
DESCRIPTION:
URL:https://machiasme.gov/event/board-of-select-peoples-meeting-3-2023-10-11/2023-03-22/
LOCATION:Machias Tele-Business Center and via Zoom\, 17 stackpole Dr\, Machias\, ME\, 04654\, United States
END:VEVENT
BEGIN:VEVENT
DTSTART;TZID=UTC:20230308T180000
DTEND;TZID=UTC:20230308T210000
DTSTAMP:20260424T121233
CREATED:20221214T142137Z
LAST-MODIFIED:20230308T152729Z
UID:10000670-1678298400-1678309200@machiasme.gov
SUMMARY:Board of Select-People's Meeting has been cancelled
DESCRIPTION:
URL:https://machiasme.gov/event/board-of-select-peoples-meeting-3-2023-03-08/
LOCATION:Machias Tele-Business Center and via Zoom\, 17 stackpole Dr\, Machias\, ME\, 04654\, United States
END:VEVENT
BEGIN:VEVENT
DTSTART;TZID=UTC:20230308T180000
DTEND;TZID=UTC:20230308T210000
DTSTAMP:20260424T121233
CREATED:20221214T142137Z
LAST-MODIFIED:20230921T160437Z
UID:10001171-1678298400-1678309200@machiasme.gov
SUMMARY:Board of Select-People's Meeting
DESCRIPTION:
URL:https://machiasme.gov/event/board-of-select-peoples-meeting-3-2023-10-11/2023-03-08/
LOCATION:Machias Tele-Business Center and via Zoom\, 17 stackpole Dr\, Machias\, ME\, 04654\, United States
END:VEVENT
BEGIN:VEVENT
DTSTART;TZID=UTC:20230222T180000
DTEND;TZID=UTC:20230222T210000
DTSTAMP:20260424T121233
CREATED:20221214T142137Z
LAST-MODIFIED:20230921T160437Z
UID:10001170-1677088800-1677099600@machiasme.gov
SUMMARY:Board of Select-People's Meeting
DESCRIPTION:
URL:https://machiasme.gov/event/board-of-select-peoples-meeting-3-2023-10-11/2023-02-22/
LOCATION:Machias Tele-Business Center and via Zoom\, 17 stackpole Dr\, Machias\, ME\, 04654\, United States
END:VEVENT
BEGIN:VEVENT
DTSTART;TZID=UTC:20230222T180000
DTEND;TZID=UTC:20230222T210000
DTSTAMP:20260424T121233
CREATED:20221214T142137Z
LAST-MODIFIED:20230215T145304Z
UID:10000669-1677088800-1677099600@machiasme.gov
SUMMARY:Board of Select-People's Meeting
DESCRIPTION:Paula Johnson-Rolfe is inviting you to a scheduled Zoom meeting. \nTopic: Board of Select-People Meeting\nTime: Feb 22\, 2023 06:00 PM Eastern Time (US and Canada) \nJoin Zoom Meeting\nhttps://us02web.zoom.us/j/81961539340?pwd=RC9TNmN2elM2TzdpMHQwQW91ZTQrQT09 \nMeeting ID: 819 6153 9340\nPasscode: 879953\nOne tap mobile\n+13092053325\,\,81961539340#\,\,\,\,*879953# US\n+13126266799\,\,81961539340#\,\,\,\,*879953# US (Chicago) \nDial by your location\n+1 309 205 3325 US\n+1 312 626 6799 US (Chicago)\n+1 646 558 8656 US (New York)\n+1 646 931 3860 US\n+1 301 715 8592 US (Washington DC)\n+1 305 224 1968 US\n+1 253 215 8782 US (Tacoma)\n+1 346 248 7799 US (Houston)\n+1 360 209 5623 US\n+1 386 347 5053 US\n+1 507 473 4847 US\n+1 564 217 2000 US\n+1 669 444 9171 US\n+1 669 900 9128 US (San Jose)\n+1 689 278 1000 US\n+1 719 359 4580 US\n+1 253 205 0468 US\nMeeting ID: 819 6153 9340\nPasscode: 879953\nFind your local number: https://us02web.zoom.us/u/kboerkXKKW \n 
URL:https://machiasme.gov/event/board-of-select-peoples-meeting-3-2023-02-22/
LOCATION:Machias Tele-Business Center and via Zoom\, 17 stackpole Dr\, Machias\, ME\, 04654\, United States
END:VEVENT
BEGIN:VEVENT
DTSTART;TZID=UTC:20230208T180000
DTEND;TZID=UTC:20230208T210000
DTSTAMP:20260424T121233
CREATED:20221214T142137Z
LAST-MODIFIED:20230921T160437Z
UID:10001169-1675879200-1675890000@machiasme.gov
SUMMARY:Board of Select-People's Meeting
DESCRIPTION:
URL:https://machiasme.gov/event/board-of-select-peoples-meeting-3-2023-10-11/2023-02-08/
LOCATION:Machias Tele-Business Center and via Zoom\, 17 stackpole Dr\, Machias\, ME\, 04654\, United States
END:VEVENT
BEGIN:VEVENT
DTSTART;TZID=UTC:20230208T180000
DTEND;TZID=UTC:20230208T210000
DTSTAMP:20260424T121233
CREATED:20221214T142137Z
LAST-MODIFIED:20230203T201156Z
UID:10000668-1675879200-1675890000@machiasme.gov
SUMMARY:Board of Select-People's Meeting
DESCRIPTION:Paula Johnson-Rolfe is inviting you to a scheduled Zoom meeting. \nTopic: Board of Select-People Meeting\nTime: Feb 8\, 2023 06:00 PM Eastern Time (US and Canada) \nJoin Zoom Meeting\nhttps://us02web.zoom.us/j/89522363934?pwd=MmdoaWZHNE5mZklMQStVSVA4UnJVUT09 \nMeeting ID: 895 2236 3934\nPasscode: 192403\nOne tap mobile\n+13017158592\,\,89522363934#\,\,\,\,*192403# US (Washington DC)\n+13052241968\,\,89522363934#\,\,\,\,*192403# US \nDial by your location\n+1 301 715 8592 US (Washington DC)\n+1 305 224 1968 US\n+1 309 205 3325 US\n+1 312 626 6799 US (Chicago)\n+1 646 558 8656 US (New York)\n+1 646 931 3860 US\n+1 669 900 9128 US (San Jose)\n+1 689 278 1000 US\n+1 719 359 4580 US\n+1 253 205 0468 US\n+1 253 215 8782 US (Tacoma)\n+1 346 248 7799 US (Houston)\n+1 360 209 5623 US\n+1 386 347 5053 US\n+1 507 473 4847 US\n+1 564 217 2000 US\n+1 669 444 9171 US\nMeeting ID: 895 2236 3934\nPasscode: 192403\nFind your local number: https://us02web.zoom.us/u/khn2W6xUQ \n 
URL:https://machiasme.gov/event/board-of-select-peoples-meeting-3-2023-02-08/
LOCATION:Machias Tele-Business Center and via Zoom\, 17 stackpole Dr\, Machias\, ME\, 04654\, United States
END:VEVENT
BEGIN:VEVENT
DTSTART;TZID=UTC:20230125T180000
DTEND;TZID=UTC:20230125T210000
DTSTAMP:20260424T121233
CREATED:20221214T142137Z
LAST-MODIFIED:20230124T170516Z
UID:10000666-1674669600-1674680400@machiasme.gov
SUMMARY:Board of Select-People's Meeting
DESCRIPTION:Paula Johnson-Rolfe is inviting you to a scheduled Zoom meeting. \nTopic: Board of Selectperson Meeting\nTime: Jan 25\, 2023 06:00 PM Eastern Time (US and Canada) \nJoin Zoom Meeting\nhttps://us02web.zoom.us/j/87675985929?pwd=aENWNFAxV2Z1dFZKbUQ2YkVXYU5odz09 \nMeeting ID: 876 7598 5929\nPasscode: 913846\nOne tap mobile\n+13126266799\,\,87675985929#\,\,\,\,*913846# US (Chicago)\n+16465588656\,\,87675985929#\,\,\,\,*913846# US (New York) \nDial by your location\n+1 312 626 6799 US (Chicago)\n+1 646 558 8656 US (New York)\n+1 646 931 3860 US\n+1 301 715 8592 US (Washington DC)\n+1 305 224 1968 US\n+1 309 205 3325 US\n+1 669 444 9171 US\n+1 669 900 9128 US (San Jose)\n+1 689 278 1000 US\n+1 719 359 4580 US\n+1 253 205 0468 US\n+1 253 215 8782 US (Tacoma)\n+1 346 248 7799 US (Houston)\n+1 360 209 5623 US\n+1 386 347 5053 US\n+1 507 473 4847 US\n+1 564 217 2000 US\nMeeting ID: 876 7598 5929\nPasscode: 913846\nFind your local number: https://us02web.zoom.us/u/k46ixkORg \n 
URL:https://machiasme.gov/event/board-of-select-peoples-meeting-3-2023-01-25/
LOCATION:Machias Tele-Business Center and via Zoom\, 17 stackpole Dr\, Machias\, ME\, 04654\, United States
END:VEVENT
BEGIN:VEVENT
DTSTART;TZID=UTC:20230125T180000
DTEND;TZID=UTC:20230125T210000
DTSTAMP:20260424T121233
CREATED:20221214T142137Z
LAST-MODIFIED:20230921T160437Z
UID:10001168-1674669600-1674680400@machiasme.gov
SUMMARY:Board of Select-People's Meeting
DESCRIPTION:
URL:https://machiasme.gov/event/board-of-select-peoples-meeting-3-2023-10-11/2023-01-25/
LOCATION:Machias Tele-Business Center and via Zoom\, 17 stackpole Dr\, Machias\, ME\, 04654\, United States
END:VEVENT
BEGIN:VEVENT
DTSTART;TZID=UTC:20230111T180000
DTEND;TZID=UTC:20230111T210000
DTSTAMP:20260424T121233
CREATED:20221214T142137Z
LAST-MODIFIED:20230106T143235Z
UID:10001159-1673460000-1673470800@machiasme.gov
SUMMARY:Board of Select-People's Meeting is Cancelled
DESCRIPTION:
URL:https://machiasme.gov/event/board-of-select-peoples-meeting-3/
LOCATION:Machias Tele-Business Center and via Zoom\, 17 stackpole Dr\, Machias\, ME\, 04654\, United States
END:VEVENT
BEGIN:VEVENT
DTSTART;TZID=UTC:20220627T180000
DTEND;TZID=UTC:20220627T210000
DTSTAMP:20260424T121233
CREATED:20220620T145523Z
LAST-MODIFIED:20220620T145523Z
UID:10001125-1656352800-1656363600@machiasme.gov
SUMMARY:Town of Machias - Special Town Meeting - Adult Use Marijuana Ordinance
DESCRIPTION:Paula Johnson-Rolfe is inviting you to a scheduled Zoom meeting. \nTopic: Special Town Meeting-Town of Machias -Adult Use Marijuana Ordinance\nTime: Jun 27\, 2022 06:00 PM Eastern Time (US and Canada) \nJoin Zoom Meeting\nhttps://us02web.zoom.us/j/89920413797?pwd=bkUvVWZpKzA5WHpPWUczT3JBOFduQT09 \nMeeting ID: 899 2041 3797\nPasscode: 236023\nOne tap mobile\n+13126266799\,\,89920413797#\,\,\,\,*236023# US (Chicago)\n+16465588656\,\,89920413797#\,\,\,\,*236023# US (New York) \nDial by your location\n+1 312 626 6799 US (Chicago)\n+1 646 558 8656 US (New York)\n+1 301 715 8592 US (Washington DC)\n+1 346 248 7799 US (Houston)\n+1 669 900 9128 US (San Jose)\n+1 253 215 8782 US (Tacoma)\nMeeting ID: 899 2041 3797\nPasscode: 236023\nFind your local number: https://us02web.zoom.us/u/kdNtBZqUr6 \n 
URL:https://machiasme.gov/event/town-of-machias-special-town-meeting-adult-use-marijuana-ordinance/
LOCATION:Machias Tele-Business Center and via Zoom\, 17 stackpole Dr\, Machias\, ME\, 04654\, United States
END:VEVENT
END:VCALENDAR