BEGIN:VCALENDAR
VERSION:2.0
PRODID:-//Town of Machias - ECPv6.15.20//NONSGML v1.0//EN
CALSCALE:GREGORIAN
METHOD:PUBLISH
X-ORIGINAL-URL:https://machiasme.gov
X-WR-CALDESC:Events for Town of Machias
REFRESH-INTERVAL;VALUE=DURATION:PT1H
X-Robots-Tag:noindex
X-PUBLISHED-TTL:PT1H
BEGIN:VTIMEZONE
TZID:UTC
BEGIN:STANDARD
TZOFFSETFROM:+0000
TZOFFSETTO:+0000
TZNAME:UTC
DTSTART:20180101T000000
END:STANDARD
END:VTIMEZONE
BEGIN:VEVENT
DTSTART;TZID=UTC:20190225T180000
DTEND;TZID=UTC:20190225T190000
DTSTAMP:20260424T144946
CREATED:20190128T140424Z
LAST-MODIFIED:20190128T140628Z
UID:10000258-1551117600-1551121200@machiasme.gov
SUMMARY:Airport Committee Meeting @ KMVM
DESCRIPTION:
URL:https://machiasme.gov/event/airport-committee-meeting-kmvm/
LOCATION:Machias Valley Airport\, Airport Rd\, Machias\, ME\, 04654\, United States
END:VEVENT
END:VCALENDAR